BEGIN:VCALENDAR
VERSION:2.0
PRODID:-//The Cortland Conservation Club - ECPv6.15.20//NONSGML v1.0//EN
CALSCALE:GREGORIAN
METHOD:PUBLISH
X-WR-CALNAME:The Cortland Conservation Club
X-ORIGINAL-URL:https://cortlandclub.com
X-WR-CALDESC:Events for The Cortland Conservation Club
REFRESH-INTERVAL;VALUE=DURATION:PT1H
X-Robots-Tag:noindex
X-PUBLISHED-TTL:PT1H
BEGIN:VTIMEZONE
TZID:America/New_York
BEGIN:DAYLIGHT
TZOFFSETFROM:-0500
TZOFFSETTO:-0400
TZNAME:EDT
DTSTART:20210314T070000
END:DAYLIGHT
BEGIN:STANDARD
TZOFFSETFROM:-0400
TZOFFSETTO:-0500
TZNAME:EST
DTSTART:20211107T060000
END:STANDARD
BEGIN:DAYLIGHT
TZOFFSETFROM:-0500
TZOFFSETTO:-0400
TZNAME:EDT
DTSTART:20220313T070000
END:DAYLIGHT
BEGIN:STANDARD
TZOFFSETFROM:-0400
TZOFFSETTO:-0500
TZNAME:EST
DTSTART:20221106T060000
END:STANDARD
BEGIN:DAYLIGHT
TZOFFSETFROM:-0500
TZOFFSETTO:-0400
TZNAME:EDT
DTSTART:20230312T070000
END:DAYLIGHT
BEGIN:STANDARD
TZOFFSETFROM:-0400
TZOFFSETTO:-0500
TZNAME:EST
DTSTART:20231105T060000
END:STANDARD
END:VTIMEZONE
BEGIN:VEVENT
DTSTART;TZID=America/New_York:20221001T080000
DTEND;TZID=America/New_York:20221001T140000
DTSTAMP:20260420T192028
CREATED:20220202T034600Z
LAST-MODIFIED:20220202T034600Z
UID:4966-1664611200-1664632800@cortlandclub.com
SUMMARY:Fall Work Day
DESCRIPTION:Work Day
URL:https://cortlandclub.com/event/fall-work-day-6/
ATTACH;FMTTYPE=image/png:https://cortlandclub.com/wp-content/uploads/2021/03/Fall-work-day.png
END:VEVENT
BEGIN:VEVENT
DTSTART;TZID=America/New_York:20221001T130000
DTEND;TZID=America/New_York:20221001T180000
DTSTAMP:20260420T192028
CREATED:20220713T025444Z
LAST-MODIFIED:20220713T025521Z
UID:5389-1664629200-1664647200@cortlandclub.com
SUMMARY:Closed Shelter - Reserved
DESCRIPTION:Gadd Party
URL:https://cortlandclub.com/event/closed-shelter-reserved-13/
LOCATION:Closed Shelter
ATTACH;FMTTYPE=image/jpeg:https://cortlandclub.com/wp-content/uploads/2017/11/Reserved.jpg
END:VEVENT
BEGIN:VEVENT
DTSTART;TZID=America/New_York:20221002T100000
DTEND;TZID=America/New_York:20221002T220000
DTSTAMP:20260420T192028
CREATED:20220328T053927Z
LAST-MODIFIED:20220419T024922Z
UID:5259-1664704800-1664748000@cortlandclub.com
SUMMARY:Reserved - Closed Shelter
DESCRIPTION:Dimos Party
URL:https://cortlandclub.com/event/reservation-pending-closed-shelter-24/
LOCATION:Closed Shelter
ATTACH;FMTTYPE=image/jpeg:https://cortlandclub.com/wp-content/uploads/2017/11/Reserved.jpg
END:VEVENT
BEGIN:VEVENT
DTSTART;TZID=America/New_York:20221004T180000
DTEND;TZID=America/New_York:20221004T203000
DTSTAMP:20260420T192028
CREATED:20221004T163301Z
LAST-MODIFIED:20221004T163334Z
UID:5465-1664906400-1664915400@cortlandclub.com
SUMMARY:Book Club
DESCRIPTION:
URL:https://cortlandclub.com/event/book-club-6/
LOCATION:Closed Shelter
ATTACH;FMTTYPE=image/jpeg:https://cortlandclub.com/wp-content/uploads/2022/03/Bookclub.jpeg
END:VEVENT
BEGIN:VEVENT
DTSTART;TZID=America/New_York:20221007T163000
DTEND;TZID=America/New_York:20221007T220000
DTSTAMP:20260420T192028
CREATED:20221004T163825Z
LAST-MODIFIED:20221004T163845Z
UID:5471-1665160200-1665180000@cortlandclub.com
SUMMARY:Closed Shelter - Approved
DESCRIPTION:Bradley Party
URL:https://cortlandclub.com/event/closed-shelter-approved/
LOCATION:Closed Shelter
ATTACH;FMTTYPE=image/jpeg:https://cortlandclub.com/wp-content/uploads/2017/11/Reserved.jpg
END:VEVENT
BEGIN:VEVENT
DTSTART;TZID=America/New_York:20221009T153000
DTEND;TZID=America/New_York:20221009T200000
DTSTAMP:20260420T192028
CREATED:20220913T012034Z
LAST-MODIFIED:20220913T012054Z
UID:5447-1665329400-1665345600@cortlandclub.com
SUMMARY:Clubhouse - Reserved
DESCRIPTION:Bzinak Party – Sip n Paint
URL:https://cortlandclub.com/event/clubhouse-reserved-18/
LOCATION:Clubhouse
ATTACH;FMTTYPE=image/jpeg:https://cortlandclub.com/wp-content/uploads/2017/11/Reserved.jpg
END:VEVENT
BEGIN:VEVENT
DTSTART;TZID=America/New_York:20221011T180000
DTEND;TZID=America/New_York:20221011T200000
DTSTAMP:20260420T192028
CREATED:20220203T035427Z
LAST-MODIFIED:20221004T162845Z
UID:5090-1665511200-1665518400@cortlandclub.com
SUMMARY:Wednesday Night Supper Club
DESCRIPTION:
URL:https://cortlandclub.com/event/wednesday-night-supper-club-24/
LOCATION:Closed Shelter
ATTACH;FMTTYPE=image/jpeg:https://cortlandclub.com/wp-content/uploads/2018/04/supperCLUB-e1523192452964.jpg
END:VEVENT
BEGIN:VEVENT
DTSTART;TZID=America/New_York:20221012T190000
DTEND;TZID=America/New_York:20221012T210000
DTSTAMP:20260420T192028
CREATED:20220203T035516Z
LAST-MODIFIED:20220203T035516Z
UID:5092-1665601200-1665608400@cortlandclub.com
SUMMARY:Trustee Meeting
DESCRIPTION:
URL:https://cortlandclub.com/event/trustee-meeting-11/
LOCATION:Closed Shelter
ATTACH;FMTTYPE=image/png:https://cortlandclub.com/wp-content/uploads/2017/07/Trustees.png
END:VEVENT
BEGIN:VEVENT
DTSTART;TZID=America/New_York:20221014T130000
DTEND;TZID=America/New_York:20221014T170000
DTSTAMP:20260420T192028
CREATED:20221010T230818Z
LAST-MODIFIED:20221010T230818Z
UID:5473-1665752400-1665766800@cortlandclub.com
SUMMARY:Closed Shelter - Reserved
DESCRIPTION:Dombroski Party
URL:https://cortlandclub.com/event/closed-shelter-reserved-21/
LOCATION:Closed Shelter
ATTACH;FMTTYPE=image/jpeg:https://cortlandclub.com/wp-content/uploads/2017/11/Reserved.jpg
END:VEVENT
BEGIN:VEVENT
DTSTART;TZID=America/New_York:20221015T100000
DTEND;TZID=America/New_York:20221015T220000
DTSTAMP:20260420T192028
CREATED:20220824T021856Z
LAST-MODIFIED:20220824T021856Z
UID:5428-1665828000-1665871200@cortlandclub.com
SUMMARY:Closed Shelter - Reserved
DESCRIPTION:Mrofchak Party
URL:https://cortlandclub.com/event/closed-shelter-reserved-18/
LOCATION:Closed Shelter
ATTACH;FMTTYPE=image/jpeg:https://cortlandclub.com/wp-content/uploads/2017/11/Reserved.jpg
END:VEVENT
BEGIN:VEVENT
DTSTART;TZID=America/New_York:20221021T120000
DTEND;TZID=America/New_York:20221021T233000
DTSTAMP:20260420T192028
CREATED:20220913T013359Z
LAST-MODIFIED:20220913T013359Z
UID:5457-1666353600-1666395000@cortlandclub.com
SUMMARY:Closed Shelter - Reserved
DESCRIPTION:Halloween Party Set-up
URL:https://cortlandclub.com/event/closed-shelter-reserved-20/
LOCATION:Closed Shelter
ATTACH;FMTTYPE=image/jpeg:https://cortlandclub.com/wp-content/uploads/2017/11/Reserved.jpg
END:VEVENT
BEGIN:VEVENT
DTSTART;TZID=America/New_York:20221022T180000
DTEND;TZID=America/New_York:20221022T233000
DTSTAMP:20260420T192028
CREATED:20220203T040028Z
LAST-MODIFIED:20220203T040959Z
UID:5096-1666461600-1666481400@cortlandclub.com
SUMMARY:Halloween Party
DESCRIPTION:
URL:https://cortlandclub.com/event/halloween-party/
LOCATION:Closed Shelter
ATTACH;FMTTYPE=image/jpeg:https://cortlandclub.com/wp-content/uploads/2022/02/halloween-party-3-e1643861171241.jpg
END:VEVENT
BEGIN:VEVENT
DTSTART;TZID=America/New_York:20221022T180000
DTEND;TZID=America/New_York:20221022T233000
DTSTAMP:20260420T192028
CREATED:20220203T041126Z
LAST-MODIFIED:20220203T041126Z
UID:5104-1666461600-1666481400@cortlandclub.com
SUMMARY:Halloween Party
DESCRIPTION:
URL:https://cortlandclub.com/event/halloween-party-2/
LOCATION:Clubhouse
ATTACH;FMTTYPE=image/jpeg:https://cortlandclub.com/wp-content/uploads/2022/02/halloween-party-3-e1643861171241.jpg
END:VEVENT
BEGIN:VEVENT
DTSTART;TZID=America/New_York:20221022T180000
DTEND;TZID=America/New_York:20221022T233000
DTSTAMP:20260420T192028
CREATED:20220203T041230Z
LAST-MODIFIED:20220203T041230Z
UID:5106-1666461600-1666481400@cortlandclub.com
SUMMARY:Halloween Party
DESCRIPTION:
URL:https://cortlandclub.com/event/halloween-party-3/
LOCATION:Open Shelter
ATTACH;FMTTYPE=image/jpeg:https://cortlandclub.com/wp-content/uploads/2022/02/halloween-party-3-e1643861171241.jpg
END:VEVENT
BEGIN:VEVENT
DTSTART;TZID=America/New_York:20221027T193000
DTEND;TZID=America/New_York:20221027T203000
DTSTAMP:20260420T192028
CREATED:20220203T035638Z
LAST-MODIFIED:20220203T035638Z
UID:5094-1666899000-1666902600@cortlandclub.com
SUMMARY:Membership Meeting
DESCRIPTION:
URL:https://cortlandclub.com/event/membership-meeting-38/
LOCATION:Closed Shelter
ATTACH;FMTTYPE=image/png:https://cortlandclub.com/wp-content/uploads/2017/07/Members-1.png
END:VEVENT
BEGIN:VEVENT
DTSTART;TZID=America/New_York:20221029T140000
DTEND;TZID=America/New_York:20221029T180000
DTSTAMP:20260420T192028
CREATED:20220913T012934Z
LAST-MODIFIED:20220928T165950Z
UID:5455-1667052000-1667066400@cortlandclub.com
SUMMARY:Closed Shelter - Reserved
DESCRIPTION:Stachowski Party
URL:https://cortlandclub.com/event/closed-shelter-reservation-pending-13/
LOCATION:Closed Shelter
ATTACH;FMTTYPE=image/jpeg:https://cortlandclub.com/wp-content/uploads/2017/11/Reserved.jpg
END:VEVENT
BEGIN:VEVENT
DTSTART;TZID=America/New_York:20221101T180000
DTEND;TZID=America/New_York:20221101T203000
DTSTAMP:20260420T192028
CREATED:20221004T163442Z
LAST-MODIFIED:20221004T163442Z
UID:5467-1667325600-1667334600@cortlandclub.com
SUMMARY:Book Club
DESCRIPTION:
URL:https://cortlandclub.com/event/book-club-7/
LOCATION:Closed Shelter
ATTACH;FMTTYPE=image/jpeg:https://cortlandclub.com/wp-content/uploads/2022/03/Bookclub.jpeg
END:VEVENT
BEGIN:VEVENT
DTSTART;TZID=America/New_York:20221102T180000
DTEND;TZID=America/New_York:20221102T200000
DTSTAMP:20260420T192028
CREATED:20220203T041446Z
LAST-MODIFIED:20220203T041446Z
UID:5108-1667412000-1667419200@cortlandclub.com
SUMMARY:Wednesday Night Supper Club
DESCRIPTION:
URL:https://cortlandclub.com/event/wednesday-night-supper-club-25/
LOCATION:Closed Shelter
ATTACH;FMTTYPE=image/jpeg:https://cortlandclub.com/wp-content/uploads/2018/04/supperCLUB-e1523192452964.jpg
END:VEVENT
BEGIN:VEVENT
DTSTART;TZID=America/New_York:20221104T173000
DTEND;TZID=America/New_York:20221104T233000
DTSTAMP:20260420T192028
CREATED:20221026T230228Z
LAST-MODIFIED:20221026T230228Z
UID:5494-1667583000-1667604600@cortlandclub.com
SUMMARY:Closed Shelter - Reserved
DESCRIPTION:Bianchi Party
URL:https://cortlandclub.com/event/closed-shelter-reserved-22/
LOCATION:Closed Shelter
ATTACH;FMTTYPE=image/jpeg:https://cortlandclub.com/wp-content/uploads/2017/11/Reserved.jpg
END:VEVENT
BEGIN:VEVENT
DTSTART;TZID=America/New_York:20221105T170000
DTEND;TZID=America/New_York:20221105T230000
DTSTAMP:20260420T192028
CREATED:20220913T012737Z
LAST-MODIFIED:20220928T170248Z
UID:5453-1667667600-1667689200@cortlandclub.com
SUMMARY:Closed Shelter - Reserved
DESCRIPTION:Petruzzi Party
URL:https://cortlandclub.com/event/closed-shelter-reservation-pending-12/
LOCATION:Closed Shelter
ATTACH;FMTTYPE=image/jpeg:https://cortlandclub.com/wp-content/uploads/2017/11/Reserved.jpg
END:VEVENT
BEGIN:VEVENT
DTSTART;TZID=America/New_York:20221109T190000
DTEND;TZID=America/New_York:20221109T210000
DTSTAMP:20260420T192028
CREATED:20220203T041617Z
LAST-MODIFIED:20220203T041617Z
UID:5110-1668020400-1668027600@cortlandclub.com
SUMMARY:Trustee Meeting
DESCRIPTION:
URL:https://cortlandclub.com/event/trustee-meeting-12/
LOCATION:Closed Shelter
ATTACH;FMTTYPE=image/png:https://cortlandclub.com/wp-content/uploads/2017/07/Trustees.png
END:VEVENT
BEGIN:VEVENT
DTSTART;TZID=America/New_York:20221112T160000
DTEND;TZID=America/New_York:20221112T200000
DTSTAMP:20260420T192028
CREATED:20220913T012605Z
LAST-MODIFIED:20220928T170521Z
UID:5451-1668268800-1668283200@cortlandclub.com
SUMMARY:Clubhouse - Reserved
DESCRIPTION:Savu Party
URL:https://cortlandclub.com/event/clubhouse-reservation-pending-6/
LOCATION:Clubhouse
ATTACH;FMTTYPE=image/jpeg:https://cortlandclub.com/wp-content/uploads/2017/11/Reserved.jpg
END:VEVENT
BEGIN:VEVENT
DTSTART;TZID=America/New_York:20221113T140000
DTEND;TZID=America/New_York:20221113T190000
DTSTAMP:20260420T192028
CREATED:20221018T231053Z
LAST-MODIFIED:20221018T231053Z
UID:5479-1668348000-1668366000@cortlandclub.com
SUMMARY:Clubhouse - Reserved
DESCRIPTION:Kiepper Party
URL:https://cortlandclub.com/event/clubhouse-reserved-20/
LOCATION:Clubhouse
ATTACH;FMTTYPE=image/jpeg:https://cortlandclub.com/wp-content/uploads/2017/11/Reserved.jpg
END:VEVENT
BEGIN:VEVENT
DTSTART;TZID=America/New_York:20221117T193000
DTEND;TZID=America/New_York:20221117T203000
DTSTAMP:20260420T192028
CREATED:20220203T041713Z
LAST-MODIFIED:20220203T041713Z
UID:5112-1668713400-1668717000@cortlandclub.com
SUMMARY:Membership Meeting
DESCRIPTION:
URL:https://cortlandclub.com/event/membership-meeting-39/
LOCATION:Closed Shelter
ATTACH;FMTTYPE=image/png:https://cortlandclub.com/wp-content/uploads/2017/07/Members-1.png
END:VEVENT
BEGIN:VEVENT
DTSTART;TZID=America/New_York:20221120T153000
DTEND;TZID=America/New_York:20221120T193000
DTSTAMP:20260420T192028
CREATED:20221010T235854Z
LAST-MODIFIED:20221010T235854Z
UID:5476-1668958200-1668972600@cortlandclub.com
SUMMARY:Clubhouse - Reserved
DESCRIPTION:Bzinak Party \n 
URL:https://cortlandclub.com/event/clubhouse-reserved-19/
LOCATION:Clubhouse
ATTACH;FMTTYPE=image/jpeg:https://cortlandclub.com/wp-content/uploads/2017/11/Reserved.jpg
END:VEVENT
BEGIN:VEVENT
DTSTART;TZID=America/New_York:20221123T170000
DTEND;TZID=America/New_York:20221123T220000
DTSTAMP:20260420T192028
CREATED:20221112T040230Z
LAST-MODIFIED:20221112T040230Z
UID:5516-1669222800-1669240800@cortlandclub.com
SUMMARY:Closed Shelter - Reserved
DESCRIPTION:Bradley Party
URL:https://cortlandclub.com/event/closed-shelter-reserved-24/
LOCATION:Closed Shelter
ATTACH;FMTTYPE=image/jpeg:https://cortlandclub.com/wp-content/uploads/2017/11/Reserved.jpg
END:VEVENT
BEGIN:VEVENT
DTSTART;TZID=America/New_York:20221124T090000
DTEND;TZID=America/New_York:20221124T170000
DTSTAMP:20260420T192028
CREATED:20221026T225911Z
LAST-MODIFIED:20221026T225911Z
UID:5490-1669280400-1669309200@cortlandclub.com
SUMMARY:Clubhouse - Reserved
DESCRIPTION:Barret Party
URL:https://cortlandclub.com/event/clubhouse-reserved-21/
LOCATION:Clubhouse
ATTACH;FMTTYPE=image/jpeg:https://cortlandclub.com/wp-content/uploads/2017/11/Reserved.jpg
END:VEVENT
BEGIN:VEVENT
DTSTART;TZID=America/New_York:20221125T100000
DTEND;TZID=America/New_York:20221125T150000
DTSTAMP:20260420T192028
CREATED:20221213T201437Z
LAST-MODIFIED:20221213T201437Z
UID:5596-1669370400-1669388400@cortlandclub.com
SUMMARY:Clubhouse - Reserved
DESCRIPTION:Koval Party
URL:https://cortlandclub.com/event/clubhouse-reserved-26/
LOCATION:Clubhouse
ATTACH;FMTTYPE=image/jpeg:https://cortlandclub.com/wp-content/uploads/2017/11/Reserved.jpg
END:VEVENT
BEGIN:VEVENT
DTSTART;TZID=America/New_York:20221126T120000
DTEND;TZID=America/New_York:20221126T200000
DTSTAMP:20260420T192028
CREATED:20221123T213445Z
LAST-MODIFIED:20221201T002148Z
UID:5529-1669464000-1669492800@cortlandclub.com
SUMMARY:Clubhouse - Reserved
DESCRIPTION:Matthews Party
URL:https://cortlandclub.com/event/clubhouse-reserved-22/
LOCATION:Clubhouse
ATTACH;FMTTYPE=image/jpeg:https://cortlandclub.com/wp-content/uploads/2017/11/Reserved.jpg
END:VEVENT
BEGIN:VEVENT
DTSTART;TZID=America/New_York:20221203T110000
DTEND;TZID=America/New_York:20221203T180000
DTSTAMP:20260420T192028
CREATED:20220913T012424Z
LAST-MODIFIED:20220928T170123Z
UID:5449-1670065200-1670090400@cortlandclub.com
SUMMARY:Clubhouse - Reserved
DESCRIPTION:Notman Party
URL:https://cortlandclub.com/event/clubhouse-reservation-pending-5/
LOCATION:Clubhouse
ATTACH;FMTTYPE=image/jpeg:https://cortlandclub.com/wp-content/uploads/2017/11/Reserved.jpg
END:VEVENT
END:VCALENDAR