BEGIN:VCALENDAR
VERSION:2.0
PRODID:-//The Cortland Conservation Club - ECPv6.15.20//NONSGML v1.0//EN
CALSCALE:GREGORIAN
METHOD:PUBLISH
X-ORIGINAL-URL:https://cortlandclub.com
X-WR-CALDESC:Events for The Cortland Conservation Club
REFRESH-INTERVAL;VALUE=DURATION:PT1H
X-Robots-Tag:noindex
X-PUBLISHED-TTL:PT1H
BEGIN:VTIMEZONE
TZID:America/New_York
BEGIN:DAYLIGHT
TZOFFSETFROM:-0500
TZOFFSETTO:-0400
TZNAME:EDT
DTSTART:20200308T070000
END:DAYLIGHT
BEGIN:STANDARD
TZOFFSETFROM:-0400
TZOFFSETTO:-0500
TZNAME:EST
DTSTART:20201101T060000
END:STANDARD
BEGIN:DAYLIGHT
TZOFFSETFROM:-0500
TZOFFSETTO:-0400
TZNAME:EDT
DTSTART:20210314T070000
END:DAYLIGHT
BEGIN:STANDARD
TZOFFSETFROM:-0400
TZOFFSETTO:-0500
TZNAME:EST
DTSTART:20211107T060000
END:STANDARD
BEGIN:DAYLIGHT
TZOFFSETFROM:-0500
TZOFFSETTO:-0400
TZNAME:EDT
DTSTART:20220313T070000
END:DAYLIGHT
BEGIN:STANDARD
TZOFFSETFROM:-0400
TZOFFSETTO:-0500
TZNAME:EST
DTSTART:20221106T060000
END:STANDARD
BEGIN:DAYLIGHT
TZOFFSETFROM:-0500
TZOFFSETTO:-0400
TZNAME:EDT
DTSTART:20230312T070000
END:DAYLIGHT
BEGIN:STANDARD
TZOFFSETFROM:-0400
TZOFFSETTO:-0500
TZNAME:EST
DTSTART:20231105T060000
END:STANDARD
END:VTIMEZONE
BEGIN:VEVENT
DTSTART;TZID=America/New_York:20211201T180000
DTEND;TZID=America/New_York:20211201T200000
DTSTAMP:20260421T103344
CREATED:20210315T234933Z
LAST-MODIFIED:20210316T024005Z
UID:3690-1638381600-1638388800@cortlandclub.com
SUMMARY:Wednesday Night Super Club
DESCRIPTION:
URL:https://cortlandclub.com/event/wednesday-night-super-club-8/
LOCATION:Closed Shelter
ATTACH;FMTTYPE=image/jpeg:https://cortlandclub.com/wp-content/uploads/2018/04/supperCLUB-e1523192452964.jpg
END:VEVENT
BEGIN:VEVENT
DTSTART;TZID=America/New_York:20211203T180000
DTEND;TZID=America/New_York:20211203T200000
DTSTAMP:20260421T103344
CREATED:20210531T012622Z
LAST-MODIFIED:20210531T012622Z
UID:3974-1638554400-1638561600@cortlandclub.com
SUMMARY:Reservation
DESCRIPTION:Girl Scout Meeting
URL:https://cortlandclub.com/event/reservation-7/
ATTACH;FMTTYPE=image/jpeg:https://cortlandclub.com/wp-content/uploads/2017/11/Reserved.jpg
END:VEVENT
BEGIN:VEVENT
DTSTART;TZID=America/New_York:20211204T110000
DTEND;TZID=America/New_York:20211204T170000
DTSTAMP:20260421T103344
CREATED:20210714T203610Z
LAST-MODIFIED:20210714T203610Z
UID:4332-1638615600-1638637200@cortlandclub.com
SUMMARY:Reservation - Clubhouse
DESCRIPTION:Notman Party
URL:https://cortlandclub.com/event/reservation-clubhouse-109/
LOCATION:Clubhouse
ATTACH;FMTTYPE=image/jpeg:https://cortlandclub.com/wp-content/uploads/2017/11/Reserved.jpg
END:VEVENT
BEGIN:VEVENT
DTSTART;TZID=America/New_York:20211205T130000
DTEND;TZID=America/New_York:20211205T210000
DTSTAMP:20260421T103344
CREATED:20210831T215858Z
LAST-MODIFIED:20210831T215858Z
UID:4508-1638709200-1638738000@cortlandclub.com
SUMMARY:Reservation - Clubhouse
DESCRIPTION:Bzinak Party
URL:https://cortlandclub.com/event/reservation-clubhouse-110/
LOCATION:Clubhouse
ATTACH;FMTTYPE=image/jpeg:https://cortlandclub.com/wp-content/uploads/2017/11/Reserved.jpg
END:VEVENT
BEGIN:VEVENT
DTSTART;TZID=America/New_York:20211207T183000
DTEND;TZID=America/New_York:20211207T203000
DTSTAMP:20260421T103344
CREATED:20210412T185045Z
LAST-MODIFIED:20210412T185056Z
UID:3818-1638901800-1638909000@cortlandclub.com
SUMMARY:Reservation - Clubhouse
DESCRIPTION:Orsine – United States Power Squadrons
URL:https://cortlandclub.com/event/reservation-clubhouse-104/
LOCATION:Clubhouse
ATTACH;FMTTYPE=image/png:https://cortlandclub.com/wp-content/uploads/2018/01/US_Power_Squadron-e1514993581766.png
END:VEVENT
BEGIN:VEVENT
DTSTART;TZID=America/New_York:20211208T190000
DTEND;TZID=America/New_York:20211208T210000
DTSTAMP:20260421T103344
CREATED:20210316T221333Z
LAST-MODIFIED:20210316T221822Z
UID:3727-1638990000-1638997200@cortlandclub.com
SUMMARY:Trustees Meeting
DESCRIPTION:
URL:https://cortlandclub.com/event/trustees-meeting-49/
LOCATION:Clubhouse
ATTACH;FMTTYPE=image/png:https://cortlandclub.com/wp-content/uploads/2017/07/Trustees.png
END:VEVENT
BEGIN:VEVENT
DTSTART;TZID=America/New_York:20211212T140000
DTEND;TZID=America/New_York:20211212T200000
DTSTAMP:20260421T103344
CREATED:20211128T021310Z
LAST-MODIFIED:20211128T021710Z
UID:4830-1639317600-1639339200@cortlandclub.com
SUMMARY:Reservation - Clubhouse
DESCRIPTION:Bzinak Party
URL:https://cortlandclub.com/event/reservation-clubhouse-115/
LOCATION:Clubhouse
ATTACH;FMTTYPE=image/jpeg:https://cortlandclub.com/wp-content/uploads/2017/11/Reserved.jpg
END:VEVENT
BEGIN:VEVENT
DTSTART;TZID=America/New_York:20211217T120000
DTEND;TZID=America/New_York:20211217T180000
DTSTAMP:20260421T103344
CREATED:20201210T031402Z
LAST-MODIFIED:20211116T222411Z
UID:3406-1639742400-1639764000@cortlandclub.com
SUMMARY:Reservation Approved - Clubhouse
DESCRIPTION:Koval Party
URL:https://cortlandclub.com/event/reservation-pending-clubhouse-2/
LOCATION:Clubhouse
ATTACH;FMTTYPE=image/jpeg:https://cortlandclub.com/wp-content/uploads/2017/11/Reserved.jpg
END:VEVENT
BEGIN:VEVENT
DTSTART;TZID=America/New_York:20211218T130000
DTEND;TZID=America/New_York:20211218T210000
DTSTAMP:20260421T103344
CREATED:20210201T044717Z
LAST-MODIFIED:20210211T043801Z
UID:3498-1639832400-1639861200@cortlandclub.com
SUMMARY:Reservation - Clubhouse
DESCRIPTION:Frazzini Party
URL:https://cortlandclub.com/event/reservation-pending-clubhouse-4/
LOCATION:Clubhouse
ATTACH;FMTTYPE=image/jpeg:https://cortlandclub.com/wp-content/uploads/2017/11/Reserved.jpg
END:VEVENT
BEGIN:VEVENT
DTSTART;TZID=America/New_York:20211219T090000
DTEND;TZID=America/New_York:20211219T180000
DTSTAMP:20260421T103344
CREATED:20210510T143327Z
LAST-MODIFIED:20210516T153415Z
UID:3900-1639904400-1639936800@cortlandclub.com
SUMMARY:Club House - Reservation
DESCRIPTION:Gintert Party
URL:https://cortlandclub.com/event/club-house-pending-reservation/
LOCATION:Clubhouse
ATTACH;FMTTYPE=image/jpeg:https://cortlandclub.com/wp-content/uploads/2017/11/Reserved.jpg
END:VEVENT
BEGIN:VEVENT
DTSTART;TZID=America/New_York:20211221T163000
DTEND;TZID=America/New_York:20211221T220000
DTSTAMP:20260421T103344
CREATED:20211211T212055Z
LAST-MODIFIED:20211211T212055Z
UID:4860-1640104200-1640124000@cortlandclub.com
SUMMARY:Reservation - Clubhouse
DESCRIPTION:Craciun Party
URL:https://cortlandclub.com/event/reservation-clubhouse-118/
LOCATION:Clubhouse
ATTACH;FMTTYPE=image/jpeg:https://cortlandclub.com/wp-content/uploads/2017/11/Reserved.jpg
END:VEVENT
BEGIN:VEVENT
DTSTART;TZID=America/New_York:20211222T153000
DTEND;TZID=America/New_York:20211222T210000
DTSTAMP:20260421T103344
CREATED:20211211T213440Z
LAST-MODIFIED:20211211T213440Z
UID:4871-1640187000-1640206800@cortlandclub.com
SUMMARY:Reservation - Clubhouse
DESCRIPTION:Welke Party
URL:https://cortlandclub.com/event/reservation-clubhouse-123/
LOCATION:Clubhouse
ATTACH;FMTTYPE=image/jpeg:https://cortlandclub.com/wp-content/uploads/2017/11/Reserved.jpg
END:VEVENT
BEGIN:VEVENT
DTSTART;TZID=America/New_York:20211224T100000
DTEND;TZID=America/New_York:20211224T233000
DTSTAMP:20260421T103344
CREATED:20210201T045206Z
LAST-MODIFIED:20210201T045206Z
UID:3502-1640340000-1640388600@cortlandclub.com
SUMMARY:Reservation  - Closed Shelter
DESCRIPTION:Best Party
URL:https://cortlandclub.com/event/reservation-closed-shelter-20/
LOCATION:Closed Shelter
ATTACH;FMTTYPE=image/jpeg:https://cortlandclub.com/wp-content/uploads/2017/11/Reserved.jpg
END:VEVENT
BEGIN:VEVENT
DTSTART;TZID=America/New_York:20211224T100000
DTEND;TZID=America/New_York:20211224T233000
DTSTAMP:20260421T103344
CREATED:20210201T045400Z
LAST-MODIFIED:20210201T045400Z
UID:3504-1640340000-1640388600@cortlandclub.com
SUMMARY:Reservation  - Clubhouse
DESCRIPTION:Bagaglia Party
URL:https://cortlandclub.com/event/reservation-clubhouse-94/
LOCATION:Clubhouse
ATTACH;FMTTYPE=image/jpeg:https://cortlandclub.com/wp-content/uploads/2017/11/Reserved.jpg
END:VEVENT
BEGIN:VEVENT
DTSTART;TZID=America/New_York:20211225T100000
DTEND;TZID=America/New_York:20211225T220000
DTSTAMP:20260421T103344
CREATED:20211128T022002Z
LAST-MODIFIED:20211128T022002Z
UID:4832-1640426400-1640469600@cortlandclub.com
SUMMARY:Reservation - Clubhouse
DESCRIPTION:Mrofchak Party
URL:https://cortlandclub.com/event/reservation-clubhouse-116/
LOCATION:Clubhouse
ATTACH;FMTTYPE=image/jpeg:https://cortlandclub.com/wp-content/uploads/2017/11/Reserved.jpg
END:VEVENT
BEGIN:VEVENT
DTSTART;TZID=America/New_York:20211226T120000
DTEND;TZID=America/New_York:20211226T233000
DTSTAMP:20260421T103344
CREATED:20220101T233154Z
LAST-MODIFIED:20220101T233154Z
UID:4882-1640520000-1640561400@cortlandclub.com
SUMMARY:Reservation - Clubhouse
DESCRIPTION:Sprockett Party
URL:https://cortlandclub.com/event/reservation-clubhouse-107/
LOCATION:Closed Shelter
ATTACH;FMTTYPE=image/jpeg:https://cortlandclub.com/wp-content/uploads/2017/11/Reserved.jpg
END:VEVENT
BEGIN:VEVENT
DTSTART;TZID=America/New_York:20220101T120000
DTEND;TZID=America/New_York:20220101T160000
DTSTAMP:20260421T103344
CREATED:20211208T044404Z
LAST-MODIFIED:20211211T212424Z
UID:4855-1641038400-1641052800@cortlandclub.com
SUMMARY:Reservation - Clubhouse
DESCRIPTION:Gadd Party
URL:https://cortlandclub.com/event/reservation-pending-clubhouse-7/
LOCATION:Clubhouse
ATTACH;FMTTYPE=image/jpeg:https://cortlandclub.com/wp-content/uploads/2017/11/Reserved.jpg
END:VEVENT
BEGIN:VEVENT
DTSTART;TZID=America/New_York:20220111T190000
DTEND;TZID=America/New_York:20220111T220000
DTSTAMP:20260421T103344
CREATED:20211128T024140Z
LAST-MODIFIED:20211128T024140Z
UID:4834-1641927600-1641938400@cortlandclub.com
SUMMARY:Reservation - Clubhouse
DESCRIPTION:Audit Committee Meeting
URL:https://cortlandclub.com/event/reservation-clubhouse-117/
LOCATION:Clubhouse
ATTACH;FMTTYPE=image/jpeg:https://cortlandclub.com/wp-content/uploads/2017/11/Audit_Committee_2.jpg
END:VEVENT
BEGIN:VEVENT
DTSTART;TZID=America/New_York:20220112T070000
DTEND;TZID=America/New_York:20220112T210000
DTSTAMP:20260421T103344
CREATED:20220203T023334Z
LAST-MODIFIED:20220203T023334Z
UID:5013-1641970800-1642021200@cortlandclub.com
SUMMARY:Trustee Meeting
DESCRIPTION:
URL:https://cortlandclub.com/event/trustee-meeting-2/
LOCATION:Clubhouse
ATTACH;FMTTYPE=image/png:https://cortlandclub.com/wp-content/uploads/2017/07/Trustees.png
END:VEVENT
BEGIN:VEVENT
DTSTART;TZID=America/New_York:20220115T173000
DTEND;TZID=America/New_York:20220115T220000
DTSTAMP:20260421T103344
CREATED:20211211T213246Z
LAST-MODIFIED:20211211T213303Z
UID:4869-1642267800-1642284000@cortlandclub.com
SUMMARY:Reservation - Clubhouse
DESCRIPTION:Bzinak Party
URL:https://cortlandclub.com/event/reservation-clubhouse-122/
LOCATION:Clubhouse
ATTACH;FMTTYPE=image/jpeg:https://cortlandclub.com/wp-content/uploads/2017/11/Reserved.jpg
END:VEVENT
BEGIN:VEVENT
DTSTART;TZID=America/New_York:20220116T090000
DTEND;TZID=America/New_York:20220116T150000
DTSTAMP:20260421T103344
CREATED:20211211T212817Z
LAST-MODIFIED:20211211T212817Z
UID:4865-1642323600-1642345200@cortlandclub.com
SUMMARY:Reservation - Clubhouse
DESCRIPTION:Gadd Party
URL:https://cortlandclub.com/event/reservation-clubhouse-120/
LOCATION:Clubhouse
ATTACH;FMTTYPE=image/jpeg:https://cortlandclub.com/wp-content/uploads/2017/11/Reserved.jpg
END:VEVENT
BEGIN:VEVENT
DTSTART;TZID=America/New_York:20220122T120000
DTEND;TZID=America/New_York:20220122T190000
DTSTAMP:20260421T103344
CREATED:20220111T071359Z
LAST-MODIFIED:20220111T071359Z
UID:4904-1642852800-1642878000@cortlandclub.com
SUMMARY:Clubhouse - Reserved
DESCRIPTION:Foor Party
URL:https://cortlandclub.com/event/clubhouse-reserved-3/
LOCATION:Clubhouse
ATTACH;FMTTYPE=image/jpeg:https://cortlandclub.com/wp-content/uploads/2017/11/Reserved.jpg
END:VEVENT
BEGIN:VEVENT
DTSTART;TZID=America/New_York:20220123T143000
DTEND;TZID=America/New_York:20220123T163000
DTSTAMP:20260421T103344
CREATED:20220203T023518Z
LAST-MODIFIED:20220203T023518Z
UID:5015-1642948200-1642955400@cortlandclub.com
SUMMARY:Annual Membership Meeting
DESCRIPTION:Online Zoom Meeting
URL:https://cortlandclub.com/event/annual-membership-meeting-3/
LOCATION:Clubhouse
ATTACH;FMTTYPE=image/png:https://cortlandclub.com/wp-content/uploads/2019/01/Annual-Meeting-e1547484109332.png
END:VEVENT
BEGIN:VEVENT
DTSTART;TZID=America/New_York:20220129T100000
DTEND;TZID=America/New_York:20220129T233000
DTSTAMP:20260421T103344
CREATED:20211011T021630Z
LAST-MODIFIED:20211023T045110Z
UID:4736-1643450400-1643499000@cortlandclub.com
SUMMARY:Reservation - Closed Shelter
DESCRIPTION:Bagaglia Party
URL:https://cortlandclub.com/event/reservation-pending-closed-shelter-20/
LOCATION:Closed Shelter
ATTACH;FMTTYPE=image/jpeg:https://cortlandclub.com/wp-content/uploads/2017/11/Reserved.jpg
END:VEVENT
BEGIN:VEVENT
DTSTART;TZID=America/New_York:20220129T103000
DTEND;TZID=America/New_York:20220129T233000
DTSTAMP:20260421T103344
CREATED:20220116T174120Z
LAST-MODIFIED:20220116T174120Z
UID:4929-1643452200-1643499000@cortlandclub.com
SUMMARY:Clubhouse - Reserved
DESCRIPTION:Best Party
URL:https://cortlandclub.com/event/clubhouse-reserved-4/
LOCATION:Clubhouse
ATTACH;FMTTYPE=image/jpeg:https://cortlandclub.com/wp-content/uploads/2017/11/Reserved.jpg
END:VEVENT
BEGIN:VEVENT
DTSTART;TZID=America/New_York:20220130T120000
DTEND;TZID=America/New_York:20220130T150000
DTSTAMP:20260421T103344
CREATED:20211211T213017Z
LAST-MODIFIED:20220202T030514Z
UID:4867-1643544000-1643554800@cortlandclub.com
SUMMARY:Clubhouse - Reserved
DESCRIPTION:Toro Party
URL:https://cortlandclub.com/event/reservation-clubhouse-121/
LOCATION:Clubhouse
ATTACH;FMTTYPE=image/jpeg:https://cortlandclub.com/wp-content/uploads/2017/11/Reserved.jpg
END:VEVENT
BEGIN:VEVENT
DTSTART;TZID=America/New_York:20220209T070000
DTEND;TZID=America/New_York:20220209T210000
DTSTAMP:20260421T103344
CREATED:20220203T023918Z
LAST-MODIFIED:20220203T023918Z
UID:5017-1644390000-1644440400@cortlandclub.com
SUMMARY:Trustee Meeting
DESCRIPTION:
URL:https://cortlandclub.com/event/trustee-meeting-3/
LOCATION:Clubhouse
ATTACH;FMTTYPE=image/png:https://cortlandclub.com/wp-content/uploads/2017/07/Trustees.png
END:VEVENT
BEGIN:VEVENT
DTSTART;TZID=America/New_York:20220211T170000
DTEND;TZID=America/New_York:20220211T230000
DTSTAMP:20260421T103344
CREATED:20220202T030900Z
LAST-MODIFIED:20220202T030900Z
UID:4950-1644598800-1644620400@cortlandclub.com
SUMMARY:Clubhouse - Reserved
DESCRIPTION:Jones Party
URL:https://cortlandclub.com/event/clubhouse-reserved-5/
LOCATION:Clubhouse
ATTACH;FMTTYPE=image/jpeg:https://cortlandclub.com/wp-content/uploads/2017/11/Reserved.jpg
END:VEVENT
BEGIN:VEVENT
DTSTART;TZID=America/New_York:20220212T180000
DTEND;TZID=America/New_York:20220212T220000
DTSTAMP:20260421T103344
CREATED:20211211T212309Z
LAST-MODIFIED:20220202T030450Z
UID:4862-1644688800-1644703200@cortlandclub.com
SUMMARY:Clubhouse - Reserved
DESCRIPTION:Clark Party
URL:https://cortlandclub.com/event/reservation-clubhouse-119/
LOCATION:Clubhouse
ATTACH;FMTTYPE=image/jpeg:https://cortlandclub.com/wp-content/uploads/2017/11/Reserved.jpg
END:VEVENT
BEGIN:VEVENT
DTSTART;TZID=America/New_York:20220213T160000
DTEND;TZID=America/New_York:20220213T233000
DTSTAMP:20260421T103344
CREATED:20220203T022043Z
LAST-MODIFIED:20220203T022550Z
UID:5009-1644768000-1644795000@cortlandclub.com
SUMMARY:Clubhouse - Reserved
DESCRIPTION:Bzinak Party
URL:https://cortlandclub.com/event/clubhouse-reserved-6/
LOCATION:Clubhouse
ATTACH;FMTTYPE=image/jpeg:https://cortlandclub.com/wp-content/uploads/2017/11/Reserved.jpg
END:VEVENT
END:VCALENDAR