BEGIN:VCALENDAR
VERSION:2.0
PRODID:-//The Cortland Conservation Club - ECPv6.15.20//NONSGML v1.0//EN
CALSCALE:GREGORIAN
METHOD:PUBLISH
X-ORIGINAL-URL:https://cortlandclub.com
X-WR-CALDESC:Events for The Cortland Conservation Club
REFRESH-INTERVAL;VALUE=DURATION:PT1H
X-Robots-Tag:noindex
X-PUBLISHED-TTL:PT1H
BEGIN:VTIMEZONE
TZID:America/New_York
BEGIN:DAYLIGHT
TZOFFSETFROM:-0500
TZOFFSETTO:-0400
TZNAME:EDT
DTSTART:20210314T070000
END:DAYLIGHT
BEGIN:STANDARD
TZOFFSETFROM:-0400
TZOFFSETTO:-0500
TZNAME:EST
DTSTART:20211107T060000
END:STANDARD
BEGIN:DAYLIGHT
TZOFFSETFROM:-0500
TZOFFSETTO:-0400
TZNAME:EDT
DTSTART:20220313T070000
END:DAYLIGHT
BEGIN:STANDARD
TZOFFSETFROM:-0400
TZOFFSETTO:-0500
TZNAME:EST
DTSTART:20221106T060000
END:STANDARD
BEGIN:DAYLIGHT
TZOFFSETFROM:-0500
TZOFFSETTO:-0400
TZNAME:EDT
DTSTART:20230312T070000
END:DAYLIGHT
BEGIN:STANDARD
TZOFFSETFROM:-0400
TZOFFSETTO:-0500
TZNAME:EST
DTSTART:20231105T060000
END:STANDARD
END:VTIMEZONE
BEGIN:VEVENT
DTSTART;TZID=America/New_York:20220224T080000
DTEND;TZID=America/New_York:20220311T220000
DTSTAMP:20260421T055958
CREATED:20220301T005608Z
LAST-MODIFIED:20220301T010819Z
UID:5178-1645689600-1647036000@cortlandclub.com
SUMMARY:Closed Shelter Repairs
DESCRIPTION:Chimney Repair
URL:https://cortlandclub.com/event/closed-shelter-repairs/
LOCATION:Closed Shelter
ATTACH;FMTTYPE=image/jpeg:https://cortlandclub.com/wp-content/uploads/2022/02/underconstruction-1-1-e1646096241919.jpg
END:VEVENT
BEGIN:VEVENT
DTSTART;TZID=America/New_York:20220306T110000
DTEND;TZID=America/New_York:20220306T150000
DTSTAMP:20260421T055958
CREATED:20220222T223334Z
LAST-MODIFIED:20220222T224320Z
UID:5143-1646564400-1646578800@cortlandclub.com
SUMMARY:Reservation - Clubhouse
DESCRIPTION:Gadd Party
URL:https://cortlandclub.com/event/reservation-clubhouse-126/
LOCATION:Clubhouse
ATTACH;FMTTYPE=image/jpeg:https://cortlandclub.com/wp-content/uploads/2017/11/Reserved.jpg
END:VEVENT
BEGIN:VEVENT
DTSTART;TZID=America/New_York:20220309T070000
DTEND;TZID=America/New_York:20220309T210000
DTSTAMP:20260421T055958
CREATED:20220203T024242Z
LAST-MODIFIED:20220203T024243Z
UID:5023-1646809200-1646859600@cortlandclub.com
SUMMARY:Trustee Meeting
DESCRIPTION:
URL:https://cortlandclub.com/event/trustee-meeting-4/
LOCATION:Clubhouse
ATTACH;FMTTYPE=image/png:https://cortlandclub.com/wp-content/uploads/2017/07/Trustees.png
END:VEVENT
BEGIN:VEVENT
DTSTART;TZID=America/New_York:20220324T073000
DTEND;TZID=America/New_York:20220324T203000
DTSTAMP:20260421T055958
CREATED:20220203T024127Z
LAST-MODIFIED:20220203T024127Z
UID:5021-1648107000-1648153800@cortlandclub.com
SUMMARY:Membership Meeting
DESCRIPTION:Online Zoom Meeting
URL:https://cortlandclub.com/event/membership-meeting-31/
LOCATION:Clubhouse
ATTACH;FMTTYPE=image/png:https://cortlandclub.com/wp-content/uploads/2017/07/Members-1.png
END:VEVENT
BEGIN:VEVENT
DTSTART;TZID=America/New_York:20220327T123000
DTEND;TZID=America/New_York:20220327T180000
DTSTAMP:20260421T055958
CREATED:20220307T032631Z
LAST-MODIFIED:20220317T015023Z
UID:5187-1648384200-1648404000@cortlandclub.com
SUMMARY:Clubhouse - Reserved
DESCRIPTION:Abelt Party
URL:https://cortlandclub.com/event/clubhouse-pending-reservation/
LOCATION:Clubhouse
ATTACH;FMTTYPE=image/jpeg:https://cortlandclub.com/wp-content/uploads/2017/11/Reserved.jpg
END:VEVENT
BEGIN:VEVENT
DTSTART;TZID=America/New_York:20220401T120000
DTEND;TZID=America/New_York:20220401T200000
DTSTAMP:20260421T055958
CREATED:20220222T222035Z
LAST-MODIFIED:20220222T222035Z
UID:5136-1648814400-1648843200@cortlandclub.com
SUMMARY:Reservation - Clubhouse
DESCRIPTION:Koval Party
URL:https://cortlandclub.com/event/reservation-clubhouse-124/
LOCATION:Clubhouse
ATTACH;FMTTYPE=image/jpeg:https://cortlandclub.com/wp-content/uploads/2017/11/Reserved.jpg
END:VEVENT
BEGIN:VEVENT
DTSTART;TZID=America/New_York:20220401T160000
DTEND;TZID=America/New_York:20220401T203000
DTSTAMP:20260421T055958
CREATED:20220328T053630Z
LAST-MODIFIED:20220413T003758Z
UID:5257-1648828800-1648845000@cortlandclub.com
SUMMARY:Reserved - Clubhouse
DESCRIPTION:Kushma Party
URL:https://cortlandclub.com/event/reserved-closed-shelter/
LOCATION:Clubhouse
ATTACH;FMTTYPE=image/jpeg:https://cortlandclub.com/wp-content/uploads/2017/11/Reserved.jpg
END:VEVENT
BEGIN:VEVENT
DTSTART;TZID=America/New_York:20220402T160000
DTEND;TZID=America/New_York:20220402T210000
DTSTAMP:20260421T055958
CREATED:20220307T033054Z
LAST-MODIFIED:20220307T033054Z
UID:5190-1648915200-1648933200@cortlandclub.com
SUMMARY:Clubhouse - Reserved
DESCRIPTION:Bzinak Party
URL:https://cortlandclub.com/event/clubhouse-reserved-8/
LOCATION:Clubhouse
ATTACH;FMTTYPE=image/jpeg:https://cortlandclub.com/wp-content/uploads/2017/11/Reserved.jpg
END:VEVENT
BEGIN:VEVENT
DTSTART;TZID=America/New_York:20220403T090000
DTEND;TZID=America/New_York:20220403T190000
DTSTAMP:20260421T055958
CREATED:20220307T033436Z
LAST-MODIFIED:20220307T033436Z
UID:5192-1648976400-1649012400@cortlandclub.com
SUMMARY:Clubhouse - Reserved
DESCRIPTION:Dimos Party
URL:https://cortlandclub.com/event/clubhouse-reserved-9/
LOCATION:Clubhouse
ATTACH;FMTTYPE=image/jpeg:https://cortlandclub.com/wp-content/uploads/2017/11/Reserved.jpg
END:VEVENT
BEGIN:VEVENT
DTSTART;TZID=America/New_York:20220403T100000
DTEND;TZID=America/New_York:20220403T220000
DTSTAMP:20260421T055958
CREATED:20211128T025300Z
LAST-MODIFIED:20220202T030343Z
UID:4836-1648980000-1649023200@cortlandclub.com
SUMMARY:Closed Shelter - Reserved
DESCRIPTION:Rager Party
URL:https://cortlandclub.com/event/reservation-closed-shelter-42/
LOCATION:Closed Shelter
ATTACH;FMTTYPE=image/jpeg:https://cortlandclub.com/wp-content/uploads/2017/11/Reserved.jpg
END:VEVENT
BEGIN:VEVENT
DTSTART;TZID=America/New_York:20220409T170000
DTEND;TZID=America/New_York:20220409T210000
DTSTAMP:20260421T055958
CREATED:20220301T004545Z
LAST-MODIFIED:20220301T004545Z
UID:5172-1649523600-1649538000@cortlandclub.com
SUMMARY:Reservation - Clubhouse
DESCRIPTION:Albelt Party
URL:https://cortlandclub.com/event/reservation-clubhouse-127/
LOCATION:Clubhouse
ATTACH;FMTTYPE=image/jpeg:https://cortlandclub.com/wp-content/uploads/2017/11/Reserved.jpg
END:VEVENT
BEGIN:VEVENT
DTSTART;TZID=America/New_York:20220410T110000
DTEND;TZID=America/New_York:20220410T160000
DTSTAMP:20260421T055958
CREATED:20220413T003609Z
LAST-MODIFIED:20220413T003609Z
UID:5265-1649588400-1649606400@cortlandclub.com
SUMMARY:Clubhouse - Reserved
DESCRIPTION:Wilson Party
URL:https://cortlandclub.com/event/clubhouse-reserved-12/
LOCATION:Clubhouse
ATTACH;FMTTYPE=image/jpeg:https://cortlandclub.com/wp-content/uploads/2017/11/Reserved.jpg
END:VEVENT
BEGIN:VEVENT
DTSTART;TZID=America/New_York:20220413T070000
DTEND;TZID=America/New_York:20220413T210000
DTSTAMP:20260421T055958
CREATED:20220203T024714Z
LAST-MODIFIED:20220203T024714Z
UID:5025-1649833200-1649883600@cortlandclub.com
SUMMARY:Trustee Meeting
DESCRIPTION:
URL:https://cortlandclub.com/event/trustee-meeting-5/
LOCATION:Clubhouse
ATTACH;FMTTYPE=image/png:https://cortlandclub.com/wp-content/uploads/2017/07/Trustees.png
END:VEVENT
BEGIN:VEVENT
DTSTART;TZID=America/New_York:20220416T100000
DTEND;TZID=America/New_York:20220416T140000
DTSTAMP:20260421T055958
CREATED:20220301T004945Z
LAST-MODIFIED:20220301T004945Z
UID:5176-1650103200-1650117600@cortlandclub.com
SUMMARY:Reservation - Clubhouse
DESCRIPTION:Gadd Party
URL:https://cortlandclub.com/event/reservation-clubhouse-129/
LOCATION:Clubhouse
ATTACH;FMTTYPE=image/jpeg:https://cortlandclub.com/wp-content/uploads/2017/11/Reserved.jpg
END:VEVENT
BEGIN:VEVENT
DTSTART;TZID=America/New_York:20220417T110000
DTEND;TZID=America/New_York:20220417T190000
DTSTAMP:20260421T055958
CREATED:20220328T045315Z
LAST-MODIFIED:20220328T045315Z
UID:5253-1650193200-1650222000@cortlandclub.com
SUMMARY:Clubhouse - Reserved
DESCRIPTION:Craciun Party
URL:https://cortlandclub.com/event/clubhouse-reserved-11/
LOCATION:Clubhouse
ATTACH;FMTTYPE=image/jpeg:https://cortlandclub.com/wp-content/uploads/2017/11/Reserved.jpg
END:VEVENT
BEGIN:VEVENT
DTSTART;TZID=America/New_York:20220422T160000
DTEND;TZID=America/New_York:20220422T200000
DTSTAMP:20260421T055958
CREATED:20220413T003406Z
LAST-MODIFIED:20220419T024756Z
UID:5263-1650643200-1650657600@cortlandclub.com
SUMMARY:Closed Shelter - Reserved
DESCRIPTION:Stachowski Party
URL:https://cortlandclub.com/event/closed-shelter-reservation-pending-5/
LOCATION:Closed Shelter
ATTACH;FMTTYPE=image/jpeg:https://cortlandclub.com/wp-content/uploads/2017/11/Reserved.jpg
END:VEVENT
BEGIN:VEVENT
DTSTART;TZID=America/New_York:20220423T163000
DTEND;TZID=America/New_York:20220423T233000
DTSTAMP:20260421T055958
CREATED:20220222T222253Z
LAST-MODIFIED:20220222T222253Z
UID:5138-1650731400-1650756600@cortlandclub.com
SUMMARY:Reservation - Closed Shelter
DESCRIPTION:Petruzzi Party
URL:https://cortlandclub.com/event/reservation-closed-shelter-43/
LOCATION:Closed Shelter
ATTACH;FMTTYPE=image/jpeg:https://cortlandclub.com/wp-content/uploads/2017/11/Reserved.jpg
END:VEVENT
BEGIN:VEVENT
DTSTART;TZID=America/New_York:20220428T193000
DTEND;TZID=America/New_York:20220428T203000
DTSTAMP:20260421T055958
CREATED:20220203T024822Z
LAST-MODIFIED:20220203T024822Z
UID:5027-1651174200-1651177800@cortlandclub.com
SUMMARY:Membership Meeting
DESCRIPTION:Online Zoom Meeting
URL:https://cortlandclub.com/event/membership-meeting-32/
LOCATION:Clubhouse
ATTACH;FMTTYPE=image/png:https://cortlandclub.com/wp-content/uploads/2017/07/Members-1.png
END:VEVENT
BEGIN:VEVENT
DTSTART;TZID=America/New_York:20220430T110000
DTEND;TZID=America/New_York:20220430T150000
DTSTAMP:20260421T055958
CREATED:20220222T222642Z
LAST-MODIFIED:20220222T222642Z
UID:5141-1651316400-1651330800@cortlandclub.com
SUMMARY:Reservation - Clubhouse
DESCRIPTION:Costas Party
URL:https://cortlandclub.com/event/reservation-clubhouse-125/
LOCATION:Clubhouse
ATTACH;FMTTYPE=image/jpeg:https://cortlandclub.com/wp-content/uploads/2017/11/Reserved.jpg
END:VEVENT
BEGIN:VEVENT
DTSTART;TZID=America/New_York:20220503T180000
DTEND;TZID=America/New_York:20220503T200000
DTSTAMP:20260421T055958
CREATED:20220425T233329Z
LAST-MODIFIED:20220425T233511Z
UID:5299-1651600800-1651608000@cortlandclub.com
SUMMARY:Book Club
DESCRIPTION:“The Book of Lost Friends” by Lisa Wingate
URL:https://cortlandclub.com/event/book-club-5/
LOCATION:Closed Shelter
ATTACH;FMTTYPE=image/jpeg:https://cortlandclub.com/wp-content/uploads/2022/03/Bookclub.jpeg
END:VEVENT
BEGIN:VEVENT
DTSTART;TZID=America/New_York:20220504T180000
DTEND;TZID=America/New_York:20220504T200000
DTSTAMP:20260421T055958
CREATED:20220203T030338Z
LAST-MODIFIED:20220203T030338Z
UID:5040-1651687200-1651694400@cortlandclub.com
SUMMARY:Wednesday Night Supper Club
DESCRIPTION:
URL:https://cortlandclub.com/event/wednesday-night-supper-club-12/
LOCATION:Closed Shelter
ATTACH;FMTTYPE=image/jpeg:https://cortlandclub.com/wp-content/uploads/2018/04/supperCLUB-e1523192452964.jpg
END:VEVENT
BEGIN:VEVENT
DTSTART;TZID=America/New_York:20220507T080000
DTEND;TZID=America/New_York:20220507T140000
DTSTAMP:20260421T055958
CREATED:20220202T031931Z
LAST-MODIFIED:20220202T031931Z
UID:4955-1651910400-1651932000@cortlandclub.com
SUMMARY:Spring Work Day
DESCRIPTION:Spring Work Day
URL:https://cortlandclub.com/event/spring-work-day-5/
ATTACH;FMTTYPE=image/jpeg:https://cortlandclub.com/wp-content/uploads/2021/03/spring-cleaning.jpg
END:VEVENT
BEGIN:VEVENT
DTSTART;TZID=America/New_York:20220508T070000
DTEND;TZID=America/New_York:20220508T140000
DTSTAMP:20260421T055958
CREATED:20210915T202652Z
LAST-MODIFIED:20220202T030424Z
UID:4548-1651993200-1652018400@cortlandclub.com
SUMMARY:Clubhouse - Reserved
DESCRIPTION:Gintert Party
URL:https://cortlandclub.com/event/reservation-pending-clubhouse-14/
LOCATION:Clubhouse
ATTACH;FMTTYPE=image/jpeg:https://cortlandclub.com/wp-content/uploads/2017/11/Reserved.jpg
END:VEVENT
BEGIN:VEVENT
DTSTART;TZID=America/New_York:20220508T120000
DTEND;TZID=America/New_York:20220508T200000
DTSTAMP:20260421T055958
CREATED:20220503T072257Z
LAST-MODIFIED:20220503T072257Z
UID:5328-1652011200-1652040000@cortlandclub.com
SUMMARY:Closed Shelter - Reserved
DESCRIPTION:Dimos Party
URL:https://cortlandclub.com/event/closed-shelter-reserved-5/
LOCATION:Closed Shelter
ATTACH;FMTTYPE=image/jpeg:https://cortlandclub.com/wp-content/uploads/2017/11/Reserved.jpg
END:VEVENT
BEGIN:VEVENT
DTSTART;TZID=America/New_York:20220511T190000
DTEND;TZID=America/New_York:20220511T210000
DTSTAMP:20260421T055958
CREATED:20220203T030004Z
LAST-MODIFIED:20220203T030004Z
UID:5038-1652295600-1652302800@cortlandclub.com
SUMMARY:Trustee Meeting
DESCRIPTION:
URL:https://cortlandclub.com/event/trustee-meeting-6/
LOCATION:Closed Shelter
ATTACH;FMTTYPE=image/png:https://cortlandclub.com/wp-content/uploads/2017/07/Trustees.png
END:VEVENT
BEGIN:VEVENT
DTSTART;TZID=America/New_York:20220514T120000
DTEND;TZID=America/New_York:20220514T233000
DTSTAMP:20260421T055958
CREATED:20220111T070229Z
LAST-MODIFIED:20220116T171633Z
UID:4892-1652529600-1652571000@cortlandclub.com
SUMMARY:Closed Shelter - Reserved
DESCRIPTION:Diamond Party
URL:https://cortlandclub.com/event/closed-shelter-reservation-pending-2/
LOCATION:Closed Shelter
ATTACH;FMTTYPE=image/jpeg:https://cortlandclub.com/wp-content/uploads/2017/11/Reserved.jpg
END:VEVENT
BEGIN:VEVENT
DTSTART;TZID=America/New_York:20220515T090000
DTEND;TZID=America/New_York:20220515T230000
DTSTAMP:20260421T055958
CREATED:20220301T003842Z
LAST-MODIFIED:20220317T015302Z
UID:5168-1652605200-1652655600@cortlandclub.com
SUMMARY:Reservation - Closed Shelter
DESCRIPTION:Rager Party
URL:https://cortlandclub.com/event/reservation-pending-closed-shelter-9/
LOCATION:Closed Shelter
ATTACH;FMTTYPE=image/jpeg:https://cortlandclub.com/wp-content/uploads/2017/11/Reserved.jpg
END:VEVENT
BEGIN:VEVENT
DTSTART;TZID=America/New_York:20220515T100000
DTEND;TZID=America/New_York:20220515T200000
DTSTAMP:20260421T055958
CREATED:20220301T004804Z
LAST-MODIFIED:20220301T004804Z
UID:5174-1652608800-1652644800@cortlandclub.com
SUMMARY:Reservation - Clubhouse
DESCRIPTION:Dimos Party
URL:https://cortlandclub.com/event/reservation-clubhouse-128/
LOCATION:Clubhouse
ATTACH;FMTTYPE=image/jpeg:https://cortlandclub.com/wp-content/uploads/2017/11/Reserved.jpg
END:VEVENT
BEGIN:VEVENT
DTSTART;TZID=America/New_York:20220518T170000
DTEND;TZID=America/New_York:20220518T190000
DTSTAMP:20260421T055958
CREATED:20220202T040726Z
LAST-MODIFIED:20220307T030739Z
UID:4968-1652893200-1652900400@cortlandclub.com
SUMMARY:Wednesday Work Night
DESCRIPTION:Work Night
URL:https://cortlandclub.com/event/wednesday-work-night-24/
ATTACH;FMTTYPE=image/jpeg:https://cortlandclub.com/wp-content/uploads/2021/03/Work-Day.jpg
END:VEVENT
BEGIN:VEVENT
DTSTART;TZID=America/New_York:20220520T160000
DTEND;TZID=America/New_York:20220520T210000
DTSTAMP:20260421T055958
CREATED:20220428T050150Z
LAST-MODIFIED:20220428T050150Z
UID:5313-1653062400-1653080400@cortlandclub.com
SUMMARY:Clubhouse - Reserved
DESCRIPTION:Spring Brunch – Prep n set up
URL:https://cortlandclub.com/event/clubhouse-reserved-14/
LOCATION:Clubhouse
ATTACH;FMTTYPE=image/jpeg:https://cortlandclub.com/wp-content/uploads/2017/11/Reserved.jpg
END:VEVENT
END:VCALENDAR