BEGIN:VCALENDAR
VERSION:2.0
PRODID:-//The Cortland Conservation Club - ECPv6.15.20//NONSGML v1.0//EN
CALSCALE:GREGORIAN
METHOD:PUBLISH
X-ORIGINAL-URL:https://cortlandclub.com
X-WR-CALDESC:Events for The Cortland Conservation Club
REFRESH-INTERVAL;VALUE=DURATION:PT1H
X-Robots-Tag:noindex
X-PUBLISHED-TTL:PT1H
BEGIN:VTIMEZONE
TZID:America/New_York
BEGIN:DAYLIGHT
TZOFFSETFROM:-0500
TZOFFSETTO:-0400
TZNAME:EDT
DTSTART:20220313T070000
END:DAYLIGHT
BEGIN:STANDARD
TZOFFSETFROM:-0400
TZOFFSETTO:-0500
TZNAME:EST
DTSTART:20221106T060000
END:STANDARD
BEGIN:DAYLIGHT
TZOFFSETFROM:-0500
TZOFFSETTO:-0400
TZNAME:EDT
DTSTART:20230312T070000
END:DAYLIGHT
BEGIN:STANDARD
TZOFFSETFROM:-0400
TZOFFSETTO:-0500
TZNAME:EST
DTSTART:20231105T060000
END:STANDARD
BEGIN:DAYLIGHT
TZOFFSETFROM:-0500
TZOFFSETTO:-0400
TZNAME:EDT
DTSTART:20240310T070000
END:DAYLIGHT
BEGIN:STANDARD
TZOFFSETFROM:-0400
TZOFFSETTO:-0500
TZNAME:EST
DTSTART:20241103T060000
END:STANDARD
END:VTIMEZONE
BEGIN:VEVENT
DTSTART;TZID=America/New_York:20230503T180000
DTEND;TZID=America/New_York:20230503T200000
DTSTAMP:20260420T074540
CREATED:20230424T001432Z
LAST-MODIFIED:20230424T001432Z
UID:5959-1683136800-1683144000@cortlandclub.com
SUMMARY:Supper Club
DESCRIPTION:
URL:https://cortlandclub.com/event/supper-club/
LOCATION:Closed Shelter
ATTACH;FMTTYPE=image/jpeg:https://cortlandclub.com/wp-content/uploads/2018/04/supperCLUB-e1523192452964.jpg
END:VEVENT
BEGIN:VEVENT
DTSTART;TZID=America/New_York:20230506T080000
DTEND;TZID=America/New_York:20230506T140000
DTSTAMP:20260420T074540
CREATED:20230224T055516Z
LAST-MODIFIED:20230224T055516Z
UID:5804-1683360000-1683381600@cortlandclub.com
SUMMARY:Spring Work Day
DESCRIPTION:
URL:https://cortlandclub.com/event/spring-work-day-6/
ATTACH;FMTTYPE=image/jpeg:https://cortlandclub.com/wp-content/uploads/2021/03/spring-cleaning.jpg
END:VEVENT
BEGIN:VEVENT
DTSTART;TZID=America/New_York:20230510T190000
DTEND;TZID=America/New_York:20230510T200000
DTSTAMP:20260420T074540
CREATED:20230127T041607Z
LAST-MODIFIED:20230127T041607Z
UID:5662-1683745200-1683748800@cortlandclub.com
SUMMARY:Trustee Meeting
DESCRIPTION:
URL:https://cortlandclub.com/event/trustee-meeting-17/
LOCATION:Closed Shelter
ATTACH;FMTTYPE=image/png:https://cortlandclub.com/wp-content/uploads/2017/07/Trustees.png
END:VEVENT
BEGIN:VEVENT
DTSTART;TZID=America/New_York:20230513T110000
DTEND;TZID=America/New_York:20230513T150000
DTSTAMP:20260420T074540
CREATED:20230424T170325Z
LAST-MODIFIED:20230424T170325Z
UID:5963-1683975600-1683990000@cortlandclub.com
SUMMARY:Clubhouse - Reserved
DESCRIPTION:Barrett Party
URL:https://cortlandclub.com/event/clubhouse-reserved-36/
LOCATION:Clubhouse
ATTACH;FMTTYPE=image/jpeg:https://cortlandclub.com/wp-content/uploads/2017/11/Reserved.jpg
END:VEVENT
BEGIN:VEVENT
DTSTART;TZID=America/New_York:20230513T140000
DTEND;TZID=America/New_York:20230513T180000
DTSTAMP:20260420T074540
CREATED:20230205T230958Z
LAST-MODIFIED:20230426T020802Z
UID:5679-1683986400-1684000800@cortlandclub.com
SUMMARY:Bluebird House Building - Closed Shelter
DESCRIPTION:Reservations are required by May 6th \nLimited seating \nContact Trustee Sally Welke to reserve a spot
URL:https://cortlandclub.com/event/closed-shelter-reservation-pending-17/
LOCATION:Closed Shelter
ATTACH;FMTTYPE=image/jpeg:https://cortlandclub.com/wp-content/uploads/2023/02/bluebird-house-1.jpg
END:VEVENT
BEGIN:VEVENT
DTSTART;TZID=America/New_York:20230514T090000
DTEND;TZID=America/New_York:20230514T180000
DTSTAMP:20260420T074540
CREATED:20230303T210231Z
LAST-MODIFIED:20230312T011026Z
UID:5849-1684054800-1684087200@cortlandclub.com
SUMMARY:Closed Shelter - Reserved
DESCRIPTION:Rager Party
URL:https://cortlandclub.com/event/closed-shelter-reservation-pending-21/
LOCATION:Closed Shelter
ATTACH;FMTTYPE=image/jpeg:https://cortlandclub.com/wp-content/uploads/2017/11/Reserved.jpg
END:VEVENT
BEGIN:VEVENT
DTSTART;TZID=America/New_York:20230515T110000
DTEND;TZID=America/New_York:20230515T150000
DTSTAMP:20260420T074540
CREATED:20230303T205414Z
LAST-MODIFIED:20230312T011801Z
UID:5839-1684148400-1684162800@cortlandclub.com
SUMMARY:Clubhouse - Reserved
DESCRIPTION:Barrett Party
URL:https://cortlandclub.com/event/clubhouse-reservation-pending-20/
LOCATION:Clubhouse
ATTACH;FMTTYPE=image/jpeg:https://cortlandclub.com/wp-content/uploads/2017/11/Reserved.jpg
END:VEVENT
BEGIN:VEVENT
DTSTART;TZID=America/New_York:20230517T170000
DTEND;TZID=America/New_York:20230517T190000
DTSTAMP:20260420T074540
CREATED:20230509T010152Z
LAST-MODIFIED:20230509T010152Z
UID:5978-1684342800-1684350000@cortlandclub.com
SUMMARY:Wednesday Work Night
DESCRIPTION:
URL:https://cortlandclub.com/event/wednesday-work-night-25/
ATTACH;FMTTYPE=image/jpeg:https://cortlandclub.com/wp-content/uploads/2021/03/Work-Day.jpg
END:VEVENT
BEGIN:VEVENT
DTSTART;TZID=America/New_York:20230520T080000
DTEND;TZID=America/New_York:20230520T160000
DTSTAMP:20260420T074540
CREATED:20220614T042225Z
LAST-MODIFIED:20230303T055350Z
UID:5366-1684569600-1684598400@cortlandclub.com
SUMMARY:Spring Brunch - Clubhouse & Closed Shelter - Reserved
DESCRIPTION:Spring Brunch \n10am seating \n11am seating \n12pm seating
URL:https://cortlandclub.com/event/spring-brunch-closed-shelter-reserved/
LOCATION:Closed Shelter
ATTACH;FMTTYPE=image/jpeg:https://cortlandclub.com/wp-content/uploads/2021/03/brunch.jpg
END:VEVENT
BEGIN:VEVENT
DTSTART;TZID=America/New_York:20230520T173000
DTEND;TZID=America/New_York:20230520T213000
DTSTAMP:20260420T074540
CREATED:20221112T035759Z
LAST-MODIFIED:20230411T032338Z
UID:5512-1684603800-1684618200@cortlandclub.com
SUMMARY:Closed Shelter - Reserved
DESCRIPTION:Seikel Party
URL:https://cortlandclub.com/event/closed-shelter-reserved-23/
LOCATION:Closed Shelter
ATTACH;FMTTYPE=image/jpeg:https://cortlandclub.com/wp-content/uploads/2017/11/Reserved.jpg
END:VEVENT
BEGIN:VEVENT
DTSTART;TZID=America/New_York:20230521T130000
DTEND;TZID=America/New_York:20230521T210000
DTSTAMP:20260420T074540
CREATED:20230510T024601Z
LAST-MODIFIED:20230510T024601Z
UID:6037-1684674000-1684702800@cortlandclub.com
SUMMARY:Closed shelter - Reserved
DESCRIPTION:Allen Party
URL:https://cortlandclub.com/event/closed-shelter-reserved-33/
LOCATION:Closed Shelter
ATTACH;FMTTYPE=image/jpeg:https://cortlandclub.com/wp-content/uploads/2017/11/Reserved.jpg
END:VEVENT
BEGIN:VEVENT
DTSTART;TZID=America/New_York:20230524T160000
DTEND;TZID=America/New_York:20230524T200000
DTSTAMP:20260420T074540
CREATED:20230519T013159Z
LAST-MODIFIED:20230519T013412Z
UID:6054-1684944000-1684958400@cortlandclub.com
SUMMARY:Closed Shelter - Reserved
DESCRIPTION:Goyzueta Party
URL:https://cortlandclub.com/event/closed-shelter-reserved-36/
LOCATION:Closed Shelter
ATTACH;FMTTYPE=image/jpeg:https://cortlandclub.com/wp-content/uploads/2017/11/Reserved.jpg
END:VEVENT
BEGIN:VEVENT
DTSTART;TZID=America/New_York:20230525T193000
DTEND;TZID=America/New_York:20230525T203000
DTSTAMP:20260420T074540
CREATED:20230127T034925Z
LAST-MODIFIED:20230127T035013Z
UID:5642-1685043000-1685046600@cortlandclub.com
SUMMARY:Membership Meeting
DESCRIPTION:
URL:https://cortlandclub.com/event/membership-meeting-43/
LOCATION:Closed Shelter
ATTACH;FMTTYPE=image/png:https://cortlandclub.com/wp-content/uploads/2017/07/Members-1.png
END:VEVENT
BEGIN:VEVENT
DTSTART;TZID=America/New_York:20230527T120000
DTEND;TZID=America/New_York:20230527T200000
DTSTAMP:20260420T074540
CREATED:20230303T205906Z
LAST-MODIFIED:20230312T011309Z
UID:5845-1685188800-1685217600@cortlandclub.com
SUMMARY:Clubhouse - Reserved
DESCRIPTION:Musolf Party
URL:https://cortlandclub.com/event/clubhouse-reservation-pending-23/
LOCATION:Clubhouse
ATTACH;FMTTYPE=image/jpeg:https://cortlandclub.com/wp-content/uploads/2017/11/Reserved.jpg
END:VEVENT
BEGIN:VEVENT
DTSTART;TZID=America/New_York:20230527T120000
DTEND;TZID=America/New_York:20230527T233000
DTSTAMP:20260420T074540
CREATED:20230111T035842Z
LAST-MODIFIED:20230210T211612Z
UID:5627-1685188800-1685230200@cortlandclub.com
SUMMARY:Closed Shelter - Reserved
DESCRIPTION:Vanca Party
URL:https://cortlandclub.com/event/closed-shelter-reservation-pending-16/
LOCATION:Closed Shelter
ATTACH;FMTTYPE=image/jpeg:https://cortlandclub.com/wp-content/uploads/2017/11/Reserved.jpg
END:VEVENT
BEGIN:VEVENT
DTSTART;TZID=America/New_York:20230528T100000
DTEND;TZID=America/New_York:20230528T210000
DTSTAMP:20260420T074540
CREATED:20230206T014831Z
LAST-MODIFIED:20230210T211855Z
UID:5706-1685268000-1685307600@cortlandclub.com
SUMMARY:Closed Shelter - Reserved
DESCRIPTION:Dimos Party
URL:https://cortlandclub.com/event/closed-shelter-reservation-pending-19/
LOCATION:Closed Shelter
ATTACH;FMTTYPE=image/jpeg:https://cortlandclub.com/wp-content/uploads/2017/11/Reserved.jpg
END:VEVENT
BEGIN:VEVENT
DTSTART;TZID=America/New_York:20230602T170000
DTEND;TZID=America/New_York:20230602T210000
DTSTAMP:20260420T074540
CREATED:20230417T212531Z
LAST-MODIFIED:20230417T212531Z
UID:5912-1685725200-1685739600@cortlandclub.com
SUMMARY:Closed Shelter - Reserved
DESCRIPTION:Sprockett Party
URL:https://cortlandclub.com/event/closed-shelter-reserved-34/
LOCATION:Closed Shelter
ATTACH;FMTTYPE=image/jpeg:https://cortlandclub.com/wp-content/uploads/2017/11/Reserved.jpg
END:VEVENT
BEGIN:VEVENT
DTSTART;VALUE=DATE:20230603
DTEND;VALUE=DATE:20230605
DTSTAMP:20260420T074540
CREATED:20230206T035904Z
LAST-MODIFIED:20230206T041114Z
UID:5718-1685750400-1685923199@cortlandclub.com
SUMMARY:No Reservations Accepted Weekend
DESCRIPTION:All Weekends from Memorial Day thru Labor Day. \n  \nWeekdays are still available through the summer months! \n 
URL:https://cortlandclub.com/event/no-reservations-accepted-weekend-15/
ATTACH;FMTTYPE=image/jpeg:https://cortlandclub.com/wp-content/uploads/2022/02/blackout-dates-photo.jpeg
END:VEVENT
BEGIN:VEVENT
DTSTART;TZID=America/New_York:20230606T180000
DTEND;TZID=America/New_York:20230606T200000
DTSTAMP:20260420T074540
CREATED:20230509T024514Z
LAST-MODIFIED:20230509T024514Z
UID:6022-1686074400-1686081600@cortlandclub.com
SUMMARY:Book Club
DESCRIPTION:
URL:https://cortlandclub.com/event/book-club-9/
LOCATION:Closed Shelter
ATTACH;FMTTYPE=image/jpeg:https://cortlandclub.com/wp-content/uploads/2022/03/Bookclub.jpeg
END:VEVENT
BEGIN:VEVENT
DTSTART;TZID=America/New_York:20230607T180000
DTEND;TZID=America/New_York:20230607T200000
DTSTAMP:20260420T074540
CREATED:20230509T023500Z
LAST-MODIFIED:20230509T023500Z
UID:6011-1686160800-1686168000@cortlandclub.com
SUMMARY:Supper Club
DESCRIPTION:
URL:https://cortlandclub.com/event/supper-club-2/
LOCATION:Closed Shelter
ATTACH;FMTTYPE=image/jpeg:https://cortlandclub.com/wp-content/uploads/2018/04/supperCLUB-e1523192452964.jpg
END:VEVENT
BEGIN:VEVENT
DTSTART;TZID=America/New_York:20230609T150000
DTEND;TZID=America/New_York:20230609T210000
DTSTAMP:20260420T074540
CREATED:20230510T025109Z
LAST-MODIFIED:20230516T012334Z
UID:6041-1686322800-1686344400@cortlandclub.com
SUMMARY:Closed shelter - Reserved
DESCRIPTION:Jaros Party
URL:https://cortlandclub.com/event/closed-shelter-reservation-pending-23/
LOCATION:Closed Shelter
ATTACH;FMTTYPE=image/jpeg:https://cortlandclub.com/wp-content/uploads/2017/11/Reserved.jpg
END:VEVENT
BEGIN:VEVENT
DTSTART;VALUE=DATE:20230610
DTEND;VALUE=DATE:20230612
DTSTAMP:20260420T074540
CREATED:20230206T040316Z
LAST-MODIFIED:20230206T040827Z
UID:5722-1686355200-1686527999@cortlandclub.com
SUMMARY:No Reservations Accepted Weekend
DESCRIPTION:All Weekends from Memorial Day thru Labor Day. \n  \nWeekdays are still available through the summer months!
URL:https://cortlandclub.com/event/no-reservations-accepted-weekend-16/
ATTACH;FMTTYPE=image/jpeg:https://cortlandclub.com/wp-content/uploads/2022/02/blackout-dates-photo.jpeg
END:VEVENT
BEGIN:VEVENT
DTSTART;TZID=America/New_York:20230614T170000
DTEND;TZID=America/New_York:20230614T190000
DTSTAMP:20260420T074540
CREATED:20230509T010800Z
LAST-MODIFIED:20230509T010800Z
UID:5980-1686762000-1686769200@cortlandclub.com
SUMMARY:Wednesday Work Night
DESCRIPTION:
URL:https://cortlandclub.com/event/wednesday-work-night-26/
ATTACH;FMTTYPE=image/jpeg:https://cortlandclub.com/wp-content/uploads/2021/03/Work-Day.jpg
END:VEVENT
BEGIN:VEVENT
DTSTART;TZID=America/New_York:20230614T190000
DTEND;TZID=America/New_York:20230614T200000
DTSTAMP:20260420T074540
CREATED:20230127T041755Z
LAST-MODIFIED:20230127T041755Z
UID:5664-1686769200-1686772800@cortlandclub.com
SUMMARY:Trustee Meeting
DESCRIPTION:
URL:https://cortlandclub.com/event/trustee-meeting-18/
LOCATION:Closed Shelter
ATTACH;FMTTYPE=image/png:https://cortlandclub.com/wp-content/uploads/2017/07/Trustees.png
END:VEVENT
BEGIN:VEVENT
DTSTART;TZID=America/New_York:20230615T173000
DTEND;TZID=America/New_York:20230615T203000
DTSTAMP:20260420T074540
CREATED:20230608T172135Z
LAST-MODIFIED:20230608T172135Z
UID:6058-1686850200-1686861000@cortlandclub.com
SUMMARY:Closed Shelter Reserved
DESCRIPTION:Rizzo Party
URL:https://cortlandclub.com/event/closed-shelter-reserved-37/
LOCATION:Closed Shelter
ATTACH;FMTTYPE=image/jpeg:https://cortlandclub.com/wp-content/uploads/2017/11/Reserved.jpg
END:VEVENT
BEGIN:VEVENT
DTSTART;TZID=America/New_York:20230616T160000
DTEND;TZID=America/New_York:20230616T220000
DTSTAMP:20260420T074540
CREATED:20230417T211342Z
LAST-MODIFIED:20230417T211342Z
UID:5904-1686931200-1686952800@cortlandclub.com
SUMMARY:Closed Shelter - Reserved
DESCRIPTION:Flanigan Party
URL:https://cortlandclub.com/event/closed-shelter-reserved-31/
LOCATION:Closed Shelter
ATTACH;FMTTYPE=image/jpeg:https://cortlandclub.com/wp-content/uploads/2017/11/Reserved.jpg
END:VEVENT
BEGIN:VEVENT
DTSTART;VALUE=DATE:20230617
DTEND;VALUE=DATE:20230619
DTSTAMP:20260420T074540
CREATED:20230206T041905Z
LAST-MODIFIED:20230206T042153Z
UID:5727-1686960000-1687132799@cortlandclub.com
SUMMARY:No Reservations Accepted Weekend
DESCRIPTION:All Weekends from Memorial Day thru Labor Day. \n  \nWeekdays are still available through the summer months!
URL:https://cortlandclub.com/event/no-reservations-accepted-weekend-17/
ATTACH;FMTTYPE=image/jpeg:https://cortlandclub.com/wp-content/uploads/2022/02/blackout-dates-photo.jpeg
END:VEVENT
BEGIN:VEVENT
DTSTART;TZID=America/New_York:20230617T150000
DTEND;TZID=America/New_York:20230617T230000
DTSTAMP:20260420T074540
CREATED:20230227T002454Z
LAST-MODIFIED:20230616T180027Z
UID:5806-1687014000-1687042800@cortlandclub.com
SUMMARY:Fish Fry
DESCRIPTION:Hosted by:  Susan Stancher \nGate opens @3pm –  Dinner @6pm \n$6 per Adult\, Kids under 12 are Free!!
URL:https://cortlandclub.com/event/fish-fry-6/
LOCATION:Closed Shelter
ATTACH;FMTTYPE=image/jpeg:https://cortlandclub.com/wp-content/uploads/2018/01/fish-fry.jpg
END:VEVENT
BEGIN:VEVENT
DTSTART;TZID=America/New_York:20230622T193000
DTEND;TZID=America/New_York:20230622T203000
DTSTAMP:20260420T074540
CREATED:20230127T035237Z
LAST-MODIFIED:20230127T035346Z
UID:5644-1687462200-1687465800@cortlandclub.com
SUMMARY:Membership Meeting
DESCRIPTION:
URL:https://cortlandclub.com/event/membership-meeting-44/
LOCATION:Closed Shelter
ATTACH;FMTTYPE=image/png:https://cortlandclub.com/wp-content/uploads/2017/07/Members-1.png
END:VEVENT
BEGIN:VEVENT
DTSTART;VALUE=DATE:20230624
DTEND;VALUE=DATE:20230626
DTSTAMP:20260420T074540
CREATED:20230206T043000Z
LAST-MODIFIED:20230206T043103Z
UID:5730-1687564800-1687737599@cortlandclub.com
SUMMARY:No Reservations Accepted Weekend
DESCRIPTION:All Weekends from Memorial Day thru Labor Day. \n  \nWeekdays are still available through the summer months!
URL:https://cortlandclub.com/event/no-reservations-accepted-weekend-18/
ATTACH;FMTTYPE=image/jpeg:https://cortlandclub.com/wp-content/uploads/2022/02/blackout-dates-photo.jpeg
END:VEVENT
END:VCALENDAR