BEGIN:VCALENDAR
VERSION:2.0
PRODID:-//The Cortland Conservation Club - ECPv6.15.20//NONSGML v1.0//EN
CALSCALE:GREGORIAN
METHOD:PUBLISH
X-WR-CALNAME:The Cortland Conservation Club
X-ORIGINAL-URL:https://cortlandclub.com
X-WR-CALDESC:Events for The Cortland Conservation Club
REFRESH-INTERVAL;VALUE=DURATION:PT1H
X-Robots-Tag:noindex
X-PUBLISHED-TTL:PT1H
BEGIN:VTIMEZONE
TZID:America/New_York
BEGIN:DAYLIGHT
TZOFFSETFROM:-0500
TZOFFSETTO:-0400
TZNAME:EDT
DTSTART:20210314T070000
END:DAYLIGHT
BEGIN:STANDARD
TZOFFSETFROM:-0400
TZOFFSETTO:-0500
TZNAME:EST
DTSTART:20211107T060000
END:STANDARD
BEGIN:DAYLIGHT
TZOFFSETFROM:-0500
TZOFFSETTO:-0400
TZNAME:EDT
DTSTART:20220313T070000
END:DAYLIGHT
BEGIN:STANDARD
TZOFFSETFROM:-0400
TZOFFSETTO:-0500
TZNAME:EST
DTSTART:20221106T060000
END:STANDARD
BEGIN:DAYLIGHT
TZOFFSETFROM:-0500
TZOFFSETTO:-0400
TZNAME:EDT
DTSTART:20230312T070000
END:DAYLIGHT
BEGIN:STANDARD
TZOFFSETFROM:-0400
TZOFFSETTO:-0500
TZNAME:EST
DTSTART:20231105T060000
END:STANDARD
END:VTIMEZONE
BEGIN:VEVENT
DTSTART;TZID=America/New_York:20220615T170000
DTEND;TZID=America/New_York:20220615T190000
DTSTAMP:20260421T000246
CREATED:20220202T034037Z
LAST-MODIFIED:20220307T030856Z
UID:4958-1655312400-1655319600@cortlandclub.com
SUMMARY:Wednesday Work Night
DESCRIPTION:Work Night
URL:https://cortlandclub.com/event/wednesday-work-night-20/
ATTACH;FMTTYPE=image/jpeg:https://cortlandclub.com/wp-content/uploads/2021/03/Work-Day.jpg
END:VEVENT
BEGIN:VEVENT
DTSTART;TZID=America/New_York:20220611T010000
DTEND;TZID=America/New_York:20220612T233000
DTSTAMP:20260421T000246
CREATED:20220202T043136Z
LAST-MODIFIED:20220203T031819Z
UID:4978-1654909200-1655076600@cortlandclub.com
SUMMARY:No Reservations Accepted Weekend
DESCRIPTION:All Weekends from Memorial Day thru Labor Day. \n  \nWeekdays are still available thru the summer months!
URL:https://cortlandclub.com/event/no-reservations-accepted-weekend-2/
ATTACH;FMTTYPE=image/jpeg:https://cortlandclub.com/wp-content/uploads/2022/02/blackout-dates-photo.jpeg
END:VEVENT
BEGIN:VEVENT
DTSTART;TZID=America/New_York:20220610T110000
DTEND;TZID=America/New_York:20220610T233000
DTSTAMP:20260421T000246
CREATED:20220111T070731Z
LAST-MODIFIED:20220116T162755Z
UID:4896-1654858800-1654903800@cortlandclub.com
SUMMARY:Closed Shelter - Reserved
DESCRIPTION:Rager Party
URL:https://cortlandclub.com/event/closed-shelter-reservation-pending-3/
LOCATION:Closed Shelter
ATTACH;FMTTYPE=image/jpeg:https://cortlandclub.com/wp-content/uploads/2017/11/Reserved.jpg
END:VEVENT
BEGIN:VEVENT
DTSTART;TZID=America/New_York:20220608T190000
DTEND;TZID=America/New_York:20220608T210000
DTSTAMP:20260421T000246
CREATED:20220203T031253Z
LAST-MODIFIED:20220203T031253Z
UID:5049-1654714800-1654722000@cortlandclub.com
SUMMARY:Trustee meeting
DESCRIPTION:
URL:https://cortlandclub.com/event/trustee-meeting-7/
LOCATION:Closed Shelter
ATTACH;FMTTYPE=image/png:https://cortlandclub.com/wp-content/uploads/2017/07/Trustees.png
END:VEVENT
BEGIN:VEVENT
DTSTART;TZID=America/New_York:20220607T180000
DTEND;TZID=America/New_York:20220607T200000
DTSTAMP:20260421T000246
CREATED:20220307T034943Z
LAST-MODIFIED:20220307T034943Z
UID:5198-1654624800-1654632000@cortlandclub.com
SUMMARY:Book Club
DESCRIPTION:
URL:https://cortlandclub.com/event/book-club-2/
LOCATION:Closed Shelter
ATTACH;FMTTYPE=image/jpeg:https://cortlandclub.com/wp-content/uploads/2022/03/Bookclub.jpeg
END:VEVENT
BEGIN:VEVENT
DTSTART;TZID=America/New_York:20220604T010000
DTEND;TZID=America/New_York:20220605T233000
DTSTAMP:20260421T000246
CREATED:20220202T042729Z
LAST-MODIFIED:20220203T030800Z
UID:4970-1654304400-1654471800@cortlandclub.com
SUMMARY:No Reservations Accepted Weekend
DESCRIPTION:All Weekends from Memorial Day thru Labor Day. \n  \nWeekdays are still available thru the summer months!
URL:https://cortlandclub.com/event/no-reservations-accepted-weekend/
ATTACH;FMTTYPE=image/jpeg:https://cortlandclub.com/wp-content/uploads/2022/02/blackout-dates-photo.jpeg
END:VEVENT
BEGIN:VEVENT
DTSTART;TZID=America/New_York:20220603T090000
DTEND;TZID=America/New_York:20220603T230000
DTSTAMP:20260421T000246
CREATED:20210710T210908Z
LAST-MODIFIED:20220202T030128Z
UID:4316-1654246800-1654297200@cortlandclub.com
SUMMARY:Open Shelter - Reserved
DESCRIPTION:Kensky Party
URL:https://cortlandclub.com/event/reservation-pending-open-shelter/
LOCATION:Open Shelter
ATTACH;FMTTYPE=image/jpeg:https://cortlandclub.com/wp-content/uploads/2017/11/Reserved.jpg
END:VEVENT
BEGIN:VEVENT
DTSTART;TZID=America/New_York:20220603T090000
DTEND;TZID=America/New_York:20220603T230000
DTSTAMP:20260421T000246
CREATED:20210710T210625Z
LAST-MODIFIED:20220202T030209Z
UID:4312-1654246800-1654297200@cortlandclub.com
SUMMARY:Closed Shelter - Reserved
DESCRIPTION:Delida Party
URL:https://cortlandclub.com/event/reservation-pending-closed-shelter-10/
LOCATION:Closed Shelter
ATTACH;FMTTYPE=image/jpeg:https://cortlandclub.com/wp-content/uploads/2017/11/Reserved.jpg
END:VEVENT
BEGIN:VEVENT
DTSTART;TZID=America/New_York:20220601T180000
DTEND;TZID=America/New_York:20220601T200000
DTSTAMP:20260421T000246
CREATED:20220203T031142Z
LAST-MODIFIED:20220203T031142Z
UID:5047-1654106400-1654113600@cortlandclub.com
SUMMARY:Wednesday Night Supper Club
DESCRIPTION:
URL:https://cortlandclub.com/event/wednesday-night-supper-club-21/
LOCATION:Closed Shelter
ATTACH;FMTTYPE=image/jpeg:https://cortlandclub.com/wp-content/uploads/2018/04/supperCLUB-e1523192452964.jpg
END:VEVENT
BEGIN:VEVENT
DTSTART;TZID=America/New_York:20220529T110000
DTEND;TZID=America/New_York:20220529T200000
DTSTAMP:20260421T000246
CREATED:20210921T003305Z
LAST-MODIFIED:20220202T030233Z
UID:4552-1653822000-1653854400@cortlandclub.com
SUMMARY:Closed Shelter - Reserved
DESCRIPTION:Jaros Party
URL:https://cortlandclub.com/event/reservation-closed-shelter-29/
LOCATION:Closed Shelter
ATTACH;FMTTYPE=image/jpeg:https://cortlandclub.com/wp-content/uploads/2017/11/Reserved.jpg
END:VEVENT
BEGIN:VEVENT
DTSTART;TZID=America/New_York:20220528T140000
DTEND;TZID=America/New_York:20220528T170000
DTSTAMP:20260421T000246
CREATED:20220515T044011Z
LAST-MODIFIED:20220515T044011Z
UID:5335-1653746400-1653757200@cortlandclub.com
SUMMARY:Open Shelter - Reservation Approved
DESCRIPTION:Barrett Party
URL:https://cortlandclub.com/event/open-shelter-reservation-approved/
LOCATION:Open Shelter
END:VEVENT
BEGIN:VEVENT
DTSTART;TZID=America/New_York:20220528T080000
DTEND;TZID=America/New_York:20220528T233000
DTSTAMP:20260421T000246
CREATED:20210603T174820Z
LAST-MODIFIED:20220527T182906Z
UID:4010-1653724800-1653780600@cortlandclub.com
SUMMARY:Clubhouse - Reserved
DESCRIPTION:Bagaglia Party
URL:https://cortlandclub.com/event/reservation-pending-clubhouse-12/
LOCATION:Clubhouse
ATTACH;FMTTYPE=image/jpeg:https://cortlandclub.com/wp-content/uploads/2017/11/Reserved.jpg
END:VEVENT
BEGIN:VEVENT
DTSTART;TZID=America/New_York:20220528T080000
DTEND;TZID=America/New_York:20220528T233000
DTSTAMP:20260421T000246
CREATED:20210603T174635Z
LAST-MODIFIED:20220527T182605Z
UID:4008-1653724800-1653780600@cortlandclub.com
SUMMARY:Closed Shelter - Reserved
DESCRIPTION:Best Party
URL:https://cortlandclub.com/event/reservation-pending-closed-shelter-8/
LOCATION:Closed Shelter
ATTACH;FMTTYPE=image/jpeg:https://cortlandclub.com/wp-content/uploads/2017/11/Reserved.jpg
END:VEVENT
BEGIN:VEVENT
DTSTART;TZID=America/New_York:20220527T170000
DTEND;TZID=America/New_York:20220527T233000
DTSTAMP:20260421T000246
CREATED:20220524T043517Z
LAST-MODIFIED:20220524T043517Z
UID:5345-1653670800-1653694200@cortlandclub.com
SUMMARY:Closed Shelter - Reserved
DESCRIPTION:Best Party
URL:https://cortlandclub.com/event/closed-shelter-reserved/
LOCATION:Closed Shelter
ATTACH;FMTTYPE=image/jpeg:https://cortlandclub.com/wp-content/uploads/2017/11/Reserved.jpg
END:VEVENT
BEGIN:VEVENT
DTSTART;TZID=America/New_York:20220527T140000
DTEND;TZID=America/New_York:20220527T200000
DTSTAMP:20260421T000246
CREATED:20220428T045702Z
LAST-MODIFIED:20220515T043303Z
UID:5309-1653660000-1653681600@cortlandclub.com
SUMMARY:Clubhouse - Reservation Approved
DESCRIPTION:Brown Party
URL:https://cortlandclub.com/event/clubhouse-reservation-pending-4/
LOCATION:Clubhouse
ATTACH;FMTTYPE=image/jpeg:https://cortlandclub.com/wp-content/uploads/2017/11/Reserved.jpg
END:VEVENT
BEGIN:VEVENT
DTSTART;TZID=America/New_York:20220526T193000
DTEND;TZID=America/New_York:20220526T203000
DTSTAMP:20260421T000246
CREATED:20220203T030448Z
LAST-MODIFIED:20220203T030854Z
UID:5042-1653593400-1653597000@cortlandclub.com
SUMMARY:Membership Meeting
DESCRIPTION:
URL:https://cortlandclub.com/event/membership-meeting-33/
LOCATION:Closed Shelter
ATTACH;FMTTYPE=image/png:https://cortlandclub.com/wp-content/uploads/2017/07/Members-1.png
END:VEVENT
BEGIN:VEVENT
DTSTART;TZID=America/New_York:20220523T120000
DTEND;TZID=America/New_York:20220523T210000
DTSTAMP:20260421T000246
CREATED:20220428T045820Z
LAST-MODIFIED:20220515T044931Z
UID:5311-1653307200-1653339600@cortlandclub.com
SUMMARY:Closed Shelter - Reserved
DESCRIPTION:Miller Party
URL:https://cortlandclub.com/event/closed-shelter-reservation/
LOCATION:Closed Shelter
ATTACH;FMTTYPE=image/jpeg:https://cortlandclub.com/wp-content/uploads/2017/11/Reserved.jpg
END:VEVENT
BEGIN:VEVENT
DTSTART;TZID=America/New_York:20220522T110000
DTEND;TZID=America/New_York:20220522T230000
DTSTAMP:20260421T000246
CREATED:20220111T070917Z
LAST-MODIFIED:20220116T163809Z
UID:4898-1653217200-1653260400@cortlandclub.com
SUMMARY:Closed Shelter - Reserved
DESCRIPTION:DePaul Party
URL:https://cortlandclub.com/event/closed-shelter-reservation-pending-4/
LOCATION:Closed Shelter
ATTACH;FMTTYPE=image/jpeg:https://cortlandclub.com/wp-content/uploads/2017/11/Reserved.jpg
END:VEVENT
BEGIN:VEVENT
DTSTART;TZID=America/New_York:20220522T090000
DTEND;TZID=America/New_York:20220522T220000
DTSTAMP:20260421T000246
CREATED:20220203T022714Z
LAST-MODIFIED:20220203T022714Z
UID:5011-1653210000-1653256800@cortlandclub.com
SUMMARY:Clubhouse - Reserved
DESCRIPTION:Kiepper Party
URL:https://cortlandclub.com/event/clubhouse-reserved-7/
LOCATION:Clubhouse
ATTACH;FMTTYPE=image/jpeg:https://cortlandclub.com/wp-content/uploads/2017/11/Reserved.jpg
END:VEVENT
BEGIN:VEVENT
DTSTART;TZID=America/New_York:20220521T100000
DTEND;TZID=America/New_York:20220521T120000
DTSTAMP:20260421T000246
CREATED:20220203T025502Z
LAST-MODIFIED:20220203T025611Z
UID:5033-1653127200-1653134400@cortlandclub.com
SUMMARY:Trustee Brunch - Open Shelter
DESCRIPTION:10am seating \n11am seating \n12pm seating
URL:https://cortlandclub.com/event/trustee-brunch-2/
LOCATION:Open Shelter
ATTACH;FMTTYPE=image/jpeg:https://cortlandclub.com/wp-content/uploads/2021/03/brunch.jpg
END:VEVENT
BEGIN:VEVENT
DTSTART;TZID=America/New_York:20220521T100000
DTEND;TZID=America/New_York:20220521T120000
DTSTAMP:20260421T000246
CREATED:20220203T025354Z
LAST-MODIFIED:20220203T025709Z
UID:5029-1653127200-1653134400@cortlandclub.com
SUMMARY:Trustee Brunch - Clubhouse
DESCRIPTION:10am seating \n11am seating \n12pm seating
URL:https://cortlandclub.com/event/trustee-brunch/
LOCATION:Clubhouse
ATTACH;FMTTYPE=image/jpeg:https://cortlandclub.com/wp-content/uploads/2021/03/brunch.jpg
END:VEVENT
BEGIN:VEVENT
DTSTART;TZID=America/New_York:20220521T080000
DTEND;TZID=America/New_York:20220521T220000
DTSTAMP:20260421T000246
CREATED:20210903T142055Z
LAST-MODIFIED:20220202T030322Z
UID:4517-1653120000-1653170400@cortlandclub.com
SUMMARY:Closed Shelter - Reserved
DESCRIPTION:Pierce Party
URL:https://cortlandclub.com/event/reservation-pending-open-shelter-3/
LOCATION:Closed Shelter
ATTACH;FMTTYPE=image/jpeg:https://cortlandclub.com/wp-content/uploads/2017/11/Reserved.jpg
END:VEVENT
BEGIN:VEVENT
DTSTART;TZID=America/New_York:20220520T170000
DTEND;TZID=America/New_York:20220520T220000
DTSTAMP:20260421T000246
CREATED:20220428T050744Z
LAST-MODIFIED:20220515T043008Z
UID:5316-1653066000-1653084000@cortlandclub.com
SUMMARY:Closed Shelter - Reservation Approved
DESCRIPTION:Goyzueta Party
URL:https://cortlandclub.com/event/closed-shelter-reservation-pending-7/
LOCATION:Closed Shelter
ATTACH;FMTTYPE=image/jpeg:https://cortlandclub.com/wp-content/uploads/2017/11/Reserved.jpg
END:VEVENT
BEGIN:VEVENT
DTSTART;TZID=America/New_York:20220520T160000
DTEND;TZID=America/New_York:20220520T210000
DTSTAMP:20260421T000246
CREATED:20220428T050150Z
LAST-MODIFIED:20220428T050150Z
UID:5313-1653062400-1653080400@cortlandclub.com
SUMMARY:Clubhouse - Reserved
DESCRIPTION:Spring Brunch – Prep n set up
URL:https://cortlandclub.com/event/clubhouse-reserved-14/
LOCATION:Clubhouse
ATTACH;FMTTYPE=image/jpeg:https://cortlandclub.com/wp-content/uploads/2017/11/Reserved.jpg
END:VEVENT
BEGIN:VEVENT
DTSTART;TZID=America/New_York:20220518T170000
DTEND;TZID=America/New_York:20220518T190000
DTSTAMP:20260421T000246
CREATED:20220202T040726Z
LAST-MODIFIED:20220307T030739Z
UID:4968-1652893200-1652900400@cortlandclub.com
SUMMARY:Wednesday Work Night
DESCRIPTION:Work Night
URL:https://cortlandclub.com/event/wednesday-work-night-24/
ATTACH;FMTTYPE=image/jpeg:https://cortlandclub.com/wp-content/uploads/2021/03/Work-Day.jpg
END:VEVENT
BEGIN:VEVENT
DTSTART;TZID=America/New_York:20220515T100000
DTEND;TZID=America/New_York:20220515T200000
DTSTAMP:20260421T000246
CREATED:20220301T004804Z
LAST-MODIFIED:20220301T004804Z
UID:5174-1652608800-1652644800@cortlandclub.com
SUMMARY:Reservation - Clubhouse
DESCRIPTION:Dimos Party
URL:https://cortlandclub.com/event/reservation-clubhouse-128/
LOCATION:Clubhouse
ATTACH;FMTTYPE=image/jpeg:https://cortlandclub.com/wp-content/uploads/2017/11/Reserved.jpg
END:VEVENT
BEGIN:VEVENT
DTSTART;TZID=America/New_York:20220515T090000
DTEND;TZID=America/New_York:20220515T230000
DTSTAMP:20260421T000246
CREATED:20220301T003842Z
LAST-MODIFIED:20220317T015302Z
UID:5168-1652605200-1652655600@cortlandclub.com
SUMMARY:Reservation - Closed Shelter
DESCRIPTION:Rager Party
URL:https://cortlandclub.com/event/reservation-pending-closed-shelter-9/
LOCATION:Closed Shelter
ATTACH;FMTTYPE=image/jpeg:https://cortlandclub.com/wp-content/uploads/2017/11/Reserved.jpg
END:VEVENT
BEGIN:VEVENT
DTSTART;TZID=America/New_York:20220514T120000
DTEND;TZID=America/New_York:20220514T233000
DTSTAMP:20260421T000246
CREATED:20220111T070229Z
LAST-MODIFIED:20220116T171633Z
UID:4892-1652529600-1652571000@cortlandclub.com
SUMMARY:Closed Shelter - Reserved
DESCRIPTION:Diamond Party
URL:https://cortlandclub.com/event/closed-shelter-reservation-pending-2/
LOCATION:Closed Shelter
ATTACH;FMTTYPE=image/jpeg:https://cortlandclub.com/wp-content/uploads/2017/11/Reserved.jpg
END:VEVENT
BEGIN:VEVENT
DTSTART;TZID=America/New_York:20220511T190000
DTEND;TZID=America/New_York:20220511T210000
DTSTAMP:20260421T000246
CREATED:20220203T030004Z
LAST-MODIFIED:20220203T030004Z
UID:5038-1652295600-1652302800@cortlandclub.com
SUMMARY:Trustee Meeting
DESCRIPTION:
URL:https://cortlandclub.com/event/trustee-meeting-6/
LOCATION:Closed Shelter
ATTACH;FMTTYPE=image/png:https://cortlandclub.com/wp-content/uploads/2017/07/Trustees.png
END:VEVENT
BEGIN:VEVENT
DTSTART;TZID=America/New_York:20220508T120000
DTEND;TZID=America/New_York:20220508T200000
DTSTAMP:20260421T000246
CREATED:20220503T072257Z
LAST-MODIFIED:20220503T072257Z
UID:5328-1652011200-1652040000@cortlandclub.com
SUMMARY:Closed Shelter - Reserved
DESCRIPTION:Dimos Party
URL:https://cortlandclub.com/event/closed-shelter-reserved-5/
LOCATION:Closed Shelter
ATTACH;FMTTYPE=image/jpeg:https://cortlandclub.com/wp-content/uploads/2017/11/Reserved.jpg
END:VEVENT
END:VCALENDAR