BEGIN:VCALENDAR
VERSION:2.0
PRODID:-//The Cortland Conservation Club - ECPv6.15.20//NONSGML v1.0//EN
CALSCALE:GREGORIAN
METHOD:PUBLISH
X-WR-CALNAME:The Cortland Conservation Club
X-ORIGINAL-URL:https://cortlandclub.com
X-WR-CALDESC:Events for The Cortland Conservation Club
REFRESH-INTERVAL;VALUE=DURATION:PT1H
X-Robots-Tag:noindex
X-PUBLISHED-TTL:PT1H
BEGIN:VTIMEZONE
TZID:America/New_York
BEGIN:DAYLIGHT
TZOFFSETFROM:-0500
TZOFFSETTO:-0400
TZNAME:EDT
DTSTART:20200308T070000
END:DAYLIGHT
BEGIN:STANDARD
TZOFFSETFROM:-0400
TZOFFSETTO:-0500
TZNAME:EST
DTSTART:20201101T060000
END:STANDARD
BEGIN:DAYLIGHT
TZOFFSETFROM:-0500
TZOFFSETTO:-0400
TZNAME:EDT
DTSTART:20210314T070000
END:DAYLIGHT
BEGIN:STANDARD
TZOFFSETFROM:-0400
TZOFFSETTO:-0500
TZNAME:EST
DTSTART:20211107T060000
END:STANDARD
BEGIN:DAYLIGHT
TZOFFSETFROM:-0500
TZOFFSETTO:-0400
TZNAME:EDT
DTSTART:20220313T070000
END:DAYLIGHT
BEGIN:STANDARD
TZOFFSETFROM:-0400
TZOFFSETTO:-0500
TZNAME:EST
DTSTART:20221106T060000
END:STANDARD
END:VTIMEZONE
BEGIN:VEVENT
DTSTART;TZID=America/New_York:20211201T180000
DTEND;TZID=America/New_York:20211201T200000
DTSTAMP:20260421T100912
CREATED:20210315T234933Z
LAST-MODIFIED:20210316T024005Z
UID:3690-1638381600-1638388800@cortlandclub.com
SUMMARY:Wednesday Night Super Club
DESCRIPTION:
URL:https://cortlandclub.com/event/wednesday-night-super-club-8/
LOCATION:Closed Shelter
ATTACH;FMTTYPE=image/jpeg:https://cortlandclub.com/wp-content/uploads/2018/04/supperCLUB-e1523192452964.jpg
END:VEVENT
BEGIN:VEVENT
DTSTART;TZID=America/New_York:20211127T100000
DTEND;TZID=America/New_York:20211127T210000
DTSTAMP:20260421T100912
CREATED:20211102T233658Z
LAST-MODIFIED:20211111T014408Z
UID:4784-1638007200-1638046800@cortlandclub.com
SUMMARY:Reservation - Clubhouse
DESCRIPTION:Mrofchak Party
URL:https://cortlandclub.com/event/reservation-closed-shelter-41/
LOCATION:Clubhouse
ATTACH;FMTTYPE=image/jpeg:https://cortlandclub.com/wp-content/uploads/2017/11/Reserved.jpg
END:VEVENT
BEGIN:VEVENT
DTSTART;TZID=America/New_York:20211125T070000
DTEND;TZID=America/New_York:20211125T190000
DTSTAMP:20260421T100912
CREATED:20211011T152356Z
LAST-MODIFIED:20211011T152356Z
UID:4744-1637823600-1637866800@cortlandclub.com
SUMMARY:Reservation  - Closed Shelter
DESCRIPTION:Bradley Party
URL:https://cortlandclub.com/event/reservation-closed-shelter-39/
LOCATION:Closed Shelter
ATTACH;FMTTYPE=image/jpeg:https://cortlandclub.com/wp-content/uploads/2017/11/Reserved.jpg
END:VEVENT
BEGIN:VEVENT
DTSTART;TZID=America/New_York:20211121T110000
DTEND;TZID=America/New_York:20211121T170000
DTSTAMP:20260421T100912
CREATED:20211025T223435Z
LAST-MODIFIED:20211102T232614Z
UID:4770-1637492400-1637514000@cortlandclub.com
SUMMARY:Reservation - Clubhouse
DESCRIPTION:Wilson Party
URL:https://cortlandclub.com/event/reservation-clubhouse-114/
LOCATION:Clubhouse
ATTACH;FMTTYPE=image/jpeg:https://cortlandclub.com/wp-content/uploads/2017/11/Reserved.jpg
END:VEVENT
BEGIN:VEVENT
DTSTART;TZID=America/New_York:20211121T103000
DTEND;TZID=America/New_York:20211121T200000
DTSTAMP:20260421T100912
CREATED:20211011T022248Z
LAST-MODIFIED:20211023T044949Z
UID:4738-1637490600-1637524800@cortlandclub.com
SUMMARY:Reservation - Closed Shelter
DESCRIPTION:Abelt Party
URL:https://cortlandclub.com/event/reservation-pending-closed-shelter-21/
LOCATION:Closed Shelter
ATTACH;FMTTYPE=image/jpeg:https://cortlandclub.com/wp-content/uploads/2017/11/Reserved.jpg
END:VEVENT
BEGIN:VEVENT
DTSTART;TZID=America/New_York:20211120T120000
DTEND;TZID=America/New_York:20211120T230000
DTSTAMP:20260421T100912
CREATED:20210906T021107Z
LAST-MODIFIED:20210915T142917Z
UID:4521-1637409600-1637449200@cortlandclub.com
SUMMARY:Reservation - Closed Shelter
DESCRIPTION:Best Party
URL:https://cortlandclub.com/event/reservation-pending-closed-shelter-19/
LOCATION:Closed Shelter
ATTACH;FMTTYPE=image/jpeg:https://cortlandclub.com/wp-content/uploads/2017/11/Reserved.jpg
END:VEVENT
BEGIN:VEVENT
DTSTART;TZID=America/New_York:20211118T193000
DTEND;TZID=America/New_York:20211118T203000
DTSTAMP:20260421T100912
CREATED:20210316T215756Z
LAST-MODIFIED:20210316T215756Z
UID:3709-1637263800-1637267400@cortlandclub.com
SUMMARY:Membership Meeting
DESCRIPTION:
URL:https://cortlandclub.com/event/membership-meeting-29/
LOCATION:Clubhouse
ATTACH;FMTTYPE=image/png:https://cortlandclub.com/wp-content/uploads/2017/07/Members-1.png
END:VEVENT
BEGIN:VEVENT
DTSTART;TZID=America/New_York:20211114T073000
DTEND;TZID=America/New_York:20211114T193000
DTSTAMP:20260421T100912
CREATED:20211023T052141Z
LAST-MODIFIED:20211023T052141Z
UID:4768-1636875000-1636918200@cortlandclub.com
SUMMARY:Reservation - Clubhouse
DESCRIPTION:Craciun Party
URL:https://cortlandclub.com/event/reservation-clubhouse-113/
LOCATION:Clubhouse
ATTACH;FMTTYPE=image/jpeg:https://cortlandclub.com/wp-content/uploads/2017/11/Reserved.jpg
END:VEVENT
BEGIN:VEVENT
DTSTART;TZID=America/New_York:20211111T190000
DTEND;TZID=America/New_York:20211111T210000
DTSTAMP:20260421T100912
CREATED:20210316T221229Z
LAST-MODIFIED:20211102T235959Z
UID:3725-1636657200-1636664400@cortlandclub.com
SUMMARY:Trustees Meeting
DESCRIPTION:
URL:https://cortlandclub.com/event/trustees-meeting-48/
LOCATION:Clubhouse
ATTACH;FMTTYPE=image/png:https://cortlandclub.com/wp-content/uploads/2017/07/Trustees.png
END:VEVENT
BEGIN:VEVENT
DTSTART;TZID=America/New_York:20211106T170000
DTEND;TZID=America/New_York:20211106T230000
DTSTAMP:20260421T100912
CREATED:20211014T041915Z
LAST-MODIFIED:20211106T013741Z
UID:4748-1636218000-1636239600@cortlandclub.com
SUMMARY:Reservation - Closed Shelter
DESCRIPTION:Petruzzi Party
URL:https://cortlandclub.com/event/reservation-closed-shelter-40/
LOCATION:Closed Shelter
ATTACH;FMTTYPE=image/jpeg:https://cortlandclub.com/wp-content/uploads/2017/11/Reserved.jpg
END:VEVENT
BEGIN:VEVENT
DTSTART;TZID=America/New_York:20211105T180000
DTEND;TZID=America/New_York:20211105T200000
DTSTAMP:20260421T100912
CREATED:20210531T012507Z
LAST-MODIFIED:20210531T012507Z
UID:3972-1636135200-1636142400@cortlandclub.com
SUMMARY:Reservation
DESCRIPTION:Girl Scout Meeting
URL:https://cortlandclub.com/event/reservation-6/
ATTACH;FMTTYPE=image/jpeg:https://cortlandclub.com/wp-content/uploads/2017/11/Reserved.jpg
END:VEVENT
BEGIN:VEVENT
DTSTART;TZID=America/New_York:20211103T180000
DTEND;TZID=America/New_York:20211103T200000
DTSTAMP:20260421T100912
CREATED:20210315T234534Z
LAST-MODIFIED:20210315T234756Z
UID:3688-1635962400-1635969600@cortlandclub.com
SUMMARY:Wednesday Night Super Club
DESCRIPTION:
URL:https://cortlandclub.com/event/wednesday-night-super-club-7/
LOCATION:Closed Shelter
ATTACH;FMTTYPE=image/jpeg:https://cortlandclub.com/wp-content/uploads/2018/04/supperCLUB-e1523192452964.jpg
END:VEVENT
BEGIN:VEVENT
DTSTART;TZID=America/New_York:20211102T183000
DTEND;TZID=America/New_York:20211102T203000
DTSTAMP:20260421T100912
CREATED:20210412T184924Z
LAST-MODIFIED:20210412T184924Z
UID:3816-1635877800-1635885000@cortlandclub.com
SUMMARY:Reservation - Clubhouse
DESCRIPTION:Orsine – United States Power Squadrons
URL:https://cortlandclub.com/event/reservation-clubhouse-103/
LOCATION:Clubhouse
ATTACH;FMTTYPE=image/png:https://cortlandclub.com/wp-content/uploads/2018/01/US_Power_Squadron-e1514993581766.png
END:VEVENT
BEGIN:VEVENT
DTSTART;TZID=America/New_York:20211030T173000
DTEND;TZID=America/New_York:20211030T223000
DTSTAMP:20260421T100912
CREATED:20210816T213312Z
LAST-MODIFIED:20210816T213312Z
UID:4422-1635615000-1635633000@cortlandclub.com
SUMMARY:Reservation - Closed Shelter
DESCRIPTION:Clark Party
URL:https://cortlandclub.com/event/reservation-closed-shelter-35/
LOCATION:Closed Shelter
ATTACH;FMTTYPE=image/jpeg:https://cortlandclub.com/wp-content/uploads/2017/11/Reserved.jpg
END:VEVENT
BEGIN:VEVENT
DTSTART;TZID=America/New_York:20211029T150000
DTEND;TZID=America/New_York:20211029T210000
DTSTAMP:20260421T100912
CREATED:20211011T022832Z
LAST-MODIFIED:20211023T044757Z
UID:4740-1635519600-1635541200@cortlandclub.com
SUMMARY:Reservation - Closed Shelter
DESCRIPTION:Hillman Party
URL:https://cortlandclub.com/event/reservation-pending-closed-shelter-22/
LOCATION:Closed Shelter
ATTACH;FMTTYPE=image/jpeg:https://cortlandclub.com/wp-content/uploads/2017/11/Reserved.jpg
END:VEVENT
BEGIN:VEVENT
DTSTART;TZID=America/New_York:20211028T193000
DTEND;TZID=America/New_York:20211028T203000
DTSTAMP:20260421T100912
CREATED:20210316T215555Z
LAST-MODIFIED:20210316T220221Z
UID:3707-1635449400-1635453000@cortlandclub.com
SUMMARY:Membership Meeting
DESCRIPTION:
URL:https://cortlandclub.com/event/membership-meeting-28/
LOCATION:Clubhouse
ATTACH;FMTTYPE=image/png:https://cortlandclub.com/wp-content/uploads/2017/07/Members-1.png
END:VEVENT
BEGIN:VEVENT
DTSTART;TZID=America/New_York:20211024T090000
DTEND;TZID=America/New_York:20211024T200000
DTSTAMP:20260421T100912
CREATED:20210901T020026Z
LAST-MODIFIED:20210915T143434Z
UID:4514-1635066000-1635105600@cortlandclub.com
SUMMARY:Reservation - Closed Shelter
DESCRIPTION:Toro Party
URL:https://cortlandclub.com/event/reservation-pending-closed-shelter-17/
LOCATION:Closed Shelter
ATTACH;FMTTYPE=image/jpeg:https://cortlandclub.com/wp-content/uploads/2017/11/Reserved.jpg
END:VEVENT
BEGIN:VEVENT
DTSTART;TZID=America/New_York:20211023T110000
DTEND;TZID=America/New_York:20211023T220000
DTSTAMP:20260421T100912
CREATED:20210721T192730Z
LAST-MODIFIED:20210814T164700Z
UID:4347-1634986800-1635026400@cortlandclub.com
SUMMARY:Reservation - Closed Shelter
DESCRIPTION:Rager Party
URL:https://cortlandclub.com/event/reservation-pending-closed-shelter-12/
LOCATION:Closed Shelter
ATTACH;FMTTYPE=image/jpeg:https://cortlandclub.com/wp-content/uploads/2017/11/Reserved.jpg
END:VEVENT
BEGIN:VEVENT
DTSTART;TZID=America/New_York:20211023T090000
DTEND;TZID=America/New_York:20211023T220000
DTSTAMP:20260421T100912
CREATED:20210915T202849Z
LAST-MODIFIED:20211023T044511Z
UID:4550-1634979600-1635026400@cortlandclub.com
SUMMARY:Reservation - Clubhouse
DESCRIPTION:Monti Party
URL:https://cortlandclub.com/event/reservation-pending-clubhouse-15/
LOCATION:Clubhouse
ATTACH;FMTTYPE=image/jpeg:https://cortlandclub.com/wp-content/uploads/2017/11/Reserved.jpg
END:VEVENT
BEGIN:VEVENT
DTSTART;TZID=America/New_York:20211022T170000
DTEND;TZID=America/New_York:20211022T223000
DTSTAMP:20260421T100912
CREATED:20210809T040157Z
LAST-MODIFIED:20210814T164502Z
UID:4373-1634922000-1634941800@cortlandclub.com
SUMMARY:Reservation - Clubhouse
DESCRIPTION:Perlov Party
URL:https://cortlandclub.com/event/reservation-pending-clubhouse-13/
LOCATION:Clubhouse
ATTACH;FMTTYPE=image/jpeg:https://cortlandclub.com/wp-content/uploads/2017/11/Reserved.jpg
END:VEVENT
BEGIN:VEVENT
DTSTART;TZID=America/New_York:20211017T120000
DTEND;TZID=America/New_York:20211017T200000
DTSTAMP:20260421T100912
CREATED:20210922T204246Z
LAST-MODIFIED:20210922T204246Z
UID:4731-1634472000-1634500800@cortlandclub.com
SUMMARY:Reservation - Clubhouse
DESCRIPTION:Foor Party
URL:https://cortlandclub.com/event/reservation-clubhouse-112/
LOCATION:Clubhouse
ATTACH;FMTTYPE=image/jpeg:https://cortlandclub.com/wp-content/uploads/2017/11/Reserved.jpg
END:VEVENT
BEGIN:VEVENT
DTSTART;TZID=America/New_York:20211016T090000
DTEND;TZID=America/New_York:20211016T210000
DTSTAMP:20260421T100912
CREATED:20210531T014708Z
LAST-MODIFIED:20210531T014708Z
UID:3982-1634374800-1634418000@cortlandclub.com
SUMMARY:Octoberfest
DESCRIPTION:
URL:https://cortlandclub.com/event/octoberfest/
LOCATION:Closed Shelter
ATTACH;FMTTYPE=image/jpeg:https://cortlandclub.com/wp-content/uploads/2021/05/oktoberfest-celebration-design.jpg
END:VEVENT
BEGIN:VEVENT
DTSTART;TZID=America/New_York:20211015T180000
DTEND;TZID=America/New_York:20211015T230000
DTSTAMP:20260421T100912
CREATED:20211011T023457Z
LAST-MODIFIED:20211011T023457Z
UID:4742-1634320800-1634338800@cortlandclub.com
SUMMARY:Reservation - Closed Shelter
DESCRIPTION:Bianchi Party
URL:https://cortlandclub.com/event/reservation-closed-shelter-38/
LOCATION:Closed Shelter
ATTACH;FMTTYPE=image/jpeg:https://cortlandclub.com/wp-content/uploads/2017/11/Reserved.jpg
END:VEVENT
BEGIN:VEVENT
DTSTART;TZID=America/New_York:20211013T190000
DTEND;TZID=America/New_York:20211013T210000
DTSTAMP:20260421T100912
CREATED:20210316T221124Z
LAST-MODIFIED:20210703T001403Z
UID:3723-1634151600-1634158800@cortlandclub.com
SUMMARY:Trustees Meeting
DESCRIPTION:
URL:https://cortlandclub.com/event/trustees-meeting-47/
LOCATION:Closed Shelter
ATTACH;FMTTYPE=image/png:https://cortlandclub.com/wp-content/uploads/2017/07/Trustees.png
END:VEVENT
BEGIN:VEVENT
DTSTART;TZID=America/New_York:20211009T120000
DTEND;TZID=America/New_York:20211009T210000
DTSTAMP:20260421T100912
CREATED:20210531T013654Z
LAST-MODIFIED:20210922T203204Z
UID:3980-1633780800-1633813200@cortlandclub.com
SUMMARY:Reservation - Closed Shelter
DESCRIPTION:Mrofchak Party
URL:https://cortlandclub.com/event/reservation-pending-clubhouse-11/
LOCATION:Closed Shelter
ATTACH;FMTTYPE=image/jpeg:https://cortlandclub.com/wp-content/uploads/2017/11/Reserved.jpg
END:VEVENT
BEGIN:VEVENT
DTSTART;TZID=America/New_York:20211006T180000
DTEND;TZID=America/New_York:20211006T200000
DTSTAMP:20260421T100912
CREATED:20210315T234352Z
LAST-MODIFIED:20210315T234352Z
UID:3686-1633543200-1633550400@cortlandclub.com
SUMMARY:Wednesday Night Super Club
DESCRIPTION:
URL:https://cortlandclub.com/event/wednesday-night-super-club-6/
LOCATION:Closed Shelter
ATTACH;FMTTYPE=image/jpeg:https://cortlandclub.com/wp-content/uploads/2018/04/supperCLUB-e1523192452964.jpg
END:VEVENT
BEGIN:VEVENT
DTSTART;TZID=America/New_York:20211005T183000
DTEND;TZID=America/New_York:20211005T203000
DTSTAMP:20260421T100912
CREATED:20210412T184802Z
LAST-MODIFIED:20210412T184802Z
UID:3814-1633458600-1633465800@cortlandclub.com
SUMMARY:Reservation - Clubhouse
DESCRIPTION:Orsine – United States Power Squadrons
URL:https://cortlandclub.com/event/reservation-clubhouse-102/
LOCATION:Clubhouse
ATTACH;FMTTYPE=image/png:https://cortlandclub.com/wp-content/uploads/2018/01/US_Power_Squadron-e1514993581766.png
END:VEVENT
BEGIN:VEVENT
DTSTART;TZID=America/New_York:20211003T130000
DTEND;TZID=America/New_York:20211003T190000
DTSTAMP:20260421T100912
CREATED:20210819T004252Z
LAST-MODIFIED:20210915T144809Z
UID:4497-1633266000-1633287600@cortlandclub.com
SUMMARY:Reservation - Closed Shelter
DESCRIPTION:Macik Party
URL:https://cortlandclub.com/event/reservation-pending-closed-shelter-15/
LOCATION:Closed Shelter
ATTACH;FMTTYPE=image/jpeg:https://cortlandclub.com/wp-content/uploads/2017/11/Reserved.jpg
END:VEVENT
BEGIN:VEVENT
DTSTART;TZID=America/New_York:20211002T140000
DTEND;TZID=America/New_York:20211002T190000
DTSTAMP:20260421T100912
CREATED:20210816T213128Z
LAST-MODIFIED:20210816T213128Z
UID:4420-1633183200-1633201200@cortlandclub.com
SUMMARY:Reservation - Closed Shelter
DESCRIPTION:Holland Party
URL:https://cortlandclub.com/event/reservation-closed-shelter-34/
LOCATION:Closed Shelter
ATTACH;FMTTYPE=image/jpeg:https://cortlandclub.com/wp-content/uploads/2017/11/Reserved.jpg
END:VEVENT
BEGIN:VEVENT
DTSTART;TZID=America/New_York:20211002T080000
DTEND;TZID=America/New_York:20211002T140000
DTSTAMP:20260421T100912
CREATED:20210316T224053Z
LAST-MODIFIED:20210316T224053Z
UID:3745-1633161600-1633183200@cortlandclub.com
SUMMARY:Fall Work Day
DESCRIPTION:
URL:https://cortlandclub.com/event/fall-work-day-5/
ATTACH;FMTTYPE=image/png:https://cortlandclub.com/wp-content/uploads/2021/03/Fall-work-day.png
END:VEVENT
END:VCALENDAR