BEGIN:VCALENDAR
VERSION:2.0
PRODID:-//The Cortland Conservation Club - ECPv6.15.20//NONSGML v1.0//EN
CALSCALE:GREGORIAN
METHOD:PUBLISH
X-WR-CALNAME:The Cortland Conservation Club
X-ORIGINAL-URL:https://cortlandclub.com
X-WR-CALDESC:Events for The Cortland Conservation Club
REFRESH-INTERVAL;VALUE=DURATION:PT1H
X-Robots-Tag:noindex
X-PUBLISHED-TTL:PT1H
BEGIN:VTIMEZONE
TZID:America/New_York
BEGIN:DAYLIGHT
TZOFFSETFROM:-0500
TZOFFSETTO:-0400
TZNAME:EDT
DTSTART:20210314T070000
END:DAYLIGHT
BEGIN:STANDARD
TZOFFSETFROM:-0400
TZOFFSETTO:-0500
TZNAME:EST
DTSTART:20211107T060000
END:STANDARD
BEGIN:DAYLIGHT
TZOFFSETFROM:-0500
TZOFFSETTO:-0400
TZNAME:EDT
DTSTART:20220313T070000
END:DAYLIGHT
BEGIN:STANDARD
TZOFFSETFROM:-0400
TZOFFSETTO:-0500
TZNAME:EST
DTSTART:20221106T060000
END:STANDARD
BEGIN:DAYLIGHT
TZOFFSETFROM:-0500
TZOFFSETTO:-0400
TZNAME:EDT
DTSTART:20230312T070000
END:DAYLIGHT
BEGIN:STANDARD
TZOFFSETFROM:-0400
TZOFFSETTO:-0500
TZNAME:EST
DTSTART:20231105T060000
END:STANDARD
BEGIN:DAYLIGHT
TZOFFSETFROM:-0500
TZOFFSETTO:-0400
TZNAME:EDT
DTSTART:20240310T070000
END:DAYLIGHT
BEGIN:STANDARD
TZOFFSETFROM:-0400
TZOFFSETTO:-0500
TZNAME:EST
DTSTART:20241103T060000
END:STANDARD
END:VTIMEZONE
BEGIN:VEVENT
DTSTART;TZID=America/New_York:20230212T120000
DTEND;TZID=America/New_York:20230212T233000
DTSTAMP:20260420T123324
CREATED:20221213T051430Z
LAST-MODIFIED:20221213T051430Z
UID:5592-1676203200-1676244600@cortlandclub.com
SUMMARY:Clubhouse - Reserved
DESCRIPTION:Best Party
URL:https://cortlandclub.com/event/clubhouse-reserved-25/
LOCATION:Clubhouse
ATTACH;FMTTYPE=image/jpeg:https://cortlandclub.com/wp-content/uploads/2017/11/Reserved.jpg
END:VEVENT
BEGIN:VEVENT
DTSTART;TZID=America/New_York:20230208T070000
DTEND;TZID=America/New_York:20230208T200000
DTSTAMP:20260420T123324
CREATED:20230127T041109Z
LAST-MODIFIED:20230127T041155Z
UID:5656-1675839600-1675886400@cortlandclub.com
SUMMARY:Trustee Meeting
DESCRIPTION:
URL:https://cortlandclub.com/event/trustee-meeting-14/
LOCATION:Clubhouse
ATTACH;FMTTYPE=image/png:https://cortlandclub.com/wp-content/uploads/2017/07/Trustees.png
END:VEVENT
BEGIN:VEVENT
DTSTART;TZID=America/New_York:20230204T140000
DTEND;TZID=America/New_York:20230204T210000
DTSTAMP:20260420T123324
CREATED:20230205T234046Z
LAST-MODIFIED:20230205T234046Z
UID:5692-1675519200-1675544400@cortlandclub.com
SUMMARY:Clubhouse - Reserved
DESCRIPTION:Bzinak Party
URL:https://cortlandclub.com/event/clubhouse-reserved-28/
LOCATION:Closed Shelter
ATTACH;FMTTYPE=image/jpeg:https://cortlandclub.com/wp-content/uploads/2017/11/Reserved.jpg
END:VEVENT
BEGIN:VEVENT
DTSTART;TZID=America/New_York:20230122T143000
DTEND;TZID=America/New_York:20230122T163000
DTSTAMP:20260420T123324
CREATED:20230102T055628Z
LAST-MODIFIED:20230102T055628Z
UID:5610-1674397800-1674405000@cortlandclub.com
SUMMARY:2023 Annual Membership Meeting
DESCRIPTION:Online Zoom Meeting
URL:https://cortlandclub.com/event/2023-annual-membership-meeting/
LOCATION:Clubhouse
ATTACH;FMTTYPE=image/png:https://cortlandclub.com/wp-content/uploads/2019/01/Annual-Meeting-e1547484109332.png
END:VEVENT
BEGIN:VEVENT
DTSTART;TZID=America/New_York:20230121T170000
DTEND;TZID=America/New_York:20230121T210000
DTSTAMP:20260420T123324
CREATED:20230111T035623Z
LAST-MODIFIED:20230111T035623Z
UID:5625-1674320400-1674334800@cortlandclub.com
SUMMARY:Clubhouse - Reserved
DESCRIPTION:Rager Party
URL:https://cortlandclub.com/event/clubhouse-reserved-27/
LOCATION:Clubhouse
ATTACH;FMTTYPE=image/jpeg:https://cortlandclub.com/wp-content/uploads/2017/11/Reserved.jpg
END:VEVENT
BEGIN:VEVENT
DTSTART;TZID=America/New_York:20230106T150000
DTEND;TZID=America/New_York:20230106T230000
DTSTAMP:20260420T123324
CREATED:20221229T165811Z
LAST-MODIFIED:20221229T165945Z
UID:5603-1673017200-1673046000@cortlandclub.com
SUMMARY:Clubhouse - Reserved
DESCRIPTION:Barrett Party
URL:https://cortlandclub.com/event/5603/
LOCATION:Clubhouse
ATTACH;FMTTYPE=image/jpeg:https://cortlandclub.com/wp-content/uploads/2017/11/Reserved.jpg
END:VEVENT
BEGIN:VEVENT
DTSTART;TZID=America/New_York:20230101T140000
DTEND;TZID=America/New_York:20230101T233000
DTSTAMP:20260420T123324
CREATED:20221213T051309Z
LAST-MODIFIED:20221213T051309Z
UID:5590-1672581600-1672615800@cortlandclub.com
SUMMARY:Clubhouse - Reserved
DESCRIPTION:Rager Party
URL:https://cortlandclub.com/event/clubhouse-reserved-24/
LOCATION:Clubhouse
ATTACH;FMTTYPE=image/jpeg:https://cortlandclub.com/wp-content/uploads/2017/11/Reserved.jpg
END:VEVENT
BEGIN:VEVENT
DTSTART;TZID=America/New_York:20221230T130000
DTEND;TZID=America/New_York:20221230T150000
DTSTAMP:20260420T123324
CREATED:20221112T040001Z
LAST-MODIFIED:20221123T203341Z
UID:5514-1672405200-1672412400@cortlandclub.com
SUMMARY:Clubhouse - Reserved
DESCRIPTION:Gadd Party
URL:https://cortlandclub.com/event/clubhouse-reservation-pending-8/
LOCATION:Clubhouse
ATTACH;FMTTYPE=image/jpeg:https://cortlandclub.com/wp-content/uploads/2017/11/Reserved.jpg
END:VEVENT
BEGIN:VEVENT
DTSTART;TZID=America/New_York:20221224T100000
DTEND;TZID=America/New_York:20221224T230000
DTSTAMP:20260420T123324
CREATED:20221112T040837Z
LAST-MODIFIED:20221123T203021Z
UID:5520-1671876000-1671922800@cortlandclub.com
SUMMARY:Clubhouse - Reserved
DESCRIPTION:Best Party
URL:https://cortlandclub.com/event/clubhouse-reservation-pending-9/
LOCATION:Clubhouse
ATTACH;FMTTYPE=image/jpeg:https://cortlandclub.com/wp-content/uploads/2017/11/Reserved.jpg
END:VEVENT
BEGIN:VEVENT
DTSTART;TZID=America/New_York:20221220T120000
DTEND;TZID=America/New_York:20221220T170000
DTSTAMP:20260420T123324
CREATED:20221213T051118Z
LAST-MODIFIED:20221213T051118Z
UID:5587-1671537600-1671555600@cortlandclub.com
SUMMARY:Closed Shelter - Reserved
DESCRIPTION:Flowers Party
URL:https://cortlandclub.com/event/closed-shelter-reserved-25/
LOCATION:Closed Shelter
ATTACH;FMTTYPE=image/jpeg:https://cortlandclub.com/wp-content/uploads/2017/11/Reserved.jpg
END:VEVENT
BEGIN:VEVENT
DTSTART;TZID=America/New_York:20221218T100000
DTEND;TZID=America/New_York:20221218T180000
DTSTAMP:20260420T123324
CREATED:20220111T065912Z
LAST-MODIFIED:20220202T030014Z
UID:4887-1671357600-1671386400@cortlandclub.com
SUMMARY:Clubhouse - Reserved
DESCRIPTION:Gintert Party
URL:https://cortlandclub.com/event/clubhouse-reserved/
LOCATION:Clubhouse
ATTACH;FMTTYPE=image/jpeg:https://cortlandclub.com/wp-content/uploads/2017/11/Reserved.jpg
END:VEVENT
BEGIN:VEVENT
DTSTART;TZID=America/New_York:20221217T120000
DTEND;TZID=America/New_York:20221217T210000
DTSTAMP:20260420T123324
CREATED:20220328T045007Z
LAST-MODIFIED:20220328T045007Z
UID:5251-1671278400-1671310800@cortlandclub.com
SUMMARY:Clubhouse - Reserved
DESCRIPTION:Frazzini Party
URL:https://cortlandclub.com/event/clubhouse-reserved-10/
LOCATION:Clubhouse
ATTACH;FMTTYPE=image/jpeg:https://cortlandclub.com/wp-content/uploads/2017/11/Reserved.jpg
END:VEVENT
BEGIN:VEVENT
DTSTART;TZID=America/New_York:20221214T190000
DTEND;TZID=America/New_York:20221214T210000
DTSTAMP:20260420T123324
CREATED:20220203T041816Z
LAST-MODIFIED:20220203T041816Z
UID:5114-1671044400-1671051600@cortlandclub.com
SUMMARY:Trustee Meeting
DESCRIPTION:
URL:https://cortlandclub.com/event/trustee-meeting-13/
LOCATION:Clubhouse
ATTACH;FMTTYPE=image/png:https://cortlandclub.com/wp-content/uploads/2017/07/Trustees.png
END:VEVENT
BEGIN:VEVENT
DTSTART;TZID=America/New_York:20221211T140000
DTEND;TZID=America/New_York:20221211T210000
DTSTAMP:20260420T123324
CREATED:20220824T022203Z
LAST-MODIFIED:20220824T022203Z
UID:5432-1670767200-1670792400@cortlandclub.com
SUMMARY:Clubhouse - Reserved
DESCRIPTION:Bzinak Party
URL:https://cortlandclub.com/event/clubhouse-reserved-17/
LOCATION:Clubhouse
ATTACH;FMTTYPE=image/jpeg:https://cortlandclub.com/wp-content/uploads/2017/11/Reserved.jpg
END:VEVENT
BEGIN:VEVENT
DTSTART;TZID=America/New_York:20221210T170000
DTEND;TZID=America/New_York:20221210T220000
DTSTAMP:20260420T123324
CREATED:20220203T042141Z
LAST-MODIFIED:20221213T051530Z
UID:5116-1670691600-1670709600@cortlandclub.com
SUMMARY:Christmas Party Cancelled
DESCRIPTION:
URL:https://cortlandclub.com/event/christmas-party-4/
LOCATION:Clubhouse
ATTACH;FMTTYPE=image/png:https://cortlandclub.com/wp-content/uploads/2022/02/Christmas_Party-e1643862241853.png
END:VEVENT
BEGIN:VEVENT
DTSTART;TZID=America/New_York:20221207T180000
DTEND;TZID=America/New_York:20221207T200000
DTSTAMP:20260420T123324
CREATED:20220203T042554Z
LAST-MODIFIED:20220203T042554Z
UID:5120-1670436000-1670443200@cortlandclub.com
SUMMARY:Wednesday Night Supper Club
DESCRIPTION:
URL:https://cortlandclub.com/event/wednesday-night-supper-club-26/
LOCATION:Clubhouse
ATTACH;FMTTYPE=image/jpeg:https://cortlandclub.com/wp-content/uploads/2018/04/supperCLUB-e1523192452964.jpg
END:VEVENT
BEGIN:VEVENT
DTSTART;TZID=America/New_York:20221206T180000
DTEND;TZID=America/New_York:20221206T203000
DTSTAMP:20260420T123324
CREATED:20221004T163546Z
LAST-MODIFIED:20221004T163546Z
UID:5469-1670349600-1670358600@cortlandclub.com
SUMMARY:Book Club
DESCRIPTION:
URL:https://cortlandclub.com/event/book-club-8/
LOCATION:Closed Shelter
ATTACH;FMTTYPE=image/jpeg:https://cortlandclub.com/wp-content/uploads/2022/03/Bookclub.jpeg
END:VEVENT
BEGIN:VEVENT
DTSTART;TZID=America/New_York:20221204T140000
DTEND;TZID=America/New_York:20221204T210000
DTSTAMP:20260420T123324
CREATED:20220824T022034Z
LAST-MODIFIED:20220824T022312Z
UID:5430-1670162400-1670187600@cortlandclub.com
SUMMARY:Clubhouse - Reserved
DESCRIPTION:Bzinak Party
URL:https://cortlandclub.com/event/clubhouse-reserved-16/
LOCATION:Clubhouse
ATTACH;FMTTYPE=image/jpeg:https://cortlandclub.com/wp-content/uploads/2017/11/Reserved.jpg
END:VEVENT
BEGIN:VEVENT
DTSTART;TZID=America/New_York:20221203T110000
DTEND;TZID=America/New_York:20221203T180000
DTSTAMP:20260420T123324
CREATED:20220913T012424Z
LAST-MODIFIED:20220928T170123Z
UID:5449-1670065200-1670090400@cortlandclub.com
SUMMARY:Clubhouse - Reserved
DESCRIPTION:Notman Party
URL:https://cortlandclub.com/event/clubhouse-reservation-pending-5/
LOCATION:Clubhouse
ATTACH;FMTTYPE=image/jpeg:https://cortlandclub.com/wp-content/uploads/2017/11/Reserved.jpg
END:VEVENT
BEGIN:VEVENT
DTSTART;TZID=America/New_York:20221126T120000
DTEND;TZID=America/New_York:20221126T200000
DTSTAMP:20260420T123324
CREATED:20221123T213445Z
LAST-MODIFIED:20221201T002148Z
UID:5529-1669464000-1669492800@cortlandclub.com
SUMMARY:Clubhouse - Reserved
DESCRIPTION:Matthews Party
URL:https://cortlandclub.com/event/clubhouse-reserved-22/
LOCATION:Clubhouse
ATTACH;FMTTYPE=image/jpeg:https://cortlandclub.com/wp-content/uploads/2017/11/Reserved.jpg
END:VEVENT
BEGIN:VEVENT
DTSTART;TZID=America/New_York:20221125T100000
DTEND;TZID=America/New_York:20221125T150000
DTSTAMP:20260420T123324
CREATED:20221213T201437Z
LAST-MODIFIED:20221213T201437Z
UID:5596-1669370400-1669388400@cortlandclub.com
SUMMARY:Clubhouse - Reserved
DESCRIPTION:Koval Party
URL:https://cortlandclub.com/event/clubhouse-reserved-26/
LOCATION:Clubhouse
ATTACH;FMTTYPE=image/jpeg:https://cortlandclub.com/wp-content/uploads/2017/11/Reserved.jpg
END:VEVENT
BEGIN:VEVENT
DTSTART;TZID=America/New_York:20221124T090000
DTEND;TZID=America/New_York:20221124T170000
DTSTAMP:20260420T123324
CREATED:20221026T225911Z
LAST-MODIFIED:20221026T225911Z
UID:5490-1669280400-1669309200@cortlandclub.com
SUMMARY:Clubhouse - Reserved
DESCRIPTION:Barret Party
URL:https://cortlandclub.com/event/clubhouse-reserved-21/
LOCATION:Clubhouse
ATTACH;FMTTYPE=image/jpeg:https://cortlandclub.com/wp-content/uploads/2017/11/Reserved.jpg
END:VEVENT
BEGIN:VEVENT
DTSTART;TZID=America/New_York:20221123T170000
DTEND;TZID=America/New_York:20221123T220000
DTSTAMP:20260420T123324
CREATED:20221112T040230Z
LAST-MODIFIED:20221112T040230Z
UID:5516-1669222800-1669240800@cortlandclub.com
SUMMARY:Closed Shelter - Reserved
DESCRIPTION:Bradley Party
URL:https://cortlandclub.com/event/closed-shelter-reserved-24/
LOCATION:Closed Shelter
ATTACH;FMTTYPE=image/jpeg:https://cortlandclub.com/wp-content/uploads/2017/11/Reserved.jpg
END:VEVENT
BEGIN:VEVENT
DTSTART;TZID=America/New_York:20221120T153000
DTEND;TZID=America/New_York:20221120T193000
DTSTAMP:20260420T123324
CREATED:20221010T235854Z
LAST-MODIFIED:20221010T235854Z
UID:5476-1668958200-1668972600@cortlandclub.com
SUMMARY:Clubhouse - Reserved
DESCRIPTION:Bzinak Party \n 
URL:https://cortlandclub.com/event/clubhouse-reserved-19/
LOCATION:Clubhouse
ATTACH;FMTTYPE=image/jpeg:https://cortlandclub.com/wp-content/uploads/2017/11/Reserved.jpg
END:VEVENT
BEGIN:VEVENT
DTSTART;TZID=America/New_York:20221117T193000
DTEND;TZID=America/New_York:20221117T203000
DTSTAMP:20260420T123324
CREATED:20220203T041713Z
LAST-MODIFIED:20220203T041713Z
UID:5112-1668713400-1668717000@cortlandclub.com
SUMMARY:Membership Meeting
DESCRIPTION:
URL:https://cortlandclub.com/event/membership-meeting-39/
LOCATION:Closed Shelter
ATTACH;FMTTYPE=image/png:https://cortlandclub.com/wp-content/uploads/2017/07/Members-1.png
END:VEVENT
BEGIN:VEVENT
DTSTART;TZID=America/New_York:20221113T140000
DTEND;TZID=America/New_York:20221113T190000
DTSTAMP:20260420T123324
CREATED:20221018T231053Z
LAST-MODIFIED:20221018T231053Z
UID:5479-1668348000-1668366000@cortlandclub.com
SUMMARY:Clubhouse - Reserved
DESCRIPTION:Kiepper Party
URL:https://cortlandclub.com/event/clubhouse-reserved-20/
LOCATION:Clubhouse
ATTACH;FMTTYPE=image/jpeg:https://cortlandclub.com/wp-content/uploads/2017/11/Reserved.jpg
END:VEVENT
BEGIN:VEVENT
DTSTART;TZID=America/New_York:20221112T160000
DTEND;TZID=America/New_York:20221112T200000
DTSTAMP:20260420T123324
CREATED:20220913T012605Z
LAST-MODIFIED:20220928T170521Z
UID:5451-1668268800-1668283200@cortlandclub.com
SUMMARY:Clubhouse - Reserved
DESCRIPTION:Savu Party
URL:https://cortlandclub.com/event/clubhouse-reservation-pending-6/
LOCATION:Clubhouse
ATTACH;FMTTYPE=image/jpeg:https://cortlandclub.com/wp-content/uploads/2017/11/Reserved.jpg
END:VEVENT
BEGIN:VEVENT
DTSTART;TZID=America/New_York:20221109T190000
DTEND;TZID=America/New_York:20221109T210000
DTSTAMP:20260420T123324
CREATED:20220203T041617Z
LAST-MODIFIED:20220203T041617Z
UID:5110-1668020400-1668027600@cortlandclub.com
SUMMARY:Trustee Meeting
DESCRIPTION:
URL:https://cortlandclub.com/event/trustee-meeting-12/
LOCATION:Closed Shelter
ATTACH;FMTTYPE=image/png:https://cortlandclub.com/wp-content/uploads/2017/07/Trustees.png
END:VEVENT
BEGIN:VEVENT
DTSTART;TZID=America/New_York:20221105T170000
DTEND;TZID=America/New_York:20221105T230000
DTSTAMP:20260420T123324
CREATED:20220913T012737Z
LAST-MODIFIED:20220928T170248Z
UID:5453-1667667600-1667689200@cortlandclub.com
SUMMARY:Closed Shelter - Reserved
DESCRIPTION:Petruzzi Party
URL:https://cortlandclub.com/event/closed-shelter-reservation-pending-12/
LOCATION:Closed Shelter
ATTACH;FMTTYPE=image/jpeg:https://cortlandclub.com/wp-content/uploads/2017/11/Reserved.jpg
END:VEVENT
BEGIN:VEVENT
DTSTART;TZID=America/New_York:20221104T173000
DTEND;TZID=America/New_York:20221104T233000
DTSTAMP:20260420T123324
CREATED:20221026T230228Z
LAST-MODIFIED:20221026T230228Z
UID:5494-1667583000-1667604600@cortlandclub.com
SUMMARY:Closed Shelter - Reserved
DESCRIPTION:Bianchi Party
URL:https://cortlandclub.com/event/closed-shelter-reserved-22/
LOCATION:Closed Shelter
ATTACH;FMTTYPE=image/jpeg:https://cortlandclub.com/wp-content/uploads/2017/11/Reserved.jpg
END:VEVENT
END:VCALENDAR