BEGIN:VCALENDAR
VERSION:2.0
PRODID:-//The Cortland Conservation Club - ECPv6.15.20//NONSGML v1.0//EN
CALSCALE:GREGORIAN
METHOD:PUBLISH
X-WR-CALNAME:The Cortland Conservation Club
X-ORIGINAL-URL:https://cortlandclub.com
X-WR-CALDESC:Events for The Cortland Conservation Club
REFRESH-INTERVAL;VALUE=DURATION:PT1H
X-Robots-Tag:noindex
X-PUBLISHED-TTL:PT1H
BEGIN:VTIMEZONE
TZID:America/New_York
BEGIN:DAYLIGHT
TZOFFSETFROM:-0500
TZOFFSETTO:-0400
TZNAME:EDT
DTSTART:20190310T070000
END:DAYLIGHT
BEGIN:STANDARD
TZOFFSETFROM:-0400
TZOFFSETTO:-0500
TZNAME:EST
DTSTART:20191103T060000
END:STANDARD
BEGIN:DAYLIGHT
TZOFFSETFROM:-0500
TZOFFSETTO:-0400
TZNAME:EDT
DTSTART:20200308T070000
END:DAYLIGHT
BEGIN:STANDARD
TZOFFSETFROM:-0400
TZOFFSETTO:-0500
TZNAME:EST
DTSTART:20201101T060000
END:STANDARD
BEGIN:DAYLIGHT
TZOFFSETFROM:-0500
TZOFFSETTO:-0400
TZNAME:EDT
DTSTART:20210314T070000
END:DAYLIGHT
BEGIN:STANDARD
TZOFFSETFROM:-0400
TZOFFSETTO:-0500
TZNAME:EST
DTSTART:20211107T060000
END:STANDARD
BEGIN:DAYLIGHT
TZOFFSETFROM:-0500
TZOFFSETTO:-0400
TZNAME:EDT
DTSTART:20220313T070000
END:DAYLIGHT
BEGIN:STANDARD
TZOFFSETFROM:-0400
TZOFFSETTO:-0500
TZNAME:EST
DTSTART:20221106T060000
END:STANDARD
END:VTIMEZONE
BEGIN:VEVENT
DTSTART;TZID=America/New_York:20210422T193000
DTEND;TZID=America/New_York:20210422T203000
DTSTAMP:20260421T215703
CREATED:20210316T195535Z
LAST-MODIFIED:20210316T215856Z
UID:3695-1619119800-1619123400@cortlandclub.com
SUMMARY:Membership Meeting
DESCRIPTION:
URL:https://cortlandclub.com/event/membership-meeting-22/
LOCATION:Clubhouse
ATTACH;FMTTYPE=image/png:https://cortlandclub.com/wp-content/uploads/2017/07/Members-1.png
END:VEVENT
BEGIN:VEVENT
DTSTART;TZID=America/New_York:20210414T190000
DTEND;TZID=America/New_York:20210414T210000
DTSTAMP:20260421T215703
CREATED:20210316T220523Z
LAST-MODIFIED:20210316T220523Z
UID:3711-1618426800-1618434000@cortlandclub.com
SUMMARY:Trustees Meeting
DESCRIPTION:
URL:https://cortlandclub.com/event/trustees-meeting-41/
LOCATION:Clubhouse
ATTACH;FMTTYPE=image/png:https://cortlandclub.com/wp-content/uploads/2017/07/Trustees.png
END:VEVENT
BEGIN:VEVENT
DTSTART;TZID=America/New_York:20210404T090000
DTEND;TZID=America/New_York:20210404T200000
DTSTAMP:20260421T215703
CREATED:20210302T031800Z
LAST-MODIFIED:20210302T031800Z
UID:3609-1617526800-1617566400@cortlandclub.com
SUMMARY:Reservation - Clubhouse
DESCRIPTION:DeChant party
URL:https://cortlandclub.com/event/reservation-clubhouse-95/
LOCATION:Clubhouse
ATTACH;FMTTYPE=image/jpeg:https://cortlandclub.com/wp-content/uploads/2017/11/Reserved.jpg
END:VEVENT
BEGIN:VEVENT
DTSTART;TZID=America/New_York:20210325T193000
DTEND;TZID=America/New_York:20210325T203000
DTSTAMP:20260421T215703
CREATED:20210316T195410Z
LAST-MODIFIED:20210316T215037Z
UID:3693-1616700600-1616704200@cortlandclub.com
SUMMARY:Membership Meeting
DESCRIPTION:
URL:https://cortlandclub.com/event/membership-meeting-14/
LOCATION:Clubhouse
ATTACH;FMTTYPE=image/png:https://cortlandclub.com/wp-content/uploads/2017/07/Members-1.png
END:VEVENT
BEGIN:VEVENT
DTSTART;TZID=America/New_York:20210213T130000
DTEND;TZID=America/New_York:20210213T183000
DTSTAMP:20260421T215703
CREATED:20201012T191340Z
LAST-MODIFIED:20201012T205930Z
UID:3273-1613221200-1613241000@cortlandclub.com
SUMMARY:Reservation - Clubhouse
DESCRIPTION:Abelt Party
URL:https://cortlandclub.com/event/reservation-pending-clubhouse-5/
LOCATION:Clubhouse
ATTACH;FMTTYPE=image/jpeg:https://cortlandclub.com/wp-content/uploads/2017/11/Reserved.jpg
END:VEVENT
BEGIN:VEVENT
DTSTART;TZID=America/New_York:20210123T130000
DTEND;TZID=America/New_York:20210123T180000
DTSTAMP:20260421T215703
CREATED:20210112T210825Z
LAST-MODIFIED:20210114T042306Z
UID:3458-1611406800-1611424800@cortlandclub.com
SUMMARY:Reservation Approved - Clubhouse
DESCRIPTION:Foor Party
URL:https://cortlandclub.com/event/clubhouse-reservation-pending-2/
LOCATION:Clubhouse
ATTACH;FMTTYPE=image/jpeg:https://cortlandclub.com/wp-content/uploads/2017/11/Reserved.jpg
END:VEVENT
BEGIN:VEVENT
DTSTART;TZID=America/New_York:20210112T190000
DTEND;TZID=America/New_York:20210112T210000
DTSTAMP:20260421T215703
CREATED:20201123T122320Z
LAST-MODIFIED:20201123T122320Z
UID:3366-1610478000-1610485200@cortlandclub.com
SUMMARY:Audit Committee Meeting
DESCRIPTION:The Audit Committee will be assembling to conduct a review of our 2020 Club Finances. All members are welcome to serve on this committee. 
URL:https://cortlandclub.com/event/audit-committee-meeting-3/
LOCATION:Clubhouse
CATEGORIES:Committee
ATTACH;FMTTYPE=image/jpeg:https://cortlandclub.com/wp-content/uploads/2017/11/Audit_Committee_2.jpg
END:VEVENT
BEGIN:VEVENT
DTSTART;TZID=America/New_York:20210101T130000
DTEND;TZID=America/New_York:20210101T230000
DTSTAMP:20260421T215703
CREATED:20210112T203331Z
LAST-MODIFIED:20210112T203331Z
UID:3454-1609506000-1609542000@cortlandclub.com
SUMMARY:Reservation - Clubhouse
DESCRIPTION:Goyzueta Party
URL:https://cortlandclub.com/event/reservation-clubhouse-75/
LOCATION:Clubhouse
ATTACH;FMTTYPE=image/jpeg:https://cortlandclub.com/wp-content/uploads/2017/11/Reserved.jpg
END:VEVENT
BEGIN:VEVENT
DTSTART;TZID=America/New_York:20201224T120000
DTEND;TZID=America/New_York:20201224T220000
DTSTAMP:20260421T215703
CREATED:20201004T020803Z
LAST-MODIFIED:20201012T210127Z
UID:3216-1608811200-1608847200@cortlandclub.com
SUMMARY:Reservation  - Closed Shelter
DESCRIPTION:Bagaglia Party
URL:https://cortlandclub.com/event/reservation-pending-bagaglia-party-closed-shelter/
LOCATION:Closed Shelter
CATEGORIES:Reservation
ATTACH;FMTTYPE=image/jpeg:https://cortlandclub.com/wp-content/uploads/2017/11/Reserved.jpg
END:VEVENT
BEGIN:VEVENT
DTSTART;TZID=America/New_York:20201224T120000
DTEND;TZID=America/New_York:20201224T220000
DTSTAMP:20260421T215703
CREATED:20201004T020207Z
LAST-MODIFIED:20201012T210235Z
UID:3211-1608811200-1608847200@cortlandclub.com
SUMMARY:Reservation - Clubhouse
DESCRIPTION:Best Party
URL:https://cortlandclub.com/event/reservation-pending-best-party/
LOCATION:Clubhouse
CATEGORIES:Reservation
ATTACH;FMTTYPE=image/jpeg:https://cortlandclub.com/wp-content/uploads/2017/11/Reserved.jpg
END:VEVENT
BEGIN:VEVENT
DTSTART;TZID=America/New_York:20201212T160000
DTEND;TZID=America/New_York:20201212T190000
DTSTAMP:20260421T215703
CREATED:20191120T030226Z
LAST-MODIFIED:20200913T134351Z
UID:2590-1607788800-1607799600@cortlandclub.com
SUMMARY:Canceled - Christmas Party
DESCRIPTION:
URL:https://cortlandclub.com/event/christmas-party-3/
LOCATION:Clubhouse
CATEGORIES:Food
ATTACH;FMTTYPE=image/png:https://cortlandclub.com/wp-content/uploads/2017/08/Christmas_Party-e1503668138541.png
END:VEVENT
BEGIN:VEVENT
DTSTART;TZID=America/New_York:20201209T190000
DTEND;TZID=America/New_York:20201209T210000
DTSTAMP:20260421T215703
CREATED:20191120T010834Z
LAST-MODIFIED:20200913T134415Z
UID:2550-1607540400-1607547600@cortlandclub.com
SUMMARY:Online - Trustees Meeting
DESCRIPTION:
URL:https://cortlandclub.com/event/trustees-meeting-40/
LOCATION:Clubhouse
CATEGORIES:Trustees Meeting
ATTACH;FMTTYPE=image/png:https://cortlandclub.com/wp-content/uploads/2017/07/Trustees.png
END:VEVENT
BEGIN:VEVENT
DTSTART;TZID=America/New_York:20201206T140000
DTEND;TZID=America/New_York:20201206T180000
DTSTAMP:20260421T215703
CREATED:20201012T191452Z
LAST-MODIFIED:20201012T215213Z
UID:3275-1607263200-1607277600@cortlandclub.com
SUMMARY:Reservation - Clubhouse
DESCRIPTION:Bzinak Party
URL:https://cortlandclub.com/event/reservation-pending-clubhouse-6/
LOCATION:Clubhouse
ATTACH;FMTTYPE=image/jpeg:https://cortlandclub.com/wp-content/uploads/2017/11/Reserved.jpg
END:VEVENT
BEGIN:VEVENT
DTSTART;TZID=America/New_York:20201202T180000
DTEND;TZID=America/New_York:20201202T200000
DTSTAMP:20260421T215703
CREATED:20191120T125745Z
LAST-MODIFIED:20200913T134446Z
UID:2615-1606932000-1606939200@cortlandclub.com
SUMMARY:Canceled - Wednesday Night Supper Club
DESCRIPTION:
URL:https://cortlandclub.com/event/wednesday-night-supper-club-20/
LOCATION:Clubhouse
CATEGORIES:Food
ATTACH;FMTTYPE=image/jpeg:https://cortlandclub.com/wp-content/uploads/2018/04/supperCLUB-e1523192452964.jpg
END:VEVENT
BEGIN:VEVENT
DTSTART;TZID=America/New_York:20201128T160000
DTEND;TZID=America/New_York:20201128T180000
DTSTAMP:20260421T215703
CREATED:20201125T134756Z
LAST-MODIFIED:20201125T134756Z
UID:3375-1606579200-1606586400@cortlandclub.com
SUMMARY:Closed Shelter Committee Meeting
DESCRIPTION:We will be assembling our Closed Shelter Committee on Saturday\, November 28th from 4 PM to 6 PM to review the remaining Phase I items of our Closed Shelter project. \nWe will also begin formulating plans for Phase II of our project which will begin in the Spring of 2021. Phase II tentatively includes the following improvements: \n\n\n\nPatio (South end).\nExterior siding and trim.\nSeating (for patio).\nWindows (North and South).\nExterior lighting.\n\n\n\nAll members are welcome to serve as a committee member. This will be an in-person meeting only and will not be held on Zoom. Members must wear a mask and practice social distancing. As of today\, Saturday’s weather looks near perfect\, sunny\, and 47 degrees. We will have a roaring fire in our fireplace to help take the chill off.
URL:https://cortlandclub.com/event/closed-shelter-committee-meeting-2/
LOCATION:Closed Shelter
CATEGORIES:Committee
ATTACH;FMTTYPE=image/png:https://cortlandclub.com/wp-content/uploads/2017/07/Committee.png
ORGANIZER;CN="Michael Bagaglia":MAILTO:m.bagaglia@cortlandclub.com
END:VEVENT
BEGIN:VEVENT
DTSTART;TZID=America/New_York:20201127T173000
DTEND;TZID=America/New_York:20201127T203000
DTSTAMP:20260421T215703
CREATED:20201101T002134Z
LAST-MODIFIED:20201101T002134Z
UID:3323-1606498200-1606509000@cortlandclub.com
SUMMARY:Reservation - Clubhouse
DESCRIPTION:Bzinak Party
URL:https://cortlandclub.com/event/reservation-clubhouse-93/
LOCATION:Clubhouse
ATTACH;FMTTYPE=image/jpeg:https://cortlandclub.com/wp-content/uploads/2017/11/Reserved.jpg
END:VEVENT
BEGIN:VEVENT
DTSTART;TZID=America/New_York:20201127T140000
DTEND;TZID=America/New_York:20201127T220000
DTSTAMP:20260421T215703
CREATED:20201124T165701Z
LAST-MODIFIED:20201124T165727Z
UID:3369-1606485600-1606514400@cortlandclub.com
SUMMARY:Reservation - Closed Shelter
DESCRIPTION:Prince Party
URL:https://cortlandclub.com/event/reservation-closed-shelter-18/
LOCATION:Closed Shelter
CATEGORIES:Reservation
ATTACH;FMTTYPE=image/jpeg:https://cortlandclub.com/wp-content/uploads/2017/11/Reserved.jpg
END:VEVENT
BEGIN:VEVENT
DTSTART;TZID=America/New_York:20201122T130000
DTEND;TZID=America/New_York:20201122T170000
DTSTAMP:20260421T215703
CREATED:20201106T142312Z
LAST-MODIFIED:20201106T142627Z
UID:3333-1606050000-1606064400@cortlandclub.com
SUMMARY:Closed Shelter Work Party
DESCRIPTION:
URL:https://cortlandclub.com/event/closed-shelter-work-party-6/
LOCATION:Closed Shelter
CATEGORIES:Work
END:VEVENT
BEGIN:VEVENT
DTSTART;TZID=America/New_York:20201119T193000
DTEND;TZID=America/New_York:20201119T203000
DTSTAMP:20260421T215703
CREATED:20191119T190213Z
LAST-MODIFIED:20200913T134542Z
UID:2519-1605814200-1605817800@cortlandclub.com
SUMMARY:Online - Membership Meeting
DESCRIPTION:
URL:https://cortlandclub.com/event/membership-meeting-21/
LOCATION:Clubhouse
CATEGORIES:Mermbers Meeting
ATTACH;FMTTYPE=image/png:https://cortlandclub.com/wp-content/uploads/2017/07/Members-1.png
END:VEVENT
BEGIN:VEVENT
DTSTART;TZID=America/New_York:20201115T130000
DTEND;TZID=America/New_York:20201115T170000
DTSTAMP:20260421T215703
CREATED:20201106T142226Z
LAST-MODIFIED:20201106T142226Z
UID:3331-1605445200-1605459600@cortlandclub.com
SUMMARY:Closed Shelter Work Party
DESCRIPTION:
URL:https://cortlandclub.com/event/closed-shelter-work-party-5/
LOCATION:Closed Shelter
CATEGORIES:Work
END:VEVENT
BEGIN:VEVENT
DTSTART;TZID=America/New_York:20201114T080000
DTEND;TZID=America/New_York:20201114T190000
DTSTAMP:20260421T215703
CREATED:20201012T191028Z
LAST-MODIFIED:20201012T210801Z
UID:3269-1605340800-1605380400@cortlandclub.com
SUMMARY:Reservation - Clubhouse
DESCRIPTION:Dimos Party
URL:https://cortlandclub.com/event/reservation-pending-clubhouse-3/
LOCATION:Clubhouse
ATTACH;FMTTYPE=image/jpeg:https://cortlandclub.com/wp-content/uploads/2017/11/Reserved.jpg
END:VEVENT
BEGIN:VEVENT
DTSTART;TZID=America/New_York:20201111T190000
DTEND;TZID=America/New_York:20201111T210000
DTSTAMP:20260421T215703
CREATED:20191120T010632Z
LAST-MODIFIED:20200913T134610Z
UID:2548-1605121200-1605128400@cortlandclub.com
SUMMARY:Online - Trustees Meeting
DESCRIPTION:
URL:https://cortlandclub.com/event/trustees-meeting-39/
LOCATION:Clubhouse
CATEGORIES:Trustees Meeting
ATTACH;FMTTYPE=image/png:https://cortlandclub.com/wp-content/uploads/2017/07/Trustees.png
END:VEVENT
BEGIN:VEVENT
DTSTART;TZID=America/New_York:20201108T130000
DTEND;TZID=America/New_York:20201108T170000
DTSTAMP:20260421T215703
CREATED:20201106T142143Z
LAST-MODIFIED:20201106T142143Z
UID:3329-1604840400-1604854800@cortlandclub.com
SUMMARY:Closed Shelter Work Party
DESCRIPTION:
URL:https://cortlandclub.com/event/closed-shelter-work-party-4/
LOCATION:Closed Shelter
CATEGORIES:Work
END:VEVENT
BEGIN:VEVENT
DTSTART;TZID=America/New_York:20201104T180000
DTEND;TZID=America/New_York:20201104T200000
DTSTAMP:20260421T215703
CREATED:20191120T125631Z
LAST-MODIFIED:20200913T134627Z
UID:2613-1604512800-1604520000@cortlandclub.com
SUMMARY:Canceled - Wednesday Night Supper Club
DESCRIPTION:
URL:https://cortlandclub.com/event/wednesday-night-supper-club-19/
LOCATION:Clubhouse
CATEGORIES:Food
ATTACH;FMTTYPE=image/jpeg:https://cortlandclub.com/wp-content/uploads/2018/04/supperCLUB-e1523192452964.jpg
END:VEVENT
BEGIN:VEVENT
DTSTART;TZID=America/New_York:20201103T183000
DTEND;TZID=America/New_York:20201103T203000
DTSTAMP:20260421T215703
CREATED:20200215T133329Z
LAST-MODIFIED:20200215T133329Z
UID:2874-1604428200-1604435400@cortlandclub.com
SUMMARY:Reservation - Clubhouse
DESCRIPTION:USPS
URL:https://cortlandclub.com/event/reservation-clubhouse-92/
LOCATION:Clubhouse
CATEGORIES:Reservation
ATTACH;FMTTYPE=image/jpeg:https://cortlandclub.com/wp-content/uploads/2017/11/Reserved.jpg
END:VEVENT
BEGIN:VEVENT
DTSTART;TZID=America/New_York:20201101T130000
DTEND;TZID=America/New_York:20201101T170000
DTSTAMP:20260421T215703
CREATED:20201017T125233Z
LAST-MODIFIED:20201106T142054Z
UID:3294-1604235600-1604250000@cortlandclub.com
SUMMARY:Closed Shelter Work Party - Canceled
DESCRIPTION:
URL:https://cortlandclub.com/event/closed-shelter-work-party-3/
LOCATION:Closed Shelter
CATEGORIES:Work
END:VEVENT
BEGIN:VEVENT
DTSTART;TZID=America/New_York:20201031T110000
DTEND;TZID=America/New_York:20201031T163000
DTSTAMP:20260421T215703
CREATED:20201006T012620Z
LAST-MODIFIED:20201012T211135Z
UID:3227-1604142000-1604161800@cortlandclub.com
SUMMARY:Reservation - Clubhouse
DESCRIPTION:Hollenberger Party
URL:https://cortlandclub.com/event/reservation-pending-2/
ATTACH;FMTTYPE=image/jpeg:https://cortlandclub.com/wp-content/uploads/2017/11/Reserved.jpg
END:VEVENT
BEGIN:VEVENT
DTSTART;TZID=America/New_York:20201025T130000
DTEND;TZID=America/New_York:20201025T170000
DTSTAMP:20260421T215703
CREATED:20201017T125142Z
LAST-MODIFIED:20201017T125142Z
UID:3292-1603630800-1603645200@cortlandclub.com
SUMMARY:Closed Shelter Work Party
DESCRIPTION:
URL:https://cortlandclub.com/event/closed-shelter-work-party-2/
LOCATION:Closed Shelter
CATEGORIES:Work
END:VEVENT
BEGIN:VEVENT
DTSTART;TZID=America/New_York:20201022T193000
DTEND;TZID=America/New_York:20201022T203000
DTSTAMP:20260421T215703
CREATED:20191119T190050Z
LAST-MODIFIED:20200913T134649Z
UID:2517-1603395000-1603398600@cortlandclub.com
SUMMARY:Online - Membership Meeting
DESCRIPTION:
URL:https://cortlandclub.com/event/membership-meeting-20/
LOCATION:Clubhouse
CATEGORIES:Mermbers Meeting
ATTACH;FMTTYPE=image/png:https://cortlandclub.com/wp-content/uploads/2017/07/Members-1.png
END:VEVENT
BEGIN:VEVENT
DTSTART;TZID=America/New_York:20201018T170000
DTEND;TZID=America/New_York:20201018T203000
DTSTAMP:20260421T215703
CREATED:20201012T214017Z
LAST-MODIFIED:20201012T214045Z
UID:3285-1603040400-1603053000@cortlandclub.com
SUMMARY:Reservation - Clubhouse
DESCRIPTION:Bzinak Party
URL:https://cortlandclub.com/event/reservation-clubhouse-87/
LOCATION:Clubhouse
ATTACH;FMTTYPE=image/jpeg:https://cortlandclub.com/wp-content/uploads/2017/11/Reserved.jpg
END:VEVENT
END:VCALENDAR