BEGIN:VCALENDAR
VERSION:2.0
PRODID:-//The Cortland Conservation Club - ECPv6.15.20//NONSGML v1.0//EN
CALSCALE:GREGORIAN
METHOD:PUBLISH
X-WR-CALNAME:The Cortland Conservation Club
X-ORIGINAL-URL:https://cortlandclub.com
X-WR-CALDESC:Events for The Cortland Conservation Club
REFRESH-INTERVAL;VALUE=DURATION:PT1H
X-Robots-Tag:noindex
X-PUBLISHED-TTL:PT1H
BEGIN:VTIMEZONE
TZID:America/New_York
BEGIN:DAYLIGHT
TZOFFSETFROM:-0500
TZOFFSETTO:-0400
TZNAME:EDT
DTSTART:20220313T070000
END:DAYLIGHT
BEGIN:STANDARD
TZOFFSETFROM:-0400
TZOFFSETTO:-0500
TZNAME:EST
DTSTART:20221106T060000
END:STANDARD
BEGIN:DAYLIGHT
TZOFFSETFROM:-0500
TZOFFSETTO:-0400
TZNAME:EDT
DTSTART:20230312T070000
END:DAYLIGHT
BEGIN:STANDARD
TZOFFSETFROM:-0400
TZOFFSETTO:-0500
TZNAME:EST
DTSTART:20231105T060000
END:STANDARD
BEGIN:DAYLIGHT
TZOFFSETFROM:-0500
TZOFFSETTO:-0400
TZNAME:EDT
DTSTART:20240310T070000
END:DAYLIGHT
BEGIN:STANDARD
TZOFFSETFROM:-0400
TZOFFSETTO:-0500
TZNAME:EST
DTSTART:20241103T060000
END:STANDARD
BEGIN:DAYLIGHT
TZOFFSETFROM:-0500
TZOFFSETTO:-0400
TZNAME:EDT
DTSTART:20250309T070000
END:DAYLIGHT
BEGIN:STANDARD
TZOFFSETFROM:-0400
TZOFFSETTO:-0500
TZNAME:EST
DTSTART:20251102T060000
END:STANDARD
END:VTIMEZONE
BEGIN:VEVENT
DTSTART;TZID=America/New_York:20240214T190000
DTEND;TZID=America/New_York:20240214T210000
DTSTAMP:20260419T174324
CREATED:20231216T033001Z
LAST-MODIFIED:20231216T033001Z
UID:6420-1707937200-1707944400@cortlandclub.com
SUMMARY:Trustee Meeting
DESCRIPTION:
URL:https://cortlandclub.com/event/trustee-meeting-26/
LOCATION:Clubhouse
ATTACH;FMTTYPE=image/png:https://cortlandclub.com/wp-content/uploads/2017/07/Trustees.png
END:VEVENT
BEGIN:VEVENT
DTSTART;TZID=America/New_York:20240211T120000
DTEND;TZID=America/New_York:20240211T230000
DTSTAMP:20260419T174324
CREATED:20231106T052255Z
LAST-MODIFIED:20231106T052255Z
UID:6250-1707652800-1707692400@cortlandclub.com
SUMMARY:Clubhouse - Reserved
DESCRIPTION:Best Party
URL:https://cortlandclub.com/event/clubhouse-reserved-62/
LOCATION:Clubhouse
ATTACH;FMTTYPE=image/jpeg:https://cortlandclub.com/wp-content/uploads/2017/11/Reserved.jpg
END:VEVENT
BEGIN:VEVENT
DTSTART;TZID=America/New_York:20240211T100000
DTEND;TZID=America/New_York:20240211T230000
DTSTAMP:20260419T174324
CREATED:20231115T232613Z
LAST-MODIFIED:20231115T232613Z
UID:6271-1707645600-1707692400@cortlandclub.com
SUMMARY:Closed Shelter - Reserved
DESCRIPTION:Merkel Party
URL:https://cortlandclub.com/event/closed-shelter-reserved-62/
LOCATION:Closed Shelter
ATTACH;FMTTYPE=image/jpeg:https://cortlandclub.com/wp-content/uploads/2017/11/Reserved.jpg
END:VEVENT
BEGIN:VEVENT
DTSTART;TZID=America/New_York:20240128T143000
DTEND;TZID=America/New_York:20240128T163000
DTSTAMP:20260419T174324
CREATED:20231215T232050Z
LAST-MODIFIED:20231215T232050Z
UID:6327-1706452200-1706459400@cortlandclub.com
SUMMARY:Annual Meeting - In Clubhouse
DESCRIPTION:
URL:https://cortlandclub.com/event/annual-meeting-in-clubhouse/
LOCATION:Clubhouse
ATTACH;FMTTYPE=image/png:https://cortlandclub.com/wp-content/uploads/2019/01/Annual-Meeting-e1547484109332.png
END:VEVENT
BEGIN:VEVENT
DTSTART;TZID=America/New_York:20240110T190000
DTEND;TZID=America/New_York:20240110T200000
DTSTAMP:20260419T174324
CREATED:20231215T231646Z
LAST-MODIFIED:20231215T231646Z
UID:6324-1704913200-1704916800@cortlandclub.com
SUMMARY:Trustee Meeting
DESCRIPTION:
URL:https://cortlandclub.com/event/trustee-meeting-25/
LOCATION:Clubhouse
ATTACH;FMTTYPE=image/png:https://cortlandclub.com/wp-content/uploads/2017/07/Trustees.png
END:VEVENT
BEGIN:VEVENT
DTSTART;TZID=America/New_York:20240109T190000
DTEND;TZID=America/New_York:20240109T220000
DTSTAMP:20260419T174324
CREATED:20231215T231258Z
LAST-MODIFIED:20231215T231517Z
UID:6321-1704826800-1704837600@cortlandclub.com
SUMMARY:Audit Committee Meeting
DESCRIPTION:Charlie Peck
URL:https://cortlandclub.com/event/audit-committee-meeting-4/
LOCATION:Clubhouse
ATTACH;FMTTYPE=image/jpeg:https://cortlandclub.com/wp-content/uploads/2017/11/Audit_Committee_2.jpg
END:VEVENT
BEGIN:VEVENT
DTSTART;TZID=America/New_York:20240106T120000
DTEND;TZID=America/New_York:20240106T200000
DTSTAMP:20260419T174324
CREATED:20231213T222634Z
LAST-MODIFIED:20231213T222634Z
UID:6311-1704542400-1704571200@cortlandclub.com
SUMMARY:Clubhouse - Reserved
DESCRIPTION:Brown Party
URL:https://cortlandclub.com/event/clubhouse-reserved-67/
LOCATION:Clubhouse
ATTACH;FMTTYPE=image/jpeg:https://cortlandclub.com/wp-content/uploads/2017/11/Reserved.jpg
END:VEVENT
BEGIN:VEVENT
DTSTART;TZID=America/New_York:20240103T160000
DTEND;TZID=America/New_York:20240103T180000
DTSTAMP:20260419T174324
CREATED:20231216T042036Z
LAST-MODIFIED:20231216T042036Z
UID:6462-1704297600-1704304800@cortlandclub.com
SUMMARY:Clubhouse - Reserved
DESCRIPTION:Facciolo Party
URL:https://cortlandclub.com/event/clubhouse-reserved-68/
LOCATION:Clubhouse
ATTACH;FMTTYPE=image/jpeg:https://cortlandclub.com/wp-content/uploads/2017/11/Reserved.jpg
END:VEVENT
BEGIN:VEVENT
DTSTART;TZID=America/New_York:20231230T120000
DTEND;TZID=America/New_York:20231230T200000
DTSTAMP:20260419T174324
CREATED:20231106T041212Z
LAST-MODIFIED:20231115T231636Z
UID:6237-1703937600-1703966400@cortlandclub.com
SUMMARY:Clubhouse - Reserved
DESCRIPTION:Toro Party
URL:https://cortlandclub.com/event/clubhouse-reservation-pending/
LOCATION:Clubhouse
ATTACH;FMTTYPE=image/jpeg:https://cortlandclub.com/wp-content/uploads/2017/11/Reserved.jpg
END:VEVENT
BEGIN:VEVENT
DTSTART;TZID=America/New_York:20231228T163000
DTEND;TZID=America/New_York:20231228T220000
DTSTAMP:20260419T174324
CREATED:20231213T222510Z
LAST-MODIFIED:20231213T222510Z
UID:6309-1703781000-1703800800@cortlandclub.com
SUMMARY:Clubhouse - Reserved
DESCRIPTION:DiCristofaro Party
URL:https://cortlandclub.com/event/clubhouse-reserved-66/
LOCATION:Clubhouse
ATTACH;FMTTYPE=image/jpeg:https://cortlandclub.com/wp-content/uploads/2017/11/Reserved.jpg
END:VEVENT
BEGIN:VEVENT
DTSTART;TZID=America/New_York:20231225T100000
DTEND;TZID=America/New_York:20231225T190000
DTSTAMP:20260419T174324
CREATED:20231106T052058Z
LAST-MODIFIED:20231106T052058Z
UID:6247-1703498400-1703530800@cortlandclub.com
SUMMARY:Clubhouse - Reserved
DESCRIPTION:Mrofchak Party
URL:https://cortlandclub.com/event/clubhouse-reserved-61/
LOCATION:Clubhouse
ATTACH;FMTTYPE=image/jpeg:https://cortlandclub.com/wp-content/uploads/2017/11/Reserved.jpg
END:VEVENT
BEGIN:VEVENT
DTSTART;TZID=America/New_York:20231224T100000
DTEND;TZID=America/New_York:20231224T230000
DTSTAMP:20260419T174324
CREATED:20230620T030620Z
LAST-MODIFIED:20230620T030620Z
UID:6079-1703412000-1703458800@cortlandclub.com
SUMMARY:Club House - Reserved
DESCRIPTION:Best Party
URL:https://cortlandclub.com/event/club-house-reserved/
LOCATION:Clubhouse
ATTACH;FMTTYPE=image/jpeg:https://cortlandclub.com/wp-content/uploads/2017/11/Reserved.jpg
END:VEVENT
BEGIN:VEVENT
DTSTART;TZID=America/New_York:20231223T110000
DTEND;TZID=America/New_York:20231223T190000
DTSTAMP:20260419T174324
CREATED:20231213T222359Z
LAST-MODIFIED:20231215T162317Z
UID:6307-1703329200-1703358000@cortlandclub.com
SUMMARY:Clubhouse - Reserved
DESCRIPTION:Guarniere Party
URL:https://cortlandclub.com/event/clubhouse-reservation-pending-27/
LOCATION:Clubhouse
ATTACH;FMTTYPE=image/jpeg:https://cortlandclub.com/wp-content/uploads/2017/11/Reserved.jpg
END:VEVENT
BEGIN:VEVENT
DTSTART;TZID=America/New_York:20231222T140000
DTEND;TZID=America/New_York:20231222T180000
DTSTAMP:20260419T174324
CREATED:20230620T030739Z
LAST-MODIFIED:20230620T030739Z
UID:6081-1703253600-1703268000@cortlandclub.com
SUMMARY:Club House - Reserved
DESCRIPTION:Gadd Party
URL:https://cortlandclub.com/event/club-house-reserved-2/
LOCATION:Clubhouse
ATTACH;FMTTYPE=image/jpeg:https://cortlandclub.com/wp-content/uploads/2017/11/Reserved.jpg
END:VEVENT
BEGIN:VEVENT
DTSTART;TZID=America/New_York:20231216T123000
DTEND;TZID=America/New_York:20231216T220000
DTSTAMP:20260419T174324
CREATED:20230417T211904Z
LAST-MODIFIED:20230417T211904Z
UID:5908-1702729800-1702764000@cortlandclub.com
SUMMARY:Clubhouse - Reserved
DESCRIPTION:Frazzini Party
URL:https://cortlandclub.com/event/clubhouse-reserved-34/
LOCATION:Clubhouse
ATTACH;FMTTYPE=image/jpeg:https://cortlandclub.com/wp-content/uploads/2017/11/Reserved.jpg
END:VEVENT
BEGIN:VEVENT
DTSTART;TZID=America/New_York:20231216T100000
DTEND;TZID=America/New_York:20231216T200000
DTSTAMP:20260419T174324
CREATED:20231115T232829Z
LAST-MODIFIED:20231115T232829Z
UID:6274-1702720800-1702756800@cortlandclub.com
SUMMARY:Closed Shelter - Reserved
DESCRIPTION:Mrofchak Party
URL:https://cortlandclub.com/event/closed-shelter-reserved-63/
LOCATION:Closed Shelter
ATTACH;FMTTYPE=image/jpeg:https://cortlandclub.com/wp-content/uploads/2017/11/Reserved.jpg
END:VEVENT
BEGIN:VEVENT
DTSTART;TZID=America/New_York:20231215T173000
DTEND;TZID=America/New_York:20231215T193000
DTSTAMP:20260419T174324
CREATED:20231213T221912Z
LAST-MODIFIED:20231213T221912Z
UID:6301-1702661400-1702668600@cortlandclub.com
SUMMARY:Clubhouse - Reserved
DESCRIPTION:Zaben Party
URL:https://cortlandclub.com/event/clubhouse-reserved-65/
LOCATION:Clubhouse
ATTACH;FMTTYPE=image/jpeg:https://cortlandclub.com/wp-content/uploads/2017/11/Reserved.jpg
END:VEVENT
BEGIN:VEVENT
DTSTART;TZID=America/New_York:20231213T190000
DTEND;TZID=America/New_York:20231213T200000
DTSTAMP:20260419T174324
CREATED:20230127T044437Z
LAST-MODIFIED:20230127T044437Z
UID:5676-1702494000-1702497600@cortlandclub.com
SUMMARY:Trustee Meeting
DESCRIPTION:
URL:https://cortlandclub.com/event/trustee-meeting-24/
LOCATION:Clubhouse
ATTACH;FMTTYPE=image/png:https://cortlandclub.com/wp-content/uploads/2017/07/Trustees.png
END:VEVENT
BEGIN:VEVENT
DTSTART;TZID=America/New_York:20231210T140000
DTEND;TZID=America/New_York:20231210T210000
DTSTAMP:20260419T174324
CREATED:20231120T232919Z
LAST-MODIFIED:20231120T232919Z
UID:6285-1702216800-1702242000@cortlandclub.com
SUMMARY:Clubhouse - Reserved
DESCRIPTION:Rager Party
URL:https://cortlandclub.com/event/clubhouse-reserved-63/
LOCATION:Clubhouse
ATTACH;FMTTYPE=image/jpeg:https://cortlandclub.com/wp-content/uploads/2017/11/Reserved.jpg
END:VEVENT
BEGIN:VEVENT
DTSTART;TZID=America/New_York:20231209T160000
DTEND;TZID=America/New_York:20231209T190000
DTSTAMP:20260419T174324
CREATED:20230509T023325Z
LAST-MODIFIED:20231112T024928Z
UID:6009-1702137600-1702148400@cortlandclub.com
SUMMARY:Christmas Party
DESCRIPTION:RSVP Required \nCall or Text Lorraine Bzinak @ 330-770-1620 \nwith the number of Children and Adults who will be attending.
URL:https://cortlandclub.com/event/christmas-party-5/
LOCATION:Clubhouse
ATTACH;FMTTYPE=image/png:https://cortlandclub.com/wp-content/uploads/2022/02/Christmas_Party-e1643862241853.png
END:VEVENT
BEGIN:VEVENT
DTSTART;TZID=America/New_York:20231208T120000
DTEND;TZID=America/New_York:20231208T210000
DTSTAMP:20260419T174324
CREATED:20230626T015614Z
LAST-MODIFIED:20230626T015614Z
UID:6107-1702036800-1702069200@cortlandclub.com
SUMMARY:Clubhouse - Reserved
DESCRIPTION:Christmas Party set up
URL:https://cortlandclub.com/event/clubhouse-reserved-40/
LOCATION:Clubhouse
ATTACH;FMTTYPE=image/jpeg:https://cortlandclub.com/wp-content/uploads/2017/11/Reserved.jpg
END:VEVENT
BEGIN:VEVENT
DTSTART;TZID=America/New_York:20231206T170000
DTEND;TZID=America/New_York:20231206T220000
DTSTAMP:20260419T174324
CREATED:20231120T233617Z
LAST-MODIFIED:20231120T233617Z
UID:6289-1701882000-1701900000@cortlandclub.com
SUMMARY:Closed Shelter - Reserved
DESCRIPTION:DiCristofaro Party
URL:https://cortlandclub.com/event/closed-shelter-reserved-64/
LOCATION:Closed Shelter
ATTACH;FMTTYPE=image/jpeg:https://cortlandclub.com/wp-content/uploads/2017/11/Reserved.jpg
END:VEVENT
BEGIN:VEVENT
DTSTART;TZID=America/New_York:20231203T120000
DTEND;TZID=America/New_York:20231203T200000
DTSTAMP:20260419T174324
CREATED:20230815T180654Z
LAST-MODIFIED:20230815T180654Z
UID:6164-1701604800-1701633600@cortlandclub.com
SUMMARY:Clubhouse - Reserved
DESCRIPTION:Brown Party
URL:https://cortlandclub.com/event/clubhouse-reserved-46/
LOCATION:Clubhouse
ATTACH;FMTTYPE=image/jpeg:https://cortlandclub.com/wp-content/uploads/2017/11/Reserved.jpg
END:VEVENT
BEGIN:VEVENT
DTSTART;TZID=America/New_York:20231202T090000
DTEND;TZID=America/New_York:20231202T210000
DTSTAMP:20260419T174324
CREATED:20230815T180516Z
LAST-MODIFIED:20230815T180516Z
UID:6162-1701507600-1701550800@cortlandclub.com
SUMMARY:Clubhouse - Reserved
DESCRIPTION:DeChant Party
URL:https://cortlandclub.com/event/clubhouse-reserved-45/
LOCATION:Clubhouse
ATTACH;FMTTYPE=image/jpeg:https://cortlandclub.com/wp-content/uploads/2017/11/Reserved.jpg
END:VEVENT
BEGIN:VEVENT
DTSTART;TZID=America/New_York:20231201T110000
DTEND;TZID=America/New_York:20231201T230000
DTSTAMP:20260419T174324
CREATED:20231106T051121Z
LAST-MODIFIED:20231106T051258Z
UID:6243-1701428400-1701471600@cortlandclub.com
SUMMARY:Clubhouse - Reserved
DESCRIPTION:Abelt Party
URL:https://cortlandclub.com/event/clubhouse-reserved-59/
LOCATION:Clubhouse
ATTACH;FMTTYPE=image/jpeg:https://cortlandclub.com/wp-content/uploads/2017/11/Reserved.jpg
END:VEVENT
BEGIN:VEVENT
DTSTART;TZID=America/New_York:20231126T120000
DTEND;TZID=America/New_York:20231126T200000
DTSTAMP:20260419T174324
CREATED:20231120T233230Z
LAST-MODIFIED:20231120T233439Z
UID:6287-1701000000-1701028800@cortlandclub.com
SUMMARY:Clubhouse - Reserved
DESCRIPTION:Bzinak Party
URL:https://cortlandclub.com/event/clubhouse-reserved-64/
LOCATION:Clubhouse
ATTACH;FMTTYPE=image/jpeg:https://cortlandclub.com/wp-content/uploads/2017/11/Reserved.jpg
END:VEVENT
BEGIN:VEVENT
DTSTART;TZID=America/New_York:20231125T070000
DTEND;TZID=America/New_York:20231125T200000
DTSTAMP:20260419T174324
CREATED:20230815T180328Z
LAST-MODIFIED:20230815T180328Z
UID:6160-1700895600-1700942400@cortlandclub.com
SUMMARY:Closed Shelter - Reserved
DESCRIPTION:Diamond Party
URL:https://cortlandclub.com/event/closed-shelter-reserved-52/
LOCATION:Closed Shelter
ATTACH;FMTTYPE=image/jpeg:https://cortlandclub.com/wp-content/uploads/2017/11/Reserved.jpg
END:VEVENT
BEGIN:VEVENT
DTSTART;TZID=America/New_York:20231123T110000
DTEND;TZID=America/New_York:20231123T170000
DTSTAMP:20260419T174324
CREATED:20231106T050633Z
LAST-MODIFIED:20231115T230938Z
UID:6241-1700737200-1700758800@cortlandclub.com
SUMMARY:Clubhouse - Reserved
DESCRIPTION:Barrett Party
URL:https://cortlandclub.com/event/clubhouse-reservation-pending-24/
LOCATION:Clubhouse
ATTACH;FMTTYPE=image/jpeg:https://cortlandclub.com/wp-content/uploads/2017/11/Reserved.jpg
END:VEVENT
BEGIN:VEVENT
DTSTART;TZID=America/New_York:20231121T170000
DTEND;TZID=America/New_York:20231121T200000
DTSTAMP:20260419T174324
CREATED:20231106T051809Z
LAST-MODIFIED:20231106T051809Z
UID:6245-1700586000-1700596800@cortlandclub.com
SUMMARY:Clubhouse - Reserved
DESCRIPTION:Braunegg Party
URL:https://cortlandclub.com/event/clubhouse-reserved-60/
LOCATION:Clubhouse
ATTACH;FMTTYPE=image/jpeg:https://cortlandclub.com/wp-content/uploads/2017/11/Reserved.jpg
END:VEVENT
BEGIN:VEVENT
DTSTART;TZID=America/New_York:20231119T120000
DTEND;TZID=America/New_York:20231119T190000
DTSTAMP:20260419T174324
CREATED:20231115T232227Z
LAST-MODIFIED:20231115T232227Z
UID:6268-1700395200-1700420400@cortlandclub.com
SUMMARY:Closed Shelter - Reserved
DESCRIPTION:Merkel Party
URL:https://cortlandclub.com/event/closed-shelter-reserved-61/
LOCATION:Closed Shelter
ATTACH;FMTTYPE=image/jpeg:https://cortlandclub.com/wp-content/uploads/2017/11/Reserved.jpg
END:VEVENT
END:VCALENDAR