BEGIN:VCALENDAR
VERSION:2.0
PRODID:-//The Cortland Conservation Club - ECPv6.15.20//NONSGML v1.0//EN
CALSCALE:GREGORIAN
METHOD:PUBLISH
X-WR-CALNAME:The Cortland Conservation Club
X-ORIGINAL-URL:https://cortlandclub.com
X-WR-CALDESC:Events for The Cortland Conservation Club
REFRESH-INTERVAL;VALUE=DURATION:PT1H
X-Robots-Tag:noindex
X-PUBLISHED-TTL:PT1H
BEGIN:VTIMEZONE
TZID:America/New_York
BEGIN:DAYLIGHT
TZOFFSETFROM:-0500
TZOFFSETTO:-0400
TZNAME:EDT
DTSTART:20220313T070000
END:DAYLIGHT
BEGIN:STANDARD
TZOFFSETFROM:-0400
TZOFFSETTO:-0500
TZNAME:EST
DTSTART:20221106T060000
END:STANDARD
BEGIN:DAYLIGHT
TZOFFSETFROM:-0500
TZOFFSETTO:-0400
TZNAME:EDT
DTSTART:20230312T070000
END:DAYLIGHT
BEGIN:STANDARD
TZOFFSETFROM:-0400
TZOFFSETTO:-0500
TZNAME:EST
DTSTART:20231105T060000
END:STANDARD
BEGIN:DAYLIGHT
TZOFFSETFROM:-0500
TZOFFSETTO:-0400
TZNAME:EDT
DTSTART:20240310T070000
END:DAYLIGHT
BEGIN:STANDARD
TZOFFSETFROM:-0400
TZOFFSETTO:-0500
TZNAME:EST
DTSTART:20241103T060000
END:STANDARD
END:VTIMEZONE
BEGIN:VEVENT
DTSTART;TZID=America/New_York:20230816T120000
DTEND;TZID=America/New_York:20230816T150000
DTSTAMP:20260420T014111
CREATED:20230815T174725Z
LAST-MODIFIED:20230815T174725Z
UID:6146-1692187200-1692198000@cortlandclub.com
SUMMARY:Closed Shelter - Reserved
DESCRIPTION:Rager Party
URL:https://cortlandclub.com/event/closed-shelter-reserved-47/
LOCATION:Closed Shelter
ATTACH;FMTTYPE=image/jpeg:https://cortlandclub.com/wp-content/uploads/2017/11/Reserved.jpg
END:VEVENT
BEGIN:VEVENT
DTSTART;TZID=America/New_York:20230815T160000
DTEND;TZID=America/New_York:20230815T210000
DTSTAMP:20260420T014111
CREATED:20230620T031701Z
LAST-MODIFIED:20230620T031908Z
UID:6083-1692115200-1692133200@cortlandclub.com
SUMMARY:Clubhouse - Reserved
DESCRIPTION:Power Squadron CPR Class \nRegistration for CCC members start July 5th. \nContact Linda Petrilla at lppetril@kent.edu or 330-540-4713
URL:https://cortlandclub.com/event/clubhouse-reserved-37/
LOCATION:Clubhouse
ATTACH;FMTTYPE=image/jpeg:https://cortlandclub.com/wp-content/uploads/2023/06/cpr.jpg
END:VEVENT
BEGIN:VEVENT
DTSTART;VALUE=DATE:20230812
DTEND;VALUE=DATE:20230814
DTSTAMP:20260420T014111
CREATED:20230303T054314Z
LAST-MODIFIED:20230303T054343Z
UID:5830-1691798400-1691971199@cortlandclub.com
SUMMARY:No Reservations Accepted Weekend
DESCRIPTION:All Weekends from Memorial Day thru Labor Day. \n  \nWeekdays are still available through the summer months!
URL:https://cortlandclub.com/event/no-reservations-accepted-weekend-25/
ATTACH;FMTTYPE=image/jpeg:https://cortlandclub.com/wp-content/uploads/2022/02/blackout-dates-photo.jpeg
END:VEVENT
BEGIN:VEVENT
DTSTART;TZID=America/New_York:20230811T170000
DTEND;TZID=America/New_York:20230811T220000
DTSTAMP:20260420T014111
CREATED:20230510T025351Z
LAST-MODIFIED:20230516T012058Z
UID:6043-1691773200-1691791200@cortlandclub.com
SUMMARY:Closed shelter - Reserved
DESCRIPTION:Seikel Party
URL:https://cortlandclub.com/event/closed-shelter-reservation-pending-24/
LOCATION:Closed Shelter
ATTACH;FMTTYPE=image/jpeg:https://cortlandclub.com/wp-content/uploads/2017/11/Reserved.jpg
END:VEVENT
BEGIN:VEVENT
DTSTART;TZID=America/New_York:20230810T160000
DTEND;TZID=America/New_York:20230810T200000
DTSTAMP:20260420T014111
CREATED:20230417T211623Z
LAST-MODIFIED:20230417T211623Z
UID:5906-1691683200-1691697600@cortlandclub.com
SUMMARY:Closed Shelter - Reserved
DESCRIPTION:Kahler Party
URL:https://cortlandclub.com/event/closed-shelter-reserved-32/
LOCATION:Closed Shelter
ATTACH;FMTTYPE=image/jpeg:https://cortlandclub.com/wp-content/uploads/2017/11/Reserved.jpg
END:VEVENT
BEGIN:VEVENT
DTSTART;TZID=America/New_York:20230809T190000
DTEND;TZID=America/New_York:20230809T200000
DTSTAMP:20260420T014111
CREATED:20230127T043459Z
LAST-MODIFIED:20230127T043459Z
UID:5668-1691607600-1691611200@cortlandclub.com
SUMMARY:Trustee Meeting
DESCRIPTION:
URL:https://cortlandclub.com/event/trustee-meeting-20/
LOCATION:Closed Shelter
ATTACH;FMTTYPE=image/png:https://cortlandclub.com/wp-content/uploads/2017/07/Trustees.png
END:VEVENT
BEGIN:VEVENT
DTSTART;VALUE=DATE:20230805
DTEND;VALUE=DATE:20230807
DTSTAMP:20260420T014111
CREATED:20230303T054210Z
LAST-MODIFIED:20230303T054210Z
UID:5828-1691193600-1691366399@cortlandclub.com
SUMMARY:No Reservations Accepted Weekend
DESCRIPTION:All Weekends from Memorial Day thru Labor Day. \n  \nWeekdays are still available through the summer months!
URL:https://cortlandclub.com/event/no-reservations-accepted-weekend-24/
ATTACH;FMTTYPE=image/jpeg:https://cortlandclub.com/wp-content/uploads/2022/02/blackout-dates-photo.jpeg
END:VEVENT
BEGIN:VEVENT
DTSTART;TZID=America/New_York:20230804T150000
DTEND;TZID=America/New_York:20230804T210000
DTSTAMP:20260420T014111
CREATED:20230710T025641Z
LAST-MODIFIED:20230710T025641Z
UID:6122-1691161200-1691182800@cortlandclub.com
SUMMARY:Closed Shelter - Reserved
DESCRIPTION:Utterback Party
URL:https://cortlandclub.com/event/closed-shelter-reserved-45/
LOCATION:Closed Shelter
ATTACH;FMTTYPE=image/jpeg:https://cortlandclub.com/wp-content/uploads/2017/11/Reserved.jpg
END:VEVENT
BEGIN:VEVENT
DTSTART;TZID=America/New_York:20230802T180000
DTEND;TZID=America/New_York:20230802T200000
DTSTAMP:20260420T014111
CREATED:20230509T023747Z
LAST-MODIFIED:20230509T023747Z
UID:6016-1690999200-1691006400@cortlandclub.com
SUMMARY:Supper Club
DESCRIPTION:
URL:https://cortlandclub.com/event/supper-club-4/
LOCATION:Closed Shelter
ATTACH;FMTTYPE=image/jpeg:https://cortlandclub.com/wp-content/uploads/2018/04/supperCLUB-e1523192452964.jpg
END:VEVENT
BEGIN:VEVENT
DTSTART;TZID=America/New_York:20230801T180000
DTEND;TZID=America/New_York:20230801T200000
DTSTAMP:20260420T014111
CREATED:20230509T024752Z
LAST-MODIFIED:20230509T024752Z
UID:6027-1690912800-1690920000@cortlandclub.com
SUMMARY:Book Club
DESCRIPTION:
URL:https://cortlandclub.com/event/book-club-11/
LOCATION:Closed Shelter
ATTACH;FMTTYPE=image/jpeg:https://cortlandclub.com/wp-content/uploads/2022/03/Bookclub.jpeg
END:VEVENT
BEGIN:VEVENT
DTSTART;TZID=America/New_York:20230731T100000
DTEND;TZID=America/New_York:20230731T200000
DTSTAMP:20260420T014111
CREATED:20230620T030421Z
LAST-MODIFIED:20230620T030421Z
UID:6077-1690797600-1690833600@cortlandclub.com
SUMMARY:Closed Shelter - Reserved
DESCRIPTION:Hoover Party
URL:https://cortlandclub.com/event/closed-shelter-reserved-41/
LOCATION:Closed Shelter
ATTACH;FMTTYPE=image/jpeg:https://cortlandclub.com/wp-content/uploads/2017/11/Reserved.jpg
END:VEVENT
BEGIN:VEVENT
DTSTART;VALUE=DATE:20230729
DTEND;VALUE=DATE:20230731
DTSTAMP:20260420T014111
CREATED:20230303T054022Z
LAST-MODIFIED:20230303T054022Z
UID:5826-1690588800-1690761599@cortlandclub.com
SUMMARY:No Reservations Accepted Weekend
DESCRIPTION:All Weekends from Memorial Day thru Labor Day. \n  \nWeekdays are still available through the summer months!
URL:https://cortlandclub.com/event/no-reservations-accepted-weekend-23/
ATTACH;FMTTYPE=image/jpeg:https://cortlandclub.com/wp-content/uploads/2022/02/blackout-dates-photo.jpeg
END:VEVENT
BEGIN:VEVENT
DTSTART;TZID=America/New_York:20230727T193000
DTEND;TZID=America/New_York:20230727T203000
DTSTAMP:20260420T014111
CREATED:20230127T035642Z
LAST-MODIFIED:20230127T035736Z
UID:5646-1690486200-1690489800@cortlandclub.com
SUMMARY:Membership Meeting
DESCRIPTION:
URL:https://cortlandclub.com/event/membership-meeting-45/
LOCATION:Closed Shelter
ATTACH;FMTTYPE=image/png:https://cortlandclub.com/wp-content/uploads/2017/07/Members-1.png
END:VEVENT
BEGIN:VEVENT
DTSTART;TZID=America/New_York:20230722T150000
DTEND;TZID=America/New_York:20230722T220000
DTSTAMP:20260420T014111
CREATED:20230227T003904Z
LAST-MODIFIED:20230620T041751Z
UID:5808-1690038000-1690063200@cortlandclub.com
SUMMARY:Sausage Fry
DESCRIPTION:Hosted by: David Foor \nGate opens @3pm – Dinner @6pm \n$6 per Adult\, Kids under 12 are Free!!
URL:https://cortlandclub.com/event/sausage-fry-6/
LOCATION:Closed Shelter
ATTACH;FMTTYPE=image/jpeg:https://cortlandclub.com/wp-content/uploads/2023/02/sausage-fry2.jpg
END:VEVENT
BEGIN:VEVENT
DTSTART;VALUE=DATE:20230722
DTEND;VALUE=DATE:20230724
DTSTAMP:20260420T014111
CREATED:20230303T053834Z
LAST-MODIFIED:20230303T053834Z
UID:5824-1689984000-1690156799@cortlandclub.com
SUMMARY:No Reservations Accepted Weekend
DESCRIPTION:All Weekends from Memorial Day thru Labor Day. \n  \nWeekdays are still available through the summer months!
URL:https://cortlandclub.com/event/no-reservations-accepted-weekend-22/
ATTACH;FMTTYPE=image/jpeg:https://cortlandclub.com/wp-content/uploads/2022/02/blackout-dates-photo.jpeg
END:VEVENT
BEGIN:VEVENT
DTSTART;TZID=America/New_York:20230721T150000
DTEND;TZID=America/New_York:20230721T200000
DTSTAMP:20260420T014111
CREATED:20230710T030342Z
LAST-MODIFIED:20230710T030702Z
UID:6126-1689951600-1689969600@cortlandclub.com
SUMMARY:Clubhouse - Reserved
DESCRIPTION:Milas Party
URL:https://cortlandclub.com/event/clubhouse-reserved-42/
LOCATION:Clubhouse
ATTACH;FMTTYPE=image/jpeg:https://cortlandclub.com/wp-content/uploads/2017/11/Reserved.jpg
END:VEVENT
BEGIN:VEVENT
DTSTART;TZID=America/New_York:20230721T120000
DTEND;TZID=America/New_York:20230721T230000
DTSTAMP:20260420T014111
CREATED:20230510T024855Z
LAST-MODIFIED:20230516T012227Z
UID:6039-1689940800-1689980400@cortlandclub.com
SUMMARY:Closed shelter - Reserved
DESCRIPTION:Toro Party
URL:https://cortlandclub.com/event/closed-shelter-reservation-pending-22/
LOCATION:Closed Shelter
ATTACH;FMTTYPE=image/jpeg:https://cortlandclub.com/wp-content/uploads/2017/11/Reserved.jpg
END:VEVENT
BEGIN:VEVENT
DTSTART;TZID=America/New_York:20230719T080000
DTEND;TZID=America/New_York:20230719T170000
DTSTAMP:20260420T014111
CREATED:20230509T010936Z
LAST-MODIFIED:20230509T011011Z
UID:5982-1689753600-1689786000@cortlandclub.com
SUMMARY:Wednesday Work Night
DESCRIPTION:
URL:https://cortlandclub.com/event/wednesday-work-night-27/
ATTACH;FMTTYPE=image/jpeg:https://cortlandclub.com/wp-content/uploads/2021/03/Work-Day.jpg
END:VEVENT
BEGIN:VEVENT
DTSTART;TZID=America/New_York:20230718T140000
DTEND;TZID=America/New_York:20230718T200000
DTSTAMP:20260420T014111
CREATED:20230710T023706Z
LAST-MODIFIED:20230710T023847Z
UID:6119-1689688800-1689710400@cortlandclub.com
SUMMARY:Closed Shelter - Reserved
DESCRIPTION:Petrilla Party
URL:https://cortlandclub.com/event/closed-shelter-reserved-44/
LOCATION:Closed Shelter
ATTACH;FMTTYPE=image/jpeg:https://cortlandclub.com/wp-content/uploads/2017/11/Reserved.jpg
END:VEVENT
BEGIN:VEVENT
DTSTART;VALUE=DATE:20230715
DTEND;VALUE=DATE:20230717
DTSTAMP:20260420T014111
CREATED:20230206T044142Z
LAST-MODIFIED:20230206T044142Z
UID:5736-1689379200-1689551999@cortlandclub.com
SUMMARY:No Reservations Accepted Weekend
DESCRIPTION:All Weekends from Memorial Day thru Labor Day. \n  \nWeekdays are still available through the summer months!
URL:https://cortlandclub.com/event/no-reservations-accepted-weekend-21/
ATTACH;FMTTYPE=image/jpeg:https://cortlandclub.com/wp-content/uploads/2022/02/blackout-dates-photo.jpeg
END:VEVENT
BEGIN:VEVENT
DTSTART;TZID=America/New_York:20230714T150000
DTEND;TZID=America/New_York:20230714T220000
DTSTAMP:20260420T014111
CREATED:20230710T030014Z
LAST-MODIFIED:20230809T164901Z
UID:6124-1689346800-1689372000@cortlandclub.com
SUMMARY:Closed Shelter - Reserved
DESCRIPTION:Rager Party
URL:https://cortlandclub.com/event/closed-shelter-reservation-pending-25/
LOCATION:Closed Shelter
ATTACH;FMTTYPE=image/jpeg:https://cortlandclub.com/wp-content/uploads/2017/11/Reserved.jpg
END:VEVENT
BEGIN:VEVENT
DTSTART;TZID=America/New_York:20230712T190000
DTEND;TZID=America/New_York:20230712T200000
DTSTAMP:20260420T014111
CREATED:20230127T041944Z
LAST-MODIFIED:20230127T041944Z
UID:5666-1689188400-1689192000@cortlandclub.com
SUMMARY:Trustee Meeting
DESCRIPTION:
URL:https://cortlandclub.com/event/trustee-meeting-19/
LOCATION:Closed Shelter
ATTACH;FMTTYPE=image/png:https://cortlandclub.com/wp-content/uploads/2017/07/Trustees.png
END:VEVENT
BEGIN:VEVENT
DTSTART;TZID=America/New_York:20230711T180000
DTEND;TZID=America/New_York:20230711T200000
DTSTAMP:20260420T014111
CREATED:20230509T024700Z
LAST-MODIFIED:20230613T224741Z
UID:6025-1689098400-1689105600@cortlandclub.com
SUMMARY:Book Club
DESCRIPTION:
URL:https://cortlandclub.com/event/book-club-10/
LOCATION:Closed Shelter
ATTACH;FMTTYPE=image/jpeg:https://cortlandclub.com/wp-content/uploads/2022/03/Bookclub.jpeg
END:VEVENT
BEGIN:VEVENT
DTSTART;VALUE=DATE:20230708
DTEND;VALUE=DATE:20230710
DTSTAMP:20260420T014111
CREATED:20230206T043909Z
LAST-MODIFIED:20230206T043909Z
UID:5734-1688774400-1688947199@cortlandclub.com
SUMMARY:No Reservations Accepted Weekend
DESCRIPTION:All Weekends from Memorial Day thru Labor Day. \n  \nWeekdays are still available through the summer months!
URL:https://cortlandclub.com/event/no-reservations-accepted-weekend-20/
ATTACH;FMTTYPE=image/jpeg:https://cortlandclub.com/wp-content/uploads/2022/02/blackout-dates-photo.jpeg
END:VEVENT
BEGIN:VEVENT
DTSTART;TZID=America/New_York:20230707T150000
DTEND;TZID=America/New_York:20230707T233000
DTSTAMP:20260420T014111
CREATED:20230303T210102Z
LAST-MODIFIED:20230312T011154Z
UID:5847-1688742000-1688772600@cortlandclub.com
SUMMARY:Closed Shelter - Reserved
DESCRIPTION:Goyzueta Party
URL:https://cortlandclub.com/event/closed-shelter-reservation-pending-20/
LOCATION:Closed Shelter
ATTACH;FMTTYPE=image/jpeg:https://cortlandclub.com/wp-content/uploads/2017/11/Reserved.jpg
END:VEVENT
BEGIN:VEVENT
DTSTART;TZID=America/New_York:20230707T150000
DTEND;TZID=America/New_York:20230707T210000
DTSTAMP:20260420T014111
CREATED:20230707T025400Z
LAST-MODIFIED:20230707T025633Z
UID:6116-1688742000-1688763600@cortlandclub.com
SUMMARY:Clubhouse - Reserved
DESCRIPTION:Remmick Party
URL:https://cortlandclub.com/event/clubhouse-reserved-41/
LOCATION:Clubhouse
ATTACH;FMTTYPE=image/jpeg:https://cortlandclub.com/wp-content/uploads/2017/11/Reserved.jpg
END:VEVENT
BEGIN:VEVENT
DTSTART;TZID=America/New_York:20230705T180000
DTEND;TZID=America/New_York:20230705T200000
DTSTAMP:20260420T014111
CREATED:20230509T023641Z
LAST-MODIFIED:20230509T023641Z
UID:6014-1688580000-1688587200@cortlandclub.com
SUMMARY:Supper Club
DESCRIPTION:
URL:https://cortlandclub.com/event/supper-club-3/
LOCATION:Closed Shelter
ATTACH;FMTTYPE=image/jpeg:https://cortlandclub.com/wp-content/uploads/2018/04/supperCLUB-e1523192452964.jpg
END:VEVENT
BEGIN:VEVENT
DTSTART;VALUE=DATE:20230701
DTEND;VALUE=DATE:20230703
DTSTAMP:20260420T014111
CREATED:20230206T043218Z
LAST-MODIFIED:20230206T043218Z
UID:5732-1688169600-1688342399@cortlandclub.com
SUMMARY:No Reservations Accepted Weekend
DESCRIPTION:All Weekends from Memorial Day thru Labor Day. \n  \nWeekdays are still available through the summer months!
URL:https://cortlandclub.com/event/no-reservations-accepted-weekend-19/
ATTACH;FMTTYPE=image/jpeg:https://cortlandclub.com/wp-content/uploads/2022/02/blackout-dates-photo.jpeg
END:VEVENT
BEGIN:VEVENT
DTSTART;TZID=America/New_York:20230630T100000
DTEND;TZID=America/New_York:20230630T230000
DTSTAMP:20260420T014111
CREATED:20230206T012011Z
LAST-MODIFIED:20230206T012011Z
UID:5704-1688119200-1688166000@cortlandclub.com
SUMMARY:Closed Shelter - Reserved
DESCRIPTION:O’Leary Party
URL:https://cortlandclub.com/event/closed-shelter-reserved-28/
LOCATION:Closed Shelter
ATTACH;FMTTYPE=image/jpeg:https://cortlandclub.com/wp-content/uploads/2017/11/Reserved.jpg
END:VEVENT
BEGIN:VEVENT
DTSTART;TZID=America/New_York:20230626T100000
DTEND;TZID=America/New_York:20230626T190000
DTSTAMP:20260420T014111
CREATED:20230624T203933Z
LAST-MODIFIED:20230624T203933Z
UID:6103-1687773600-1687806000@cortlandclub.com
SUMMARY:Clubhouse - Reserved
DESCRIPTION:Keen Party
URL:https://cortlandclub.com/event/clubhouse-reserved-39/
LOCATION:Clubhouse
ATTACH;FMTTYPE=image/jpeg:https://cortlandclub.com/wp-content/uploads/2017/11/Reserved.jpg
END:VEVENT
END:VCALENDAR