BEGIN:VCALENDAR
VERSION:2.0
PRODID:-//The Cortland Conservation Club - ECPv6.15.20//NONSGML v1.0//EN
CALSCALE:GREGORIAN
METHOD:PUBLISH
X-WR-CALNAME:The Cortland Conservation Club
X-ORIGINAL-URL:https://cortlandclub.com
X-WR-CALDESC:Events for The Cortland Conservation Club
REFRESH-INTERVAL;VALUE=DURATION:PT1H
X-Robots-Tag:noindex
X-PUBLISHED-TTL:PT1H
BEGIN:VTIMEZONE
TZID:America/New_York
BEGIN:DAYLIGHT
TZOFFSETFROM:-0500
TZOFFSETTO:-0400
TZNAME:EDT
DTSTART:20220313T070000
END:DAYLIGHT
BEGIN:STANDARD
TZOFFSETFROM:-0400
TZOFFSETTO:-0500
TZNAME:EST
DTSTART:20221106T060000
END:STANDARD
BEGIN:DAYLIGHT
TZOFFSETFROM:-0500
TZOFFSETTO:-0400
TZNAME:EDT
DTSTART:20230312T070000
END:DAYLIGHT
BEGIN:STANDARD
TZOFFSETFROM:-0400
TZOFFSETTO:-0500
TZNAME:EST
DTSTART:20231105T060000
END:STANDARD
BEGIN:DAYLIGHT
TZOFFSETFROM:-0500
TZOFFSETTO:-0400
TZNAME:EDT
DTSTART:20240310T070000
END:DAYLIGHT
BEGIN:STANDARD
TZOFFSETFROM:-0400
TZOFFSETTO:-0500
TZNAME:EST
DTSTART:20241103T060000
END:STANDARD
END:VTIMEZONE
BEGIN:VEVENT
DTSTART;TZID=America/New_York:20230204T140000
DTEND;TZID=America/New_York:20230204T210000
DTSTAMP:20260421T000114
CREATED:20230205T234046Z
LAST-MODIFIED:20230205T234046Z
UID:5692-1675519200-1675544400@cortlandclub.com
SUMMARY:Clubhouse - Reserved
DESCRIPTION:Bzinak Party
URL:https://cortlandclub.com/event/clubhouse-reserved-28/
LOCATION:Closed Shelter
ATTACH;FMTTYPE=image/jpeg:https://cortlandclub.com/wp-content/uploads/2017/11/Reserved.jpg
END:VEVENT
BEGIN:VEVENT
DTSTART;TZID=America/New_York:20230208T070000
DTEND;TZID=America/New_York:20230208T200000
DTSTAMP:20260421T000114
CREATED:20230127T041109Z
LAST-MODIFIED:20230127T041155Z
UID:5656-1675839600-1675886400@cortlandclub.com
SUMMARY:Trustee Meeting
DESCRIPTION:
URL:https://cortlandclub.com/event/trustee-meeting-14/
LOCATION:Clubhouse
ATTACH;FMTTYPE=image/png:https://cortlandclub.com/wp-content/uploads/2017/07/Trustees.png
END:VEVENT
BEGIN:VEVENT
DTSTART;TZID=America/New_York:20230212T120000
DTEND;TZID=America/New_York:20230212T233000
DTSTAMP:20260421T000114
CREATED:20221213T051430Z
LAST-MODIFIED:20221213T051430Z
UID:5592-1676203200-1676244600@cortlandclub.com
SUMMARY:Clubhouse - Reserved
DESCRIPTION:Best Party
URL:https://cortlandclub.com/event/clubhouse-reserved-25/
LOCATION:Clubhouse
ATTACH;FMTTYPE=image/jpeg:https://cortlandclub.com/wp-content/uploads/2017/11/Reserved.jpg
END:VEVENT
BEGIN:VEVENT
DTSTART;TZID=America/New_York:20230218T080000
DTEND;TZID=America/New_York:20230218T180000
DTSTAMP:20260421T000114
CREATED:20221026T230104Z
LAST-MODIFIED:20221123T203829Z
UID:5492-1676707200-1676743200@cortlandclub.com
SUMMARY:Clubhouse - Reserved
DESCRIPTION:DePaul Party
URL:https://cortlandclub.com/event/clubhouse-reservation-pending-approval/
LOCATION:Clubhouse
ATTACH;FMTTYPE=image/jpeg:https://cortlandclub.com/wp-content/uploads/2017/11/Reserved.jpg
END:VEVENT
BEGIN:VEVENT
DTSTART;TZID=America/New_York:20230218T160000
DTEND;TZID=America/New_York:20230218T210000
DTSTAMP:20260421T000114
CREATED:20230206T023216Z
LAST-MODIFIED:20230206T023216Z
UID:5716-1676736000-1676754000@cortlandclub.com
SUMMARY:Closed Shelter - Reserved
DESCRIPTION:Bzinak Party
URL:https://cortlandclub.com/event/closed-shelter-reserved-29/
LOCATION:Closed Shelter
ATTACH;FMTTYPE=image/jpeg:https://cortlandclub.com/wp-content/uploads/2017/11/Reserved.jpg
END:VEVENT
BEGIN:VEVENT
DTSTART;TZID=America/New_York:20230219T080000
DTEND;TZID=America/New_York:20230219T180000
DTSTAMP:20260421T000114
CREATED:20230205T233811Z
LAST-MODIFIED:20230210T204158Z
UID:5690-1676793600-1676829600@cortlandclub.com
SUMMARY:Clubhouse - Reserved
DESCRIPTION:O’Malley Party
URL:https://cortlandclub.com/event/clubhouse-reservation-pending-13/
LOCATION:Clubhouse
ATTACH;FMTTYPE=image/jpeg:https://cortlandclub.com/wp-content/uploads/2017/11/Reserved.jpg
END:VEVENT
BEGIN:VEVENT
DTSTART;TZID=America/New_York:20230223T193000
DTEND;TZID=America/New_York:20230223T203000
DTSTAMP:20260421T000114
CREATED:20230127T034216Z
LAST-MODIFIED:20230127T034216Z
UID:5636-1677180600-1677184200@cortlandclub.com
SUMMARY:Membership Meeting
DESCRIPTION:
URL:https://cortlandclub.com/event/membership-meeting-40/
LOCATION:Clubhouse
ATTACH;FMTTYPE=image/png:https://cortlandclub.com/wp-content/uploads/2017/07/Members-1.png
END:VEVENT
BEGIN:VEVENT
DTSTART;TZID=America/New_York:20230225T120000
DTEND;TZID=America/New_York:20230225T220000
DTSTAMP:20260421T000114
CREATED:20230205T235117Z
LAST-MODIFIED:20230210T204308Z
UID:5696-1677326400-1677362400@cortlandclub.com
SUMMARY:Clubhouse - Reserved
DESCRIPTION:Miller Reservation
URL:https://cortlandclub.com/event/clubhouse-reservation-pending-14/
LOCATION:Clubhouse
ATTACH;FMTTYPE=image/jpeg:https://cortlandclub.com/wp-content/uploads/2017/11/Reserved.jpg
END:VEVENT
BEGIN:VEVENT
DTSTART;TZID=America/New_York:20230304T153000
DTEND;TZID=America/New_York:20230304T213000
DTSTAMP:20260421T000114
CREATED:20230303T051500Z
LAST-MODIFIED:20230303T051500Z
UID:5819-1677943800-1677965400@cortlandclub.com
SUMMARY:Clubhouse - Reserved
DESCRIPTION:Bzinak Party
URL:https://cortlandclub.com/event/clubhouse-reserved-31/
LOCATION:Clubhouse
ATTACH;FMTTYPE=image/jpeg:https://cortlandclub.com/wp-content/uploads/2017/11/Reserved.jpg
END:VEVENT
BEGIN:VEVENT
DTSTART;TZID=America/New_York:20230308T190000
DTEND;TZID=America/New_York:20230308T200000
DTSTAMP:20260421T000114
CREATED:20230127T041310Z
LAST-MODIFIED:20230127T041310Z
UID:5658-1678302000-1678305600@cortlandclub.com
SUMMARY:Trustee Meeting
DESCRIPTION:
URL:https://cortlandclub.com/event/trustee-meeting-15/
LOCATION:Clubhouse
ATTACH;FMTTYPE=image/png:https://cortlandclub.com/wp-content/uploads/2017/07/Trustees.png
END:VEVENT
BEGIN:VEVENT
DTSTART;TZID=America/New_York:20230311T120000
DTEND;TZID=America/New_York:20230311T160000
DTSTAMP:20260421T000114
CREATED:20230206T001955Z
LAST-MODIFIED:20230206T001955Z
UID:5700-1678536000-1678550400@cortlandclub.com
SUMMARY:Clubhouse - Reserved
DESCRIPTION:Gadd Party
URL:https://cortlandclub.com/event/clubhouse-reserved-30/
LOCATION:Clubhouse
ATTACH;FMTTYPE=image/jpeg:https://cortlandclub.com/wp-content/uploads/2017/11/Reserved.jpg
END:VEVENT
BEGIN:VEVENT
DTSTART;TZID=America/New_York:20230318T153000
DTEND;TZID=America/New_York:20230318T230000
DTSTAMP:20260421T000114
CREATED:20230224T052641Z
LAST-MODIFIED:20230224T052641Z
UID:5792-1679153400-1679180400@cortlandclub.com
SUMMARY:Soup Spectacular
DESCRIPTION:Hosts:   Don & Debbie Gordon and Rich & Martha Frazzinio \nGate opens @3:30pm   Dinner @ 5:00pm
URL:https://cortlandclub.com/event/soup-spectacular/
LOCATION:Closed Shelter
ATTACH;FMTTYPE=image/jpeg:https://cortlandclub.com/wp-content/uploads/2023/02/soup-25.jpg
END:VEVENT
BEGIN:VEVENT
DTSTART;TZID=America/New_York:20230319T083000
DTEND;TZID=America/New_York:20230319T200000
DTSTAMP:20260421T000114
CREATED:20230206T015620Z
LAST-MODIFIED:20230210T203830Z
UID:5708-1679214600-1679256000@cortlandclub.com
SUMMARY:Clubhouse - Reserved
DESCRIPTION:Toro Party
URL:https://cortlandclub.com/event/clubhouse-reservation-pending-16/
LOCATION:Clubhouse
ATTACH;FMTTYPE=image/jpeg:https://cortlandclub.com/wp-content/uploads/2017/11/Reserved.jpg
END:VEVENT
BEGIN:VEVENT
DTSTART;TZID=America/New_York:20230323T193000
DTEND;TZID=America/New_York:20230323T203000
DTSTAMP:20260421T000114
CREATED:20230127T034521Z
LAST-MODIFIED:20230127T034610Z
UID:5638-1679599800-1679603400@cortlandclub.com
SUMMARY:Membership Meeting
DESCRIPTION:
URL:https://cortlandclub.com/event/membership-meeting-41/
LOCATION:Clubhouse
ATTACH;FMTTYPE=image/png:https://cortlandclub.com/wp-content/uploads/2017/07/Members-1.png
END:VEVENT
BEGIN:VEVENT
DTSTART;TZID=America/New_York:20230325T120000
DTEND;TZID=America/New_York:20230325T180000
DTSTAMP:20260421T000114
CREATED:20230303T205542Z
LAST-MODIFIED:20230312T011607Z
UID:5841-1679745600-1679767200@cortlandclub.com
SUMMARY:Clubhouse - Reserved
DESCRIPTION:Freel Party
URL:https://cortlandclub.com/event/clubhouse-reservation-pending-21/
LOCATION:Clubhouse
ATTACH;FMTTYPE=image/jpeg:https://cortlandclub.com/wp-content/uploads/2017/11/Reserved.jpg
END:VEVENT
BEGIN:VEVENT
DTSTART;TZID=America/New_York:20230326T120000
DTEND;TZID=America/New_York:20230326T180000
DTSTAMP:20260421T000114
CREATED:20221213T201727Z
LAST-MODIFIED:20230111T032648Z
UID:5598-1679832000-1679853600@cortlandclub.com
SUMMARY:Clubhouse - Reserved
DESCRIPTION:Abelt Party
URL:https://cortlandclub.com/event/clubhouse-reservation-pending-10/
LOCATION:Clubhouse
ATTACH;FMTTYPE=image/jpeg:https://cortlandclub.com/wp-content/uploads/2017/11/Reserved.jpg
END:VEVENT
BEGIN:VEVENT
DTSTART;TZID=America/New_York:20230330T110000
DTEND;TZID=America/New_York:20230330T210000
DTSTAMP:20260421T000114
CREATED:20230303T053134Z
LAST-MODIFIED:20230303T053219Z
UID:5821-1680174000-1680210000@cortlandclub.com
SUMMARY:Clubhouse - Reserved
DESCRIPTION:Brown Party
URL:https://cortlandclub.com/event/clubhouse-reserved-32/
LOCATION:Clubhouse
ATTACH;FMTTYPE=image/jpeg:https://cortlandclub.com/wp-content/uploads/2017/11/Reserved.jpg
END:VEVENT
BEGIN:VEVENT
DTSTART;TZID=America/New_York:20230331T110000
DTEND;TZID=America/New_York:20230331T203000
DTSTAMP:20260421T000114
CREATED:20230205T234921Z
LAST-MODIFIED:20230205T234921Z
UID:5694-1680260400-1680294600@cortlandclub.com
SUMMARY:Clubhouse - Reserved
DESCRIPTION:Koval Party
URL:https://cortlandclub.com/event/clubhouse-reserved-29/
LOCATION:Clubhouse
ATTACH;FMTTYPE=image/jpeg:https://cortlandclub.com/wp-content/uploads/2017/11/Reserved.jpg
END:VEVENT
BEGIN:VEVENT
DTSTART;TZID=America/New_York:20230401T110000
DTEND;TZID=America/New_York:20230401T150000
DTSTAMP:20260421T000114
CREATED:20230224T055058Z
LAST-MODIFIED:20230306T222149Z
UID:5799-1680346800-1680361200@cortlandclub.com
SUMMARY:Easter Egg Hunt & Brunch
DESCRIPTION:Hosted by:  Mary Brown \nChildren ages 12 & under Free \nAdults $4.00 \nRSVP Required – (330) 984-3810
URL:https://cortlandclub.com/event/easter-egg-hunt-brunch/
LOCATION:Clubhouse
ATTACH;FMTTYPE=image/jpeg:https://cortlandclub.com/wp-content/uploads/2019/03/Easter_Egg_Hunt-e1552420780162.jpg
END:VEVENT
BEGIN:VEVENT
DTSTART;TZID=America/New_York:20230401T150000
DTEND;TZID=America/New_York:20230401T210000
DTSTAMP:20260421T000114
CREATED:20230205T231312Z
LAST-MODIFIED:20230205T231359Z
UID:5681-1680361200-1680382800@cortlandclub.com
SUMMARY:Closed Shelter - Reserved
DESCRIPTION:Matthews Party
URL:https://cortlandclub.com/event/closed-shelter-reserved-26/
LOCATION:Closed Shelter
ATTACH;FMTTYPE=image/jpeg:https://cortlandclub.com/wp-content/uploads/2017/11/Reserved.jpg
END:VEVENT
BEGIN:VEVENT
DTSTART;TZID=America/New_York:20230401T160000
DTEND;TZID=America/New_York:20230401T220000
DTSTAMP:20260421T000114
CREATED:20230306T221734Z
LAST-MODIFIED:20230306T221734Z
UID:5855-1680364800-1680386400@cortlandclub.com
SUMMARY:Clubhouse - Reserved
DESCRIPTION:Bzinak Party
URL:https://cortlandclub.com/event/clubhouse-reserved-33/
LOCATION:Clubhouse
ATTACH;FMTTYPE=image/jpeg:https://cortlandclub.com/wp-content/uploads/2017/11/Reserved.jpg
END:VEVENT
BEGIN:VEVENT
DTSTART;TZID=America/New_York:20230402T090000
DTEND;TZID=America/New_York:20230402T190000
DTSTAMP:20260421T000114
CREATED:20230205T235308Z
LAST-MODIFIED:20230210T204501Z
UID:5698-1680426000-1680462000@cortlandclub.com
SUMMARY:Clubhouse - Reserved
DESCRIPTION:Rager Party
URL:https://cortlandclub.com/event/clubhouse-reservation-pending-15/
LOCATION:Clubhouse
ATTACH;FMTTYPE=image/jpeg:https://cortlandclub.com/wp-content/uploads/2017/11/Reserved.jpg
END:VEVENT
BEGIN:VEVENT
DTSTART;TZID=America/New_York:20230408T090000
DTEND;TZID=America/New_York:20230408T200000
DTSTAMP:20260421T000114
CREATED:20230206T015840Z
LAST-MODIFIED:20230210T204650Z
UID:5710-1680944400-1680984000@cortlandclub.com
SUMMARY:Clubhouse - Reserved
DESCRIPTION:DeChant Party
URL:https://cortlandclub.com/event/clubhouse-reservation-pending-17/
LOCATION:Clubhouse
ATTACH;FMTTYPE=image/jpeg:https://cortlandclub.com/wp-content/uploads/2017/11/Reserved.jpg
END:VEVENT
BEGIN:VEVENT
DTSTART;TZID=America/New_York:20230409T100000
DTEND;TZID=America/New_York:20230409T190000
DTSTAMP:20260421T000114
CREATED:20230303T210351Z
LAST-MODIFIED:20230407T201259Z
UID:5851-1681034400-1681066800@cortlandclub.com
SUMMARY:Clubhouse - Reserved
DESCRIPTION:Craciun Party
URL:https://cortlandclub.com/event/closed-shelter-reserved-30/
LOCATION:Clubhouse
ATTACH;FMTTYPE=image/jpeg:https://cortlandclub.com/wp-content/uploads/2017/11/Reserved.jpg
END:VEVENT
BEGIN:VEVENT
DTSTART;TZID=America/New_York:20230412T190000
DTEND;TZID=America/New_York:20230412T200000
DTSTAMP:20260421T000114
CREATED:20230127T041435Z
LAST-MODIFIED:20230127T041435Z
UID:5660-1681326000-1681329600@cortlandclub.com
SUMMARY:Trustee Meeting
DESCRIPTION:
URL:https://cortlandclub.com/event/trustee-meeting-16/
LOCATION:Closed Shelter
ATTACH;FMTTYPE=image/png:https://cortlandclub.com/wp-content/uploads/2017/07/Trustees.png
END:VEVENT
BEGIN:VEVENT
DTSTART;TZID=America/New_York:20230415T080000
DTEND;TZID=America/New_York:20230415T180000
DTSTAMP:20260421T000114
CREATED:20230303T205650Z
LAST-MODIFIED:20230312T011443Z
UID:5843-1681545600-1681581600@cortlandclub.com
SUMMARY:Clubhouse - Reserved
DESCRIPTION:DePaul Party
URL:https://cortlandclub.com/event/clubhouse-reservation-pending-22/
LOCATION:Clubhouse
ATTACH;FMTTYPE=image/jpeg:https://cortlandclub.com/wp-content/uploads/2017/11/Reserved.jpg
END:VEVENT
BEGIN:VEVENT
DTSTART;TZID=America/New_York:20230419T170000
DTEND;TZID=America/New_York:20230419T200000
DTSTAMP:20260421T000114
CREATED:20230418T210223Z
LAST-MODIFIED:20230418T210223Z
UID:5946-1681923600-1681934400@cortlandclub.com
SUMMARY:Special Clean Up Night at the Club
DESCRIPTION:Please bring Rakes\, Gloves\, etc…
URL:https://cortlandclub.com/event/special-clean-up-night-at-the-club/
ATTACH;FMTTYPE=image/jpeg:https://cortlandclub.com/wp-content/uploads/2021/03/Work-Day.jpg
END:VEVENT
BEGIN:VEVENT
DTSTART;TZID=America/New_York:20230422T160000
DTEND;TZID=America/New_York:20230422T220000
DTSTAMP:20260421T000114
CREATED:20221026T230406Z
LAST-MODIFIED:20230418T212457Z
UID:5496-1682179200-1682200800@cortlandclub.com
SUMMARY:Closed Shelter - Reserved
DESCRIPTION:Gadd Party
URL:https://cortlandclub.com/event/closed-shelter-reservation-pending-approval/
LOCATION:Closed Shelter
ATTACH;FMTTYPE=image/jpeg:https://cortlandclub.com/wp-content/uploads/2017/11/Reserved.jpg
END:VEVENT
BEGIN:VEVENT
DTSTART;TZID=America/New_York:20230422T170000
DTEND;TZID=America/New_York:20230422T220000
DTSTAMP:20260421T000114
CREATED:20221112T035439Z
LAST-MODIFIED:20221123T203530Z
UID:5510-1682182800-1682200800@cortlandclub.com
SUMMARY:Clubhouse - Reserved
DESCRIPTION:Seikel Party
URL:https://cortlandclub.com/event/clubhouse-reservation-pending-7/
LOCATION:Clubhouse
ATTACH;FMTTYPE=image/jpeg:https://cortlandclub.com/wp-content/uploads/2017/11/Reserved.jpg
END:VEVENT
BEGIN:VEVENT
DTSTART;TZID=America/New_York:20230427T193000
DTEND;TZID=America/New_York:20230427T203000
DTSTAMP:20260421T000114
CREATED:20230127T034756Z
LAST-MODIFIED:20230127T034756Z
UID:5640-1682623800-1682627400@cortlandclub.com
SUMMARY:Membership Meeting
DESCRIPTION:
URL:https://cortlandclub.com/event/membership-meeting-42/
LOCATION:Closed Shelter
ATTACH;FMTTYPE=image/png:https://cortlandclub.com/wp-content/uploads/2017/07/Members-1.png
END:VEVENT
END:VCALENDAR