BEGIN:VCALENDAR
VERSION:2.0
PRODID:-//The Cortland Conservation Club - ECPv6.15.20//NONSGML v1.0//EN
CALSCALE:GREGORIAN
METHOD:PUBLISH
X-ORIGINAL-URL:https://cortlandclub.com
X-WR-CALDESC:Events for The Cortland Conservation Club
REFRESH-INTERVAL;VALUE=DURATION:PT1H
X-Robots-Tag:noindex
X-PUBLISHED-TTL:PT1H
BEGIN:VTIMEZONE
TZID:America/New_York
BEGIN:DAYLIGHT
TZOFFSETFROM:-0500
TZOFFSETTO:-0400
TZNAME:EDT
DTSTART:20230312T070000
END:DAYLIGHT
BEGIN:STANDARD
TZOFFSETFROM:-0400
TZOFFSETTO:-0500
TZNAME:EST
DTSTART:20231105T060000
END:STANDARD
BEGIN:DAYLIGHT
TZOFFSETFROM:-0500
TZOFFSETTO:-0400
TZNAME:EDT
DTSTART:20240310T070000
END:DAYLIGHT
BEGIN:STANDARD
TZOFFSETFROM:-0400
TZOFFSETTO:-0500
TZNAME:EST
DTSTART:20241103T060000
END:STANDARD
BEGIN:DAYLIGHT
TZOFFSETFROM:-0500
TZOFFSETTO:-0400
TZNAME:EDT
DTSTART:20250309T070000
END:DAYLIGHT
BEGIN:STANDARD
TZOFFSETFROM:-0400
TZOFFSETTO:-0500
TZNAME:EST
DTSTART:20251102T060000
END:STANDARD
END:VTIMEZONE
BEGIN:VEVENT
DTSTART;TZID=America/New_York:20240406T080000
DTEND;TZID=America/New_York:20240406T200000
DTSTAMP:20260420T010707
CREATED:20231106T050210Z
LAST-MODIFIED:20231115T230653Z
UID:6239-1712390400-1712433600@cortlandclub.com
SUMMARY:Clubhouse - Reserved
DESCRIPTION:King Party
URL:https://cortlandclub.com/event/clubhouse-reservation-pending-18/
LOCATION:Clubhouse
ATTACH;FMTTYPE=image/jpeg:https://cortlandclub.com/wp-content/uploads/2017/11/Reserved.jpg
END:VEVENT
BEGIN:VEVENT
DTSTART;TZID=America/New_York:20240406T123000
DTEND;TZID=America/New_York:20240406T163000
DTSTAMP:20260420T010707
CREATED:20240410T030600Z
LAST-MODIFIED:20240410T030600Z
UID:6683-1712406600-1712421000@cortlandclub.com
SUMMARY:Closed Shelter - Reserved
DESCRIPTION:Gosnell Party
URL:https://cortlandclub.com/event/closed-shelter-reserved-79/
LOCATION:Closed Shelter
ATTACH;FMTTYPE=image/jpeg:https://cortlandclub.com/wp-content/uploads/2017/11/Reserved.jpg
END:VEVENT
BEGIN:VEVENT
DTSTART;TZID=America/New_York:20240407T140000
DTEND;TZID=America/New_York:20240407T190000
DTSTAMP:20260420T010707
CREATED:20240321T025815Z
LAST-MODIFIED:20240321T025824Z
UID:6631-1712498400-1712516400@cortlandclub.com
SUMMARY:Clubhouse - Reserved
DESCRIPTION:Rager Party
URL:https://cortlandclub.com/event/clubhouse-reserved-72/
LOCATION:Clubhouse
ATTACH;FMTTYPE=image/jpeg:https://cortlandclub.com/wp-content/uploads/2017/11/Reserved.jpg
END:VEVENT
BEGIN:VEVENT
DTSTART;TZID=America/New_York:20240408T120000
DTEND;TZID=America/New_York:20240408T180000
DTSTAMP:20260420T010707
CREATED:20240221T004930Z
LAST-MODIFIED:20240221T004930Z
UID:6566-1712577600-1712599200@cortlandclub.com
SUMMARY:Closed Shelter - Reserved
DESCRIPTION:Merkel Party
URL:https://cortlandclub.com/event/closed-shelter-reserved-68/
LOCATION:Closed Shelter
ATTACH;FMTTYPE=image/jpeg:https://cortlandclub.com/wp-content/uploads/2017/11/Reserved.jpg
END:VEVENT
BEGIN:VEVENT
DTSTART;TZID=America/New_York:20240410T190000
DTEND;TZID=America/New_York:20240410T210000
DTSTAMP:20260420T010707
CREATED:20231216T033422Z
LAST-MODIFIED:20231216T033422Z
UID:6424-1712775600-1712782800@cortlandclub.com
SUMMARY:Trustee Meeting
DESCRIPTION:
URL:https://cortlandclub.com/event/trustee-meeting-28/
LOCATION:Clubhouse
ATTACH;FMTTYPE=image/png:https://cortlandclub.com/wp-content/uploads/2017/07/Trustees.png
END:VEVENT
BEGIN:VEVENT
DTSTART;TZID=America/New_York:20240413T153000
DTEND;TZID=America/New_York:20240413T230000
DTSTAMP:20260420T010707
CREATED:20231215T233022Z
LAST-MODIFIED:20240325T021624Z
UID:6334-1713022200-1713049200@cortlandclub.com
SUMMARY:Soup Spectacular
DESCRIPTION:Frazzini’s \nGates open at 3:30pm \nDinner at 5pm
URL:https://cortlandclub.com/event/soup-spectacular-2/
LOCATION:Closed Shelter
ATTACH;FMTTYPE=image/jpeg:https://cortlandclub.com/wp-content/uploads/2023/02/soup-25.jpg
END:VEVENT
BEGIN:VEVENT
DTSTART;TZID=America/New_York:20240422T093000
DTEND;TZID=America/New_York:20240422T153000
DTSTAMP:20260420T010707
CREATED:20240321T030508Z
LAST-MODIFIED:20240321T031030Z
UID:6635-1713778200-1713799800@cortlandclub.com
SUMMARY:Clubhouse - Reserved
DESCRIPTION:Milas Party
URL:https://cortlandclub.com/event/clubhouse-reserved-74/
LOCATION:Clubhouse
ATTACH;FMTTYPE=image/jpeg:https://cortlandclub.com/wp-content/uploads/2017/11/Reserved.jpg
END:VEVENT
BEGIN:VEVENT
DTSTART;TZID=America/New_York:20240425T193000
DTEND;TZID=America/New_York:20240425T203000
DTSTAMP:20260420T010707
CREATED:20231216T034745Z
LAST-MODIFIED:20231216T034745Z
UID:6446-1714073400-1714077000@cortlandclub.com
SUMMARY:Membership Meeting
DESCRIPTION:
URL:https://cortlandclub.com/event/membership-meeting-52/
LOCATION:Clubhouse
ATTACH;FMTTYPE=image/png:https://cortlandclub.com/wp-content/uploads/2017/07/Members-1.png
END:VEVENT
BEGIN:VEVENT
DTSTART;TZID=America/New_York:20240427T100000
DTEND;TZID=America/New_York:20240427T210000
DTSTAMP:20260420T010707
CREATED:20240130T223814Z
LAST-MODIFIED:20240130T223814Z
UID:6529-1714212000-1714251600@cortlandclub.com
SUMMARY:Closed Shelter - Reserved
DESCRIPTION:Mrofchak Party
URL:https://cortlandclub.com/event/closed-shelter-reserved-69/
LOCATION:Closed Shelter
ATTACH;FMTTYPE=image/jpeg:https://cortlandclub.com/wp-content/uploads/2017/11/Reserved.jpg
END:VEVENT
BEGIN:VEVENT
DTSTART;TZID=America/New_York:20240428T100000
DTEND;TZID=America/New_York:20240428T220000
DTSTAMP:20260420T010707
CREATED:20240410T031244Z
LAST-MODIFIED:20240412T030045Z
UID:6687-1714298400-1714341600@cortlandclub.com
SUMMARY:Closed Shelter - Reserved
DESCRIPTION:Monrean Party
URL:https://cortlandclub.com/event/closed-shelter-reservation-pending-30/
LOCATION:Closed Shelter
ATTACH;FMTTYPE=image/jpeg:https://cortlandclub.com/wp-content/uploads/2017/11/Reserved.jpg
END:VEVENT
BEGIN:VEVENT
DTSTART;TZID=America/New_York:20240504T080000
DTEND;TZID=America/New_York:20240504T140000
DTSTAMP:20260420T010707
CREATED:20231216T012527Z
LAST-MODIFIED:20231216T012527Z
UID:6373-1714809600-1714831200@cortlandclub.com
SUMMARY:Spring Work Day
DESCRIPTION:May 4\, 2024 @ 8:00 am – 2:00 pm
URL:https://cortlandclub.com/event/spring-work-day-7/
ATTACH;FMTTYPE=image/jpeg:https://cortlandclub.com/wp-content/uploads/2021/03/spring-cleaning.jpg
END:VEVENT
BEGIN:VEVENT
DTSTART;TZID=America/New_York:20240504T160000
DTEND;TZID=America/New_York:20240504T230000
DTSTAMP:20260420T010707
CREATED:20240502T163520Z
LAST-MODIFIED:20240502T163520Z
UID:6720-1714838400-1714863600@cortlandclub.com
SUMMARY:Closed Shelter - Reserved
DESCRIPTION:Charnas Party
URL:https://cortlandclub.com/event/closed-shelter-reserved-82/
LOCATION:Closed Shelter
ATTACH;FMTTYPE=image/jpeg:https://cortlandclub.com/wp-content/uploads/2017/11/Reserved.jpg
END:VEVENT
BEGIN:VEVENT
DTSTART;TZID=America/New_York:20240507T180000
DTEND;TZID=America/New_York:20240507T210000
DTSTAMP:20260420T010707
CREATED:20231215T233127Z
LAST-MODIFIED:20231215T233127Z
UID:6336-1715104800-1715115600@cortlandclub.com
SUMMARY:Book Club
DESCRIPTION:Sally Welke
URL:https://cortlandclub.com/event/book-club-16/
LOCATION:Clubhouse
ATTACH;FMTTYPE=image/jpeg:https://cortlandclub.com/wp-content/uploads/2022/03/Bookclub.jpeg
END:VEVENT
BEGIN:VEVENT
DTSTART;TZID=America/New_York:20240508T190000
DTEND;TZID=America/New_York:20240508T210000
DTSTAMP:20260420T010707
CREATED:20231216T033531Z
LAST-MODIFIED:20231216T033531Z
UID:6426-1715194800-1715202000@cortlandclub.com
SUMMARY:Trustee Meeting
DESCRIPTION:
URL:https://cortlandclub.com/event/trustee-meeting-29/
LOCATION:Closed Shelter
ATTACH;FMTTYPE=image/png:https://cortlandclub.com/wp-content/uploads/2017/07/Trustees.png
END:VEVENT
BEGIN:VEVENT
DTSTART;TZID=America/New_York:20240510T140000
DTEND;TZID=America/New_York:20240510T210000
DTSTAMP:20260420T010707
CREATED:20240410T031019Z
LAST-MODIFIED:20240410T032600Z
UID:6685-1715349600-1715374800@cortlandclub.com
SUMMARY:Clubhouse - Reserved
DESCRIPTION:Koval Party
URL:https://cortlandclub.com/event/clubhouse-reserved-78/
LOCATION:Clubhouse
ATTACH;FMTTYPE=image/jpeg:https://cortlandclub.com/wp-content/uploads/2017/11/Reserved.jpg
END:VEVENT
BEGIN:VEVENT
DTSTART;TZID=America/New_York:20240511T100000
DTEND;TZID=America/New_York:20240511T180000
DTSTAMP:20260420T010707
CREATED:20240214T214251Z
LAST-MODIFIED:20240219T170806Z
UID:6549-1715421600-1715450400@cortlandclub.com
SUMMARY:Clubhouse - Reserved
DESCRIPTION:Dimos Party
URL:https://cortlandclub.com/event/clubhouse-reservation-pending-36/
LOCATION:Clubhouse
ATTACH;FMTTYPE=image/jpeg:https://cortlandclub.com/wp-content/uploads/2017/11/Reserved.jpg
END:VEVENT
BEGIN:VEVENT
DTSTART;TZID=America/New_York:20240511T100000
DTEND;TZID=America/New_York:20240511T220000
DTSTAMP:20260420T010707
CREATED:20240424T020714Z
LAST-MODIFIED:20240424T020714Z
UID:6712-1715421600-1715464800@cortlandclub.com
SUMMARY:Closed Shelter - Reserved
DESCRIPTION:Merkel Party
URL:https://cortlandclub.com/event/closed-shelter-reserved-81/
LOCATION:Closed Shelter
ATTACH;FMTTYPE=image/jpeg:https://cortlandclub.com/wp-content/uploads/2017/11/Reserved.jpg
END:VEVENT
BEGIN:VEVENT
DTSTART;TZID=America/New_York:20240512T113000
DTEND;TZID=America/New_York:20240512T180000
DTSTAMP:20260420T010707
CREATED:20240210T204722Z
LAST-MODIFIED:20240327T030702Z
UID:6546-1715513400-1715536800@cortlandclub.com
SUMMARY:Clubhouse - Reserved
DESCRIPTION:Gintert Party
URL:https://cortlandclub.com/event/clubhouse-reservation-pending-35/
LOCATION:Clubhouse
ATTACH;FMTTYPE=image/jpeg:https://cortlandclub.com/wp-content/uploads/2017/11/Reserved.jpg
END:VEVENT
BEGIN:VEVENT
DTSTART;TZID=America/New_York:20240514T153000
DTEND;TZID=America/New_York:20240514T210000
DTSTAMP:20260420T010707
CREATED:20240424T021759Z
LAST-MODIFIED:20240511T012516Z
UID:6714-1715700600-1715720400@cortlandclub.com
SUMMARY:Closed Shelter - Reserved
DESCRIPTION:Rager Party
URL:https://cortlandclub.com/event/closed-shelter-reservation-pending-33/
LOCATION:Closed Shelter
ATTACH;FMTTYPE=image/jpeg:https://cortlandclub.com/wp-content/uploads/2017/11/Reserved.jpg
END:VEVENT
BEGIN:VEVENT
DTSTART;TZID=America/New_York:20240515T170000
DTEND;TZID=America/New_York:20240515T190000
DTSTAMP:20260420T010707
CREATED:20231216T030859Z
LAST-MODIFIED:20231216T030859Z
UID:6409-1715792400-1715799600@cortlandclub.com
SUMMARY:Wednesday Work Night
DESCRIPTION:
URL:https://cortlandclub.com/event/wednesday-work-night-31/
ATTACH;FMTTYPE=image/jpeg:https://cortlandclub.com/wp-content/uploads/2021/03/Work-Day.jpg
END:VEVENT
BEGIN:VEVENT
DTSTART;TZID=America/New_York:20240516T130000
DTEND;TZID=America/New_York:20240516T220000
DTSTAMP:20260420T010707
CREATED:20240508T004830Z
LAST-MODIFIED:20240508T004855Z
UID:6725-1715864400-1715896800@cortlandclub.com
SUMMARY:Closed Shelter - Reserved
DESCRIPTION:Craciun Party
URL:https://cortlandclub.com/event/closed-shelter-reserved-84/
LOCATION:Closed Shelter
ATTACH;FMTTYPE=image/jpeg:https://cortlandclub.com/wp-content/uploads/2017/11/Reserved.jpg
END:VEVENT
BEGIN:VEVENT
DTSTART;TZID=America/New_York:20240518T100000
DTEND;TZID=America/New_York:20240518T233000
DTSTAMP:20260420T010707
CREATED:20240109T213954Z
LAST-MODIFIED:20240109T213954Z
UID:6502-1716026400-1716075000@cortlandclub.com
SUMMARY:Closed Shelter - Reserved
DESCRIPTION:Hegedus Party
URL:https://cortlandclub.com/event/closed-shelter-reserved-66/
LOCATION:Closed Shelter
ATTACH;FMTTYPE=image/jpeg:https://cortlandclub.com/wp-content/uploads/2017/11/Reserved.jpg
END:VEVENT
BEGIN:VEVENT
DTSTART;TZID=America/New_York:20240519T150000
DTEND;TZID=America/New_York:20240519T220000
DTSTAMP:20260420T010707
CREATED:20240410T031405Z
LAST-MODIFIED:20240410T031405Z
UID:6689-1716130800-1716156000@cortlandclub.com
SUMMARY:Closed Shelter - Reserved
DESCRIPTION:Seikel Party
URL:https://cortlandclub.com/event/closed-shelter-reserved-80/
LOCATION:Closed Shelter
ATTACH;FMTTYPE=image/jpeg:https://cortlandclub.com/wp-content/uploads/2017/11/Reserved.jpg
END:VEVENT
BEGIN:VEVENT
DTSTART;TZID=America/New_York:20240523T193000
DTEND;TZID=America/New_York:20240523T203000
DTSTAMP:20260420T010707
CREATED:20231216T034938Z
LAST-MODIFIED:20231216T034938Z
UID:6448-1716492600-1716496200@cortlandclub.com
SUMMARY:Membership Meeting
DESCRIPTION:
URL:https://cortlandclub.com/event/membership-meeting-53/
LOCATION:Closed Shelter
ATTACH;FMTTYPE=image/png:https://cortlandclub.com/wp-content/uploads/2017/07/Members-1.png
END:VEVENT
BEGIN:VEVENT
DTSTART;TZID=America/New_York:20240524T120000
DTEND;TZID=America/New_York:20240524T230000
DTSTAMP:20260420T010707
CREATED:20240307T164407Z
LAST-MODIFIED:20240307T164407Z
UID:6619-1716552000-1716591600@cortlandclub.com
SUMMARY:Closed Shelter - Reserved
DESCRIPTION:Miller Party
URL:https://cortlandclub.com/event/closed-shelter-reserved-73/
LOCATION:Closed Shelter
ATTACH;FMTTYPE=image/jpeg:https://cortlandclub.com/wp-content/uploads/2017/11/Reserved.jpg
END:VEVENT
BEGIN:VEVENT
DTSTART;TZID=America/New_York:20240525T110000
DTEND;TZID=America/New_York:20240525T230000
DTSTAMP:20260420T010707
CREATED:20230916T015029Z
LAST-MODIFIED:20230916T015029Z
UID:6202-1716634800-1716678000@cortlandclub.com
SUMMARY:Closed Shelter - Reserved
DESCRIPTION:Fazekas Party
URL:https://cortlandclub.com/event/closed-shelter-reserved-54/
LOCATION:Closed Shelter
ATTACH;FMTTYPE=image/jpeg:https://cortlandclub.com/wp-content/uploads/2017/11/Reserved.jpg
END:VEVENT
BEGIN:VEVENT
DTSTART;TZID=America/New_York:20240526T080000
DTEND;TZID=America/New_York:20240526T200000
DTSTAMP:20260420T010707
CREATED:20240410T031606Z
LAST-MODIFIED:20240412T030858Z
UID:6691-1716710400-1716753600@cortlandclub.com
SUMMARY:Clubhouse - Reserved
DESCRIPTION:Mores Party
URL:https://cortlandclub.com/event/clubhouse-reservation-pending-37/
LOCATION:Clubhouse
ATTACH;FMTTYPE=image/jpeg:https://cortlandclub.com/wp-content/uploads/2017/11/Reserved.jpg
END:VEVENT
BEGIN:VEVENT
DTSTART;TZID=America/New_York:20240601T010000
DTEND;TZID=America/New_York:20240602T233000
DTSTAMP:20260420T010707
CREATED:20231216T013653Z
LAST-MODIFIED:20231216T013754Z
UID:6377-1717203600-1717371000@cortlandclub.com
SUMMARY:No Reservations Accepted Weekend
DESCRIPTION:All Weekends from Memorial Day thru Labor Day. \n  \nWeekdays are still available through the summer months!
URL:https://cortlandclub.com/event/no-reservations-accepted-weekend-29/
ATTACH;FMTTYPE=image/jpeg:https://cortlandclub.com/wp-content/uploads/2022/02/blackout-dates-photo.jpeg
END:VEVENT
BEGIN:VEVENT
DTSTART;TZID=America/New_York:20240604T180000
DTEND;TZID=America/New_York:20240604T210000
DTSTAMP:20260420T010707
CREATED:20231215T233559Z
LAST-MODIFIED:20231215T233559Z
UID:6342-1717524000-1717534800@cortlandclub.com
SUMMARY:Book Club
DESCRIPTION:Sally Welke
URL:https://cortlandclub.com/event/book-club-17/
LOCATION:Clubhouse
ATTACH;FMTTYPE=image/jpeg:https://cortlandclub.com/wp-content/uploads/2022/03/Bookclub.jpeg
END:VEVENT
BEGIN:VEVENT
DTSTART;TZID=America/New_York:20240606T170000
DTEND;TZID=America/New_York:20240606T220000
DTSTAMP:20260420T010707
CREATED:20230620T025942Z
LAST-MODIFIED:20230627T001416Z
UID:6072-1717693200-1717711200@cortlandclub.com
SUMMARY:Closed Shelter - Reserved
DESCRIPTION:Delida Party
URL:https://cortlandclub.com/event/closed-shelter-reserved-40/
LOCATION:Closed Shelter
ATTACH;FMTTYPE=image/jpeg:https://cortlandclub.com/wp-content/uploads/2017/11/Reserved.jpg
END:VEVENT
END:VCALENDAR