BEGIN:VCALENDAR
VERSION:2.0
PRODID:-//The Cortland Conservation Club - ECPv6.15.20//NONSGML v1.0//EN
CALSCALE:GREGORIAN
METHOD:PUBLISH
X-WR-CALNAME:The Cortland Conservation Club
X-ORIGINAL-URL:https://cortlandclub.com
X-WR-CALDESC:Events for The Cortland Conservation Club
REFRESH-INTERVAL;VALUE=DURATION:PT1H
X-Robots-Tag:noindex
X-PUBLISHED-TTL:PT1H
BEGIN:VTIMEZONE
TZID:America/New_York
BEGIN:DAYLIGHT
TZOFFSETFROM:-0500
TZOFFSETTO:-0400
TZNAME:EDT
DTSTART:20190310T070000
END:DAYLIGHT
BEGIN:STANDARD
TZOFFSETFROM:-0400
TZOFFSETTO:-0500
TZNAME:EST
DTSTART:20191103T060000
END:STANDARD
BEGIN:DAYLIGHT
TZOFFSETFROM:-0500
TZOFFSETTO:-0400
TZNAME:EDT
DTSTART:20200308T070000
END:DAYLIGHT
BEGIN:STANDARD
TZOFFSETFROM:-0400
TZOFFSETTO:-0500
TZNAME:EST
DTSTART:20201101T060000
END:STANDARD
BEGIN:DAYLIGHT
TZOFFSETFROM:-0500
TZOFFSETTO:-0400
TZNAME:EDT
DTSTART:20210314T070000
END:DAYLIGHT
BEGIN:STANDARD
TZOFFSETFROM:-0400
TZOFFSETTO:-0500
TZNAME:EST
DTSTART:20211107T060000
END:STANDARD
BEGIN:DAYLIGHT
TZOFFSETFROM:-0500
TZOFFSETTO:-0400
TZNAME:EDT
DTSTART:20220313T070000
END:DAYLIGHT
BEGIN:STANDARD
TZOFFSETFROM:-0400
TZOFFSETTO:-0500
TZNAME:EST
DTSTART:20221106T060000
END:STANDARD
END:VTIMEZONE
BEGIN:VEVENT
DTSTART;TZID=America/New_York:20210522T100000
DTEND;TZID=America/New_York:20210522T190000
DTSTAMP:20260421T221355
CREATED:20210302T015515Z
LAST-MODIFIED:20210302T015515Z
UID:3607-1621677600-1621710000@cortlandclub.com
SUMMARY:Reservation - Closed Shelter
DESCRIPTION:Best Party
URL:https://cortlandclub.com/event/reservation-closed-shelter-21/
LOCATION:Closed Shelter
ATTACH;FMTTYPE=image/jpeg:https://cortlandclub.com/wp-content/uploads/2017/11/Reserved.jpg
END:VEVENT
BEGIN:VEVENT
DTSTART;TZID=America/New_York:20210521T170000
DTEND;TZID=America/New_York:20210521T210000
DTSTAMP:20260421T221355
CREATED:20210411T224927Z
LAST-MODIFIED:20210411T224927Z
UID:3793-1621616400-1621630800@cortlandclub.com
SUMMARY:Reservation - Closed Shelter
DESCRIPTION:Miller Party
URL:https://cortlandclub.com/event/reservation-closed-shelter-26/
LOCATION:Closed Shelter
ATTACH;FMTTYPE=image/jpeg:https://cortlandclub.com/wp-content/uploads/2017/11/Reserved.jpg
END:VEVENT
BEGIN:VEVENT
DTSTART;TZID=America/New_York:20210521T130000
DTEND;TZID=America/New_York:20210521T200000
DTSTAMP:20260421T221355
CREATED:20210425T004452Z
LAST-MODIFIED:20210512T201336Z
UID:3831-1621602000-1621627200@cortlandclub.com
SUMMARY:Reservation - Clubhouse
DESCRIPTION:Remmick Memorial
URL:https://cortlandclub.com/event/reservation-clubhouse-105/
LOCATION:Clubhouse
ATTACH;FMTTYPE=image/jpeg:https://cortlandclub.com/wp-content/uploads/2017/11/Reserved.jpg
END:VEVENT
BEGIN:VEVENT
DTSTART;TZID=America/New_York:20210516T140000
DTEND;TZID=America/New_York:20210516T220000
DTSTAMP:20260421T221355
CREATED:20210510T011345Z
LAST-MODIFIED:20210510T011506Z
UID:3892-1621173600-1621202400@cortlandclub.com
SUMMARY:Closed Shelter - Reserved
DESCRIPTION:Closed Shelter Committee Work Day
URL:https://cortlandclub.com/event/closed-shelter-committee-work-day/
LOCATION:Closed Shelter
ATTACH;FMTTYPE=image/jpeg:https://cortlandclub.com/wp-content/uploads/2021/03/Work-Day.jpg
END:VEVENT
BEGIN:VEVENT
DTSTART;TZID=America/New_York:20210515T110000
DTEND;TZID=America/New_York:20210515T200000
DTSTAMP:20260421T221355
CREATED:20210411T224804Z
LAST-MODIFIED:20210422T213048Z
UID:3791-1621076400-1621108800@cortlandclub.com
SUMMARY:Reservation - Closed Shelter
DESCRIPTION:Rager Party
URL:https://cortlandclub.com/event/reservation-closed-shelter-25/
LOCATION:Closed Shelter
ATTACH;FMTTYPE=image/jpeg:https://cortlandclub.com/wp-content/uploads/2017/11/Reserved.jpg
END:VEVENT
BEGIN:VEVENT
DTSTART;TZID=America/New_York:20210512T190000
DTEND;TZID=America/New_York:20210512T210000
DTSTAMP:20260421T221355
CREATED:20210316T220626Z
LAST-MODIFIED:20210316T220626Z
UID:3713-1620846000-1620853200@cortlandclub.com
SUMMARY:Trustees Meeting
DESCRIPTION:
URL:https://cortlandclub.com/event/trustees-meeting-42/
LOCATION:Clubhouse
ATTACH;FMTTYPE=image/png:https://cortlandclub.com/wp-content/uploads/2017/07/Trustees.png
END:VEVENT
BEGIN:VEVENT
DTSTART;TZID=America/New_York:20210509T130000
DTEND;TZID=America/New_York:20210509T190000
DTSTAMP:20260421T221355
CREATED:20210507T212013Z
LAST-MODIFIED:20210507T212013Z
UID:3886-1620565200-1620586800@cortlandclub.com
SUMMARY:Reservation - Closed Shelter
DESCRIPTION:Dimos Party
URL:https://cortlandclub.com/event/reservation-closed-shelter-27/
LOCATION:Closed Shelter
ATTACH;FMTTYPE=image/jpeg:https://cortlandclub.com/wp-content/uploads/2017/11/Reserved.jpg
END:VEVENT
BEGIN:VEVENT
DTSTART;TZID=America/New_York:20210509T060000
DTEND;TZID=America/New_York:20210509T160000
DTSTAMP:20260421T221355
CREATED:20210318T211242Z
LAST-MODIFIED:20210422T213454Z
UID:3750-1620540000-1620576000@cortlandclub.com
SUMMARY:Reservation - Clubhouse
DESCRIPTION:Gintert Party
URL:https://cortlandclub.com/event/reservation-pending-clubhouse-8/
LOCATION:Clubhouse
ATTACH;FMTTYPE=image/png:https://cortlandclub.com/wp-content/uploads/2018/03/Pending_Reservation-e1521982950333.png
END:VEVENT
BEGIN:VEVENT
DTSTART;TZID=America/New_York:20210505T180000
DTEND;TZID=America/New_York:20210505T200000
DTSTAMP:20260421T221355
CREATED:20210315T233021Z
LAST-MODIFIED:20210315T233021Z
UID:3674-1620237600-1620244800@cortlandclub.com
SUMMARY:Wednesday Night Super Club
DESCRIPTION:
URL:https://cortlandclub.com/event/wednesday-night-super-club/
LOCATION:Closed Shelter
ATTACH;FMTTYPE=image/jpeg:https://cortlandclub.com/wp-content/uploads/2018/04/supperCLUB-e1523192452964.jpg
END:VEVENT
BEGIN:VEVENT
DTSTART;TZID=America/New_York:20210504T183000
DTEND;TZID=America/New_York:20210504T203000
DTSTAMP:20260421T221355
CREATED:20210412T183119Z
LAST-MODIFIED:20210412T183316Z
UID:3798-1620153000-1620160200@cortlandclub.com
SUMMARY:Reservation - Clubhouse
DESCRIPTION:Orsine – United States Power Squadrons
URL:https://cortlandclub.com/event/reservation-clubhouse-97/
LOCATION:Clubhouse
ATTACH;FMTTYPE=image/png:https://cortlandclub.com/wp-content/uploads/2018/01/US_Power_Squadron-e1514993581766.png
END:VEVENT
BEGIN:VEVENT
DTSTART;TZID=America/New_York:20210502T123000
DTEND;TZID=America/New_York:20210502T173000
DTSTAMP:20260421T221355
CREATED:20210315T194915Z
LAST-MODIFIED:20210315T194915Z
UID:3646-1619958600-1619976600@cortlandclub.com
SUMMARY:Reservation - Clubhouse
DESCRIPTION:Prince Party
URL:https://cortlandclub.com/event/reservation-clubhouse-96/
LOCATION:Clubhouse
ATTACH;FMTTYPE=image/jpeg:https://cortlandclub.com/wp-content/uploads/2017/11/Reserved.jpg
END:VEVENT
BEGIN:VEVENT
DTSTART;TZID=America/New_York:20210502T100000
DTEND;TZID=America/New_York:20210502T160000
DTSTAMP:20260421T221355
CREATED:20201213T011009Z
LAST-MODIFIED:20210315T195050Z
UID:3428-1619949600-1619971200@cortlandclub.com
SUMMARY:Reservation - Closed Shelter
DESCRIPTION:Wilson Party
URL:https://cortlandclub.com/event/reservation-pending-3/
LOCATION:Closed Shelter
ATTACH;FMTTYPE=image/jpeg:https://cortlandclub.com/wp-content/uploads/2017/11/Reserved.jpg
END:VEVENT
BEGIN:VEVENT
DTSTART;TZID=America/New_York:20210501T170000
DTEND;TZID=America/New_York:20210501T210000
DTSTAMP:20260421T221355
CREATED:20210201T045016Z
LAST-MODIFIED:20210201T045016Z
UID:3500-1619888400-1619902800@cortlandclub.com
SUMMARY:Reservation  - Closed Shelter
DESCRIPTION:Wilson Party
URL:https://cortlandclub.com/event/reservation-closed-shelter-19/
LOCATION:Closed Shelter
ATTACH;FMTTYPE=image/jpeg:https://cortlandclub.com/wp-content/uploads/2017/11/Reserved.jpg
END:VEVENT
BEGIN:VEVENT
DTSTART;TZID=America/New_York:20210501T150000
DTEND;TZID=America/New_York:20210501T210000
DTSTAMP:20260421T221355
CREATED:20210426T163434Z
LAST-MODIFIED:20210426T163434Z
UID:3853-1619881200-1619902800@cortlandclub.com
SUMMARY:Reservation - Clubhouse
DESCRIPTION:Flowers Party
URL:https://cortlandclub.com/event/reservation-clubhouse-106/
LOCATION:Clubhouse
ATTACH;FMTTYPE=image/jpeg:https://cortlandclub.com/wp-content/uploads/2017/11/Reserved.jpg
END:VEVENT
BEGIN:VEVENT
DTSTART;TZID=America/New_York:20210501T150000
DTEND;TZID=America/New_York:20210501T210000
DTSTAMP:20260421T221355
CREATED:20210426T163206Z
LAST-MODIFIED:20210426T163206Z
UID:3850-1619881200-1619902800@cortlandclub.com
SUMMARY:Reservation - Open Shelter
DESCRIPTION:Flowers Party
URL:https://cortlandclub.com/event/reservation-open-shelter-2/
LOCATION:Open Shelter
ATTACH;FMTTYPE=image/jpeg:https://cortlandclub.com/wp-content/uploads/2017/11/Reserved.jpg
END:VEVENT
BEGIN:VEVENT
DTSTART;TZID=America/New_York:20210501T080000
DTEND;TZID=America/New_York:20210501T140000
DTSTAMP:20260421T221355
CREATED:20210316T222103Z
LAST-MODIFIED:20210316T222829Z
UID:3729-1619856000-1619877600@cortlandclub.com
SUMMARY:Spring Work Day
DESCRIPTION:
URL:https://cortlandclub.com/event/spring-work-day-4/
ATTACH;FMTTYPE=image/jpeg:https://cortlandclub.com/wp-content/uploads/2021/03/spring-cleaning.jpg
END:VEVENT
BEGIN:VEVENT
DTSTART;TZID=America/New_York:20210424T180000
DTEND;TZID=America/New_York:20210424T220000
DTSTAMP:20260421T221355
CREATED:20210403T192635Z
LAST-MODIFIED:20210403T192635Z
UID:3784-1619287200-1619301600@cortlandclub.com
SUMMARY:Reservation - Closed Shelter
DESCRIPTION:Clark Party
URL:https://cortlandclub.com/event/reservation-closed-shelter-24/
LOCATION:Closed Shelter
END:VEVENT
BEGIN:VEVENT
DTSTART;TZID=America/New_York:20210422T193000
DTEND;TZID=America/New_York:20210422T203000
DTSTAMP:20260421T221355
CREATED:20210316T195535Z
LAST-MODIFIED:20210316T215856Z
UID:3695-1619119800-1619123400@cortlandclub.com
SUMMARY:Membership Meeting
DESCRIPTION:
URL:https://cortlandclub.com/event/membership-meeting-22/
LOCATION:Clubhouse
ATTACH;FMTTYPE=image/png:https://cortlandclub.com/wp-content/uploads/2017/07/Members-1.png
END:VEVENT
BEGIN:VEVENT
DTSTART;TZID=America/New_York:20210414T190000
DTEND;TZID=America/New_York:20210414T210000
DTSTAMP:20260421T221355
CREATED:20210316T220523Z
LAST-MODIFIED:20210316T220523Z
UID:3711-1618426800-1618434000@cortlandclub.com
SUMMARY:Trustees Meeting
DESCRIPTION:
URL:https://cortlandclub.com/event/trustees-meeting-41/
LOCATION:Clubhouse
ATTACH;FMTTYPE=image/png:https://cortlandclub.com/wp-content/uploads/2017/07/Trustees.png
END:VEVENT
BEGIN:VEVENT
DTSTART;TZID=America/New_York:20210404T090000
DTEND;TZID=America/New_York:20210404T200000
DTSTAMP:20260421T221355
CREATED:20210302T031800Z
LAST-MODIFIED:20210302T031800Z
UID:3609-1617526800-1617566400@cortlandclub.com
SUMMARY:Reservation - Clubhouse
DESCRIPTION:DeChant party
URL:https://cortlandclub.com/event/reservation-clubhouse-95/
LOCATION:Clubhouse
ATTACH;FMTTYPE=image/jpeg:https://cortlandclub.com/wp-content/uploads/2017/11/Reserved.jpg
END:VEVENT
BEGIN:VEVENT
DTSTART;TZID=America/New_York:20210325T193000
DTEND;TZID=America/New_York:20210325T203000
DTSTAMP:20260421T221355
CREATED:20210316T195410Z
LAST-MODIFIED:20210316T215037Z
UID:3693-1616700600-1616704200@cortlandclub.com
SUMMARY:Membership Meeting
DESCRIPTION:
URL:https://cortlandclub.com/event/membership-meeting-14/
LOCATION:Clubhouse
ATTACH;FMTTYPE=image/png:https://cortlandclub.com/wp-content/uploads/2017/07/Members-1.png
END:VEVENT
BEGIN:VEVENT
DTSTART;TZID=America/New_York:20210213T130000
DTEND;TZID=America/New_York:20210213T183000
DTSTAMP:20260421T221355
CREATED:20201012T191340Z
LAST-MODIFIED:20201012T205930Z
UID:3273-1613221200-1613241000@cortlandclub.com
SUMMARY:Reservation - Clubhouse
DESCRIPTION:Abelt Party
URL:https://cortlandclub.com/event/reservation-pending-clubhouse-5/
LOCATION:Clubhouse
ATTACH;FMTTYPE=image/jpeg:https://cortlandclub.com/wp-content/uploads/2017/11/Reserved.jpg
END:VEVENT
BEGIN:VEVENT
DTSTART;TZID=America/New_York:20210123T130000
DTEND;TZID=America/New_York:20210123T180000
DTSTAMP:20260421T221355
CREATED:20210112T210825Z
LAST-MODIFIED:20210114T042306Z
UID:3458-1611406800-1611424800@cortlandclub.com
SUMMARY:Reservation Approved - Clubhouse
DESCRIPTION:Foor Party
URL:https://cortlandclub.com/event/clubhouse-reservation-pending-2/
LOCATION:Clubhouse
ATTACH;FMTTYPE=image/jpeg:https://cortlandclub.com/wp-content/uploads/2017/11/Reserved.jpg
END:VEVENT
BEGIN:VEVENT
DTSTART;TZID=America/New_York:20210112T190000
DTEND;TZID=America/New_York:20210112T210000
DTSTAMP:20260421T221355
CREATED:20201123T122320Z
LAST-MODIFIED:20201123T122320Z
UID:3366-1610478000-1610485200@cortlandclub.com
SUMMARY:Audit Committee Meeting
DESCRIPTION:The Audit Committee will be assembling to conduct a review of our 2020 Club Finances. All members are welcome to serve on this committee. 
URL:https://cortlandclub.com/event/audit-committee-meeting-3/
LOCATION:Clubhouse
CATEGORIES:Committee
ATTACH;FMTTYPE=image/jpeg:https://cortlandclub.com/wp-content/uploads/2017/11/Audit_Committee_2.jpg
END:VEVENT
BEGIN:VEVENT
DTSTART;TZID=America/New_York:20210101T130000
DTEND;TZID=America/New_York:20210101T230000
DTSTAMP:20260421T221355
CREATED:20210112T203331Z
LAST-MODIFIED:20210112T203331Z
UID:3454-1609506000-1609542000@cortlandclub.com
SUMMARY:Reservation - Clubhouse
DESCRIPTION:Goyzueta Party
URL:https://cortlandclub.com/event/reservation-clubhouse-75/
LOCATION:Clubhouse
ATTACH;FMTTYPE=image/jpeg:https://cortlandclub.com/wp-content/uploads/2017/11/Reserved.jpg
END:VEVENT
BEGIN:VEVENT
DTSTART;TZID=America/New_York:20201224T120000
DTEND;TZID=America/New_York:20201224T220000
DTSTAMP:20260421T221355
CREATED:20201004T020803Z
LAST-MODIFIED:20201012T210127Z
UID:3216-1608811200-1608847200@cortlandclub.com
SUMMARY:Reservation  - Closed Shelter
DESCRIPTION:Bagaglia Party
URL:https://cortlandclub.com/event/reservation-pending-bagaglia-party-closed-shelter/
LOCATION:Closed Shelter
CATEGORIES:Reservation
ATTACH;FMTTYPE=image/jpeg:https://cortlandclub.com/wp-content/uploads/2017/11/Reserved.jpg
END:VEVENT
BEGIN:VEVENT
DTSTART;TZID=America/New_York:20201224T120000
DTEND;TZID=America/New_York:20201224T220000
DTSTAMP:20260421T221355
CREATED:20201004T020207Z
LAST-MODIFIED:20201012T210235Z
UID:3211-1608811200-1608847200@cortlandclub.com
SUMMARY:Reservation - Clubhouse
DESCRIPTION:Best Party
URL:https://cortlandclub.com/event/reservation-pending-best-party/
LOCATION:Clubhouse
CATEGORIES:Reservation
ATTACH;FMTTYPE=image/jpeg:https://cortlandclub.com/wp-content/uploads/2017/11/Reserved.jpg
END:VEVENT
BEGIN:VEVENT
DTSTART;TZID=America/New_York:20201212T160000
DTEND;TZID=America/New_York:20201212T190000
DTSTAMP:20260421T221355
CREATED:20191120T030226Z
LAST-MODIFIED:20200913T134351Z
UID:2590-1607788800-1607799600@cortlandclub.com
SUMMARY:Canceled - Christmas Party
DESCRIPTION:
URL:https://cortlandclub.com/event/christmas-party-3/
LOCATION:Clubhouse
CATEGORIES:Food
ATTACH;FMTTYPE=image/png:https://cortlandclub.com/wp-content/uploads/2017/08/Christmas_Party-e1503668138541.png
END:VEVENT
BEGIN:VEVENT
DTSTART;TZID=America/New_York:20201209T190000
DTEND;TZID=America/New_York:20201209T210000
DTSTAMP:20260421T221355
CREATED:20191120T010834Z
LAST-MODIFIED:20200913T134415Z
UID:2550-1607540400-1607547600@cortlandclub.com
SUMMARY:Online - Trustees Meeting
DESCRIPTION:
URL:https://cortlandclub.com/event/trustees-meeting-40/
LOCATION:Clubhouse
CATEGORIES:Trustees Meeting
ATTACH;FMTTYPE=image/png:https://cortlandclub.com/wp-content/uploads/2017/07/Trustees.png
END:VEVENT
BEGIN:VEVENT
DTSTART;TZID=America/New_York:20201206T140000
DTEND;TZID=America/New_York:20201206T180000
DTSTAMP:20260421T221355
CREATED:20201012T191452Z
LAST-MODIFIED:20201012T215213Z
UID:3275-1607263200-1607277600@cortlandclub.com
SUMMARY:Reservation - Clubhouse
DESCRIPTION:Bzinak Party
URL:https://cortlandclub.com/event/reservation-pending-clubhouse-6/
LOCATION:Clubhouse
ATTACH;FMTTYPE=image/jpeg:https://cortlandclub.com/wp-content/uploads/2017/11/Reserved.jpg
END:VEVENT
END:VCALENDAR