BEGIN:VCALENDAR
VERSION:2.0
PRODID:-//The Cortland Conservation Club - ECPv6.15.20//NONSGML v1.0//EN
CALSCALE:GREGORIAN
METHOD:PUBLISH
X-WR-CALNAME:The Cortland Conservation Club
X-ORIGINAL-URL:https://cortlandclub.com
X-WR-CALDESC:Events for The Cortland Conservation Club
REFRESH-INTERVAL;VALUE=DURATION:PT1H
X-Robots-Tag:noindex
X-PUBLISHED-TTL:PT1H
BEGIN:VTIMEZONE
TZID:America/New_York
BEGIN:DAYLIGHT
TZOFFSETFROM:-0500
TZOFFSETTO:-0400
TZNAME:EDT
DTSTART:20200308T070000
END:DAYLIGHT
BEGIN:STANDARD
TZOFFSETFROM:-0400
TZOFFSETTO:-0500
TZNAME:EST
DTSTART:20201101T060000
END:STANDARD
BEGIN:DAYLIGHT
TZOFFSETFROM:-0500
TZOFFSETTO:-0400
TZNAME:EDT
DTSTART:20210314T070000
END:DAYLIGHT
BEGIN:STANDARD
TZOFFSETFROM:-0400
TZOFFSETTO:-0500
TZNAME:EST
DTSTART:20211107T060000
END:STANDARD
BEGIN:DAYLIGHT
TZOFFSETFROM:-0500
TZOFFSETTO:-0400
TZNAME:EDT
DTSTART:20220313T070000
END:DAYLIGHT
BEGIN:STANDARD
TZOFFSETFROM:-0400
TZOFFSETTO:-0500
TZNAME:EST
DTSTART:20221106T060000
END:STANDARD
END:VTIMEZONE
BEGIN:VEVENT
DTSTART;TZID=America/New_York:20210802T150000
DTEND;TZID=America/New_York:20210802T210000
DTSTAMP:20260421T152103
CREATED:20210710T211052Z
LAST-MODIFIED:20210716T021939Z
UID:4318-1627916400-1627938000@cortlandclub.com
SUMMARY:Reservation - Closed Shelter
DESCRIPTION:Freel Party
URL:https://cortlandclub.com/event/reservation-pending-closed-shelter-11/
LOCATION:Closed Shelter
ATTACH;FMTTYPE=image/jpeg:https://cortlandclub.com/wp-content/uploads/2017/11/Reserved.jpg
END:VEVENT
BEGIN:VEVENT
DTSTART;TZID=America/New_York:20210803T183000
DTEND;TZID=America/New_York:20210803T203000
DTSTAMP:20260421T152103
CREATED:20210412T183838Z
LAST-MODIFIED:20210412T184627Z
UID:3808-1628015400-1628022600@cortlandclub.com
SUMMARY:Reservation - Clubhouse
DESCRIPTION:Orsine – United States Power Squadrons
URL:https://cortlandclub.com/event/reservation-clubhouse-100/
LOCATION:Clubhouse
ATTACH;FMTTYPE=image/png:https://cortlandclub.com/wp-content/uploads/2018/01/US_Power_Squadron-e1514993581766.png
END:VEVENT
BEGIN:VEVENT
DTSTART;TZID=America/New_York:20210804T180000
DTEND;TZID=America/New_York:20210804T200000
DTSTAMP:20260421T152103
CREATED:20210315T233525Z
LAST-MODIFIED:20210315T234125Z
UID:3681-1628100000-1628107200@cortlandclub.com
SUMMARY:Wednesday Night Super Club
DESCRIPTION:
URL:https://cortlandclub.com/event/wednesday-night-super-club-4/
LOCATION:Closed Shelter
ATTACH;FMTTYPE=image/jpeg:https://cortlandclub.com/wp-content/uploads/2018/04/supperCLUB-e1523192452964.jpg
END:VEVENT
BEGIN:VEVENT
DTSTART;TZID=America/New_York:20210806T180000
DTEND;TZID=America/New_York:20210806T200000
DTSTAMP:20260421T152103
CREATED:20210531T012127Z
LAST-MODIFIED:20210531T012127Z
UID:3966-1628272800-1628280000@cortlandclub.com
SUMMARY:Reservation
DESCRIPTION:Girl Scout Meeting
URL:https://cortlandclub.com/event/reservation-3/
ATTACH;FMTTYPE=image/jpeg:https://cortlandclub.com/wp-content/uploads/2017/11/Reserved.jpg
END:VEVENT
BEGIN:VEVENT
DTSTART;TZID=America/New_York:20210811T190000
DTEND;TZID=America/New_York:20210811T210000
DTSTAMP:20260421T152103
CREATED:20210316T220918Z
LAST-MODIFIED:20210703T000949Z
UID:3719-1628708400-1628715600@cortlandclub.com
SUMMARY:Trustees Meeting
DESCRIPTION:
URL:https://cortlandclub.com/event/trustees-meeting-45/
LOCATION:Closed Shelter
ATTACH;FMTTYPE=image/png:https://cortlandclub.com/wp-content/uploads/2017/07/Trustees.png
END:VEVENT
BEGIN:VEVENT
DTSTART;TZID=America/New_York:20210812T120000
DTEND;TZID=America/New_York:20210812T220000
DTSTAMP:20260421T152103
CREATED:20210710T211217Z
LAST-MODIFIED:20210716T021831Z
UID:4320-1628769600-1628805600@cortlandclub.com
SUMMARY:Reservation - Open Shelter
DESCRIPTION:Maiorano Party
URL:https://cortlandclub.com/event/reservation-pending-open-shelter-2/
LOCATION:Open Shelter
ATTACH;FMTTYPE=image/jpeg:https://cortlandclub.com/wp-content/uploads/2017/11/Reserved.jpg
END:VEVENT
BEGIN:VEVENT
DTSTART;TZID=America/New_York:20210812T120000
DTEND;TZID=America/New_York:20210812T220000
DTSTAMP:20260421T152103
CREATED:20210710T211324Z
LAST-MODIFIED:20210716T021733Z
UID:4322-1628769600-1628805600@cortlandclub.com
SUMMARY:Reservation - Club House
DESCRIPTION:Maiorano partyres
URL:https://cortlandclub.com/event/reservation-pending-club-house/
LOCATION:Clubhouse
ATTACH;FMTTYPE=image/jpeg:https://cortlandclub.com/wp-content/uploads/2017/11/Reserved.jpg
END:VEVENT
BEGIN:VEVENT
DTSTART;TZID=America/New_York:20210812T160000
DTEND;TZID=America/New_York:20210812T210000
DTSTAMP:20260421T152103
CREATED:20210531T012951Z
LAST-MODIFIED:20210619T034348Z
UID:3976-1628784000-1628802000@cortlandclub.com
SUMMARY:Reservation - Closed Shelter
DESCRIPTION:Kahler Party
URL:https://cortlandclub.com/event/reservation-pending-closed-shelter-6/
LOCATION:Closed Shelter
ATTACH;FMTTYPE=image/jpeg:https://cortlandclub.com/wp-content/uploads/2017/11/Reserved.jpg
END:VEVENT
BEGIN:VEVENT
DTSTART;TZID=America/New_York:20210818T100000
DTEND;TZID=America/New_York:20210818T150000
DTSTAMP:20260421T152103
CREATED:20210630T235128Z
LAST-MODIFIED:20210701T013426Z
UID:4041-1629280800-1629298800@cortlandclub.com
SUMMARY:Reservation - Closed Shelter
DESCRIPTION:Rager Party
URL:https://cortlandclub.com/event/reservation-closed-shelter-28/
LOCATION:Closed Shelter
ATTACH;FMTTYPE=image/jpeg:https://cortlandclub.com/wp-content/uploads/2017/11/Reserved.jpg
END:VEVENT
BEGIN:VEVENT
DTSTART;TZID=America/New_York:20210825T170000
DTEND;TZID=America/New_York:20210825T190000
DTSTAMP:20260421T152103
CREATED:20210316T223600Z
LAST-MODIFIED:20210316T223600Z
UID:3741-1629910800-1629918000@cortlandclub.com
SUMMARY:Wednesday Work Night
DESCRIPTION:
URL:https://cortlandclub.com/event/wednesday-work-night-18/
ATTACH;FMTTYPE=image/jpeg:https://cortlandclub.com/wp-content/uploads/2021/03/Work-Day.jpg
END:VEVENT
BEGIN:VEVENT
DTSTART;TZID=America/New_York:20210826T193000
DTEND;TZID=America/New_York:20210826T203000
DTSTAMP:20260421T152103
CREATED:20210316T215342Z
LAST-MODIFIED:20210703T001027Z
UID:3703-1630006200-1630009800@cortlandclub.com
SUMMARY:Membership Meeting
DESCRIPTION:
URL:https://cortlandclub.com/event/membership-meeting-26/
LOCATION:Closed Shelter
ATTACH;FMTTYPE=image/png:https://cortlandclub.com/wp-content/uploads/2017/07/Members-1.png
END:VEVENT
BEGIN:VEVENT
DTSTART;TZID=America/New_York:20210828T140000
DTEND;TZID=America/New_York:20210828T220000
DTSTAMP:20260421T152103
CREATED:20210315T220758Z
LAST-MODIFIED:20210315T221052Z
UID:3665-1630159200-1630188000@cortlandclub.com
SUMMARY:Corn & BBQ
DESCRIPTION:
URL:https://cortlandclub.com/event/corn-bbq/
LOCATION:Closed Shelter
ATTACH;FMTTYPE=image/jpeg:https://cortlandclub.com/wp-content/uploads/2021/03/Corn-and-BBQ.jpg
END:VEVENT
BEGIN:VEVENT
DTSTART;TZID=America/New_York:20210830T173000
DTEND;TZID=America/New_York:20210830T230000
DTSTAMP:20260421T152103
CREATED:20210809T035845Z
LAST-MODIFIED:20210809T035846Z
UID:4371-1630344600-1630364400@cortlandclub.com
SUMMARY:Reservation - Closed Shelter
DESCRIPTION:Zurawick Party
URL:https://cortlandclub.com/event/reservation-closed-shelter-33/
LOCATION:Closed Shelter
ATTACH;FMTTYPE=image/jpeg:https://cortlandclub.com/wp-content/uploads/2017/11/Reserved.jpg
END:VEVENT
END:VCALENDAR