BEGIN:VCALENDAR
VERSION:2.0
PRODID:-//The Cortland Conservation Club - ECPv6.15.20//NONSGML v1.0//EN
CALSCALE:GREGORIAN
METHOD:PUBLISH
X-ORIGINAL-URL:https://cortlandclub.com
X-WR-CALDESC:Events for The Cortland Conservation Club
REFRESH-INTERVAL;VALUE=DURATION:PT1H
X-Robots-Tag:noindex
X-PUBLISHED-TTL:PT1H
BEGIN:VTIMEZONE
TZID:America/New_York
BEGIN:DAYLIGHT
TZOFFSETFROM:-0500
TZOFFSETTO:-0400
TZNAME:EDT
DTSTART:20210314T070000
END:DAYLIGHT
BEGIN:STANDARD
TZOFFSETFROM:-0400
TZOFFSETTO:-0500
TZNAME:EST
DTSTART:20211107T060000
END:STANDARD
BEGIN:DAYLIGHT
TZOFFSETFROM:-0500
TZOFFSETTO:-0400
TZNAME:EDT
DTSTART:20220313T070000
END:DAYLIGHT
BEGIN:STANDARD
TZOFFSETFROM:-0400
TZOFFSETTO:-0500
TZNAME:EST
DTSTART:20221106T060000
END:STANDARD
BEGIN:DAYLIGHT
TZOFFSETFROM:-0500
TZOFFSETTO:-0400
TZNAME:EDT
DTSTART:20230312T070000
END:DAYLIGHT
BEGIN:STANDARD
TZOFFSETFROM:-0400
TZOFFSETTO:-0500
TZNAME:EST
DTSTART:20231105T060000
END:STANDARD
END:VTIMEZONE
BEGIN:VEVENT
DTSTART;TZID=America/New_York:20220209T070000
DTEND;TZID=America/New_York:20220209T210000
DTSTAMP:20260421T055717
CREATED:20220203T023918Z
LAST-MODIFIED:20220203T023918Z
UID:5017-1644390000-1644440400@cortlandclub.com
SUMMARY:Trustee Meeting
DESCRIPTION:
URL:https://cortlandclub.com/event/trustee-meeting-3/
LOCATION:Clubhouse
ATTACH;FMTTYPE=image/png:https://cortlandclub.com/wp-content/uploads/2017/07/Trustees.png
END:VEVENT
BEGIN:VEVENT
DTSTART;TZID=America/New_York:20220211T170000
DTEND;TZID=America/New_York:20220211T230000
DTSTAMP:20260421T055717
CREATED:20220202T030900Z
LAST-MODIFIED:20220202T030900Z
UID:4950-1644598800-1644620400@cortlandclub.com
SUMMARY:Clubhouse - Reserved
DESCRIPTION:Jones Party
URL:https://cortlandclub.com/event/clubhouse-reserved-5/
LOCATION:Clubhouse
ATTACH;FMTTYPE=image/jpeg:https://cortlandclub.com/wp-content/uploads/2017/11/Reserved.jpg
END:VEVENT
BEGIN:VEVENT
DTSTART;TZID=America/New_York:20220212T180000
DTEND;TZID=America/New_York:20220212T220000
DTSTAMP:20260421T055717
CREATED:20211211T212309Z
LAST-MODIFIED:20220202T030450Z
UID:4862-1644688800-1644703200@cortlandclub.com
SUMMARY:Clubhouse - Reserved
DESCRIPTION:Clark Party
URL:https://cortlandclub.com/event/reservation-clubhouse-119/
LOCATION:Clubhouse
ATTACH;FMTTYPE=image/jpeg:https://cortlandclub.com/wp-content/uploads/2017/11/Reserved.jpg
END:VEVENT
BEGIN:VEVENT
DTSTART;TZID=America/New_York:20220213T160000
DTEND;TZID=America/New_York:20220213T233000
DTSTAMP:20260421T055717
CREATED:20220203T022043Z
LAST-MODIFIED:20220203T022550Z
UID:5009-1644768000-1644795000@cortlandclub.com
SUMMARY:Clubhouse - Reserved
DESCRIPTION:Bzinak Party
URL:https://cortlandclub.com/event/clubhouse-reserved-6/
LOCATION:Clubhouse
ATTACH;FMTTYPE=image/jpeg:https://cortlandclub.com/wp-content/uploads/2017/11/Reserved.jpg
END:VEVENT
BEGIN:VEVENT
DTSTART;TZID=America/New_York:20220224T073000
DTEND;TZID=America/New_York:20220224T203000
DTSTAMP:20260421T055717
CREATED:20220203T024022Z
LAST-MODIFIED:20220203T024022Z
UID:5019-1645687800-1645734600@cortlandclub.com
SUMMARY:Membership Meeting
DESCRIPTION:Online Zoom Meeting
URL:https://cortlandclub.com/event/membership-meeting-30/
LOCATION:Clubhouse
ATTACH;FMTTYPE=image/png:https://cortlandclub.com/wp-content/uploads/2017/07/Members-1.png
END:VEVENT
BEGIN:VEVENT
DTSTART;TZID=America/New_York:20220224T080000
DTEND;TZID=America/New_York:20220311T220000
DTSTAMP:20260421T055717
CREATED:20220301T005608Z
LAST-MODIFIED:20220301T010819Z
UID:5178-1645689600-1647036000@cortlandclub.com
SUMMARY:Closed Shelter Repairs
DESCRIPTION:Chimney Repair
URL:https://cortlandclub.com/event/closed-shelter-repairs/
LOCATION:Closed Shelter
ATTACH;FMTTYPE=image/jpeg:https://cortlandclub.com/wp-content/uploads/2022/02/underconstruction-1-1-e1646096241919.jpg
END:VEVENT
BEGIN:VEVENT
DTSTART;TZID=America/New_York:20220226T170000
DTEND;TZID=America/New_York:20220226T210000
DTSTAMP:20260421T055717
CREATED:20220111T071225Z
LAST-MODIFIED:20220116T172558Z
UID:4902-1645894800-1645909200@cortlandclub.com
SUMMARY:Clubhouse - Reserved
DESCRIPTION:Bzinak Party
URL:https://cortlandclub.com/event/clubhouse-reserved-2/
LOCATION:Clubhouse
ATTACH;FMTTYPE=image/jpeg:https://cortlandclub.com/wp-content/uploads/2017/11/Reserved.jpg
END:VEVENT
END:VCALENDAR