BEGIN:VCALENDAR
VERSION:2.0
PRODID:-//The Cortland Conservation Club - ECPv6.15.20//NONSGML v1.0//EN
CALSCALE:GREGORIAN
METHOD:PUBLISH
X-WR-CALNAME:The Cortland Conservation Club
X-ORIGINAL-URL:https://cortlandclub.com
X-WR-CALDESC:Events for The Cortland Conservation Club
REFRESH-INTERVAL;VALUE=DURATION:PT1H
X-Robots-Tag:noindex
X-PUBLISHED-TTL:PT1H
BEGIN:VTIMEZONE
TZID:America/New_York
BEGIN:DAYLIGHT
TZOFFSETFROM:-0500
TZOFFSETTO:-0400
TZNAME:EDT
DTSTART:20210314T070000
END:DAYLIGHT
BEGIN:STANDARD
TZOFFSETFROM:-0400
TZOFFSETTO:-0500
TZNAME:EST
DTSTART:20211107T060000
END:STANDARD
BEGIN:DAYLIGHT
TZOFFSETFROM:-0500
TZOFFSETTO:-0400
TZNAME:EDT
DTSTART:20220313T070000
END:DAYLIGHT
BEGIN:STANDARD
TZOFFSETFROM:-0400
TZOFFSETTO:-0500
TZNAME:EST
DTSTART:20221106T060000
END:STANDARD
BEGIN:DAYLIGHT
TZOFFSETFROM:-0500
TZOFFSETTO:-0400
TZNAME:EDT
DTSTART:20230312T070000
END:DAYLIGHT
BEGIN:STANDARD
TZOFFSETFROM:-0400
TZOFFSETTO:-0500
TZNAME:EST
DTSTART:20231105T060000
END:STANDARD
END:VTIMEZONE
BEGIN:VEVENT
DTSTART;TZID=America/New_York:20220802T120000
DTEND;TZID=America/New_York:20220802T170000
DTSTAMP:20260420T205257
CREATED:20220614T041803Z
LAST-MODIFIED:20220614T041803Z
UID:5364-1659441600-1659459600@cortlandclub.com
SUMMARY:Closed Shelter - Reserved
DESCRIPTION:Maiorano Party
URL:https://cortlandclub.com/event/closed-shelter-reserved-10/
LOCATION:Closed Shelter
ATTACH;FMTTYPE=image/jpeg:https://cortlandclub.com/wp-content/uploads/2017/11/Reserved.jpg
END:VEVENT
BEGIN:VEVENT
DTSTART;TZID=America/New_York:20220802T180000
DTEND;TZID=America/New_York:20220802T200000
DTSTAMP:20260420T205257
CREATED:20220307T035235Z
LAST-MODIFIED:20220307T035235Z
UID:5202-1659463200-1659470400@cortlandclub.com
SUMMARY:Book Club
DESCRIPTION:
URL:https://cortlandclub.com/event/book-club-4/
LOCATION:Closed Shelter
ATTACH;FMTTYPE=image/jpeg:https://cortlandclub.com/wp-content/uploads/2022/03/Bookclub.jpeg
END:VEVENT
BEGIN:VEVENT
DTSTART;TZID=America/New_York:20220803T180000
DTEND;TZID=America/New_York:20220803T200000
DTSTAMP:20260420T205257
CREATED:20220203T034233Z
LAST-MODIFIED:20220203T034233Z
UID:5072-1659549600-1659556800@cortlandclub.com
SUMMARY:Wednesday Night Supper Club
DESCRIPTION:
URL:https://cortlandclub.com/event/wednesday-night-supper-club-22/
LOCATION:Closed Shelter
ATTACH;FMTTYPE=image/jpeg:https://cortlandclub.com/wp-content/uploads/2018/04/supperCLUB-e1523192452964.jpg
END:VEVENT
BEGIN:VEVENT
DTSTART;TZID=America/New_York:20220805T170000
DTEND;TZID=America/New_York:20220805T230000
DTSTAMP:20260420T205257
CREATED:20220621T040422Z
LAST-MODIFIED:20220621T040441Z
UID:5371-1659718800-1659740400@cortlandclub.com
SUMMARY:Closed Shelter - Reserved
DESCRIPTION:Allen Party
URL:https://cortlandclub.com/event/closed-shelter-reserved-11/
LOCATION:Closed Shelter
ATTACH;FMTTYPE=image/jpeg:https://cortlandclub.com/wp-content/uploads/2017/11/Reserved.jpg
END:VEVENT
BEGIN:VEVENT
DTSTART;TZID=America/New_York:20220806T010000
DTEND;TZID=America/New_York:20220807T233000
DTSTAMP:20260420T205257
CREATED:20220202T044704Z
LAST-MODIFIED:20220202T044758Z
UID:4995-1659747600-1659915000@cortlandclub.com
SUMMARY:No Reservations Accepted Weekend
DESCRIPTION:All Weekends from Memorial Day thru Labor Day \nWeekdays are still available thru the summer months!
URL:https://cortlandclub.com/event/no-reservations-accepted-weekend-10/
ATTACH;FMTTYPE=image/jpeg:https://cortlandclub.com/wp-content/uploads/2022/02/blackout-dates-photo.jpeg
END:VEVENT
BEGIN:VEVENT
DTSTART;TZID=America/New_York:20220810T190000
DTEND;TZID=America/New_York:20220810T210000
DTSTAMP:20260420T205257
CREATED:20220203T034326Z
LAST-MODIFIED:20220203T034326Z
UID:5074-1660158000-1660165200@cortlandclub.com
SUMMARY:Trustee Meeting
DESCRIPTION:
URL:https://cortlandclub.com/event/trustee-meeting-9/
LOCATION:Closed Shelter
ATTACH;FMTTYPE=image/png:https://cortlandclub.com/wp-content/uploads/2017/07/Trustees.png
END:VEVENT
BEGIN:VEVENT
DTSTART;TZID=America/New_York:20220811T160000
DTEND;TZID=America/New_York:20220811T200000
DTSTAMP:20260420T205257
CREATED:20220614T041209Z
LAST-MODIFIED:20220614T041209Z
UID:5360-1660233600-1660248000@cortlandclub.com
SUMMARY:Closed Shelter - Reserved
DESCRIPTION:Kahler Party
URL:https://cortlandclub.com/event/closed-shelter-reserved-8/
LOCATION:Closed Shelter
ATTACH;FMTTYPE=image/jpeg:https://cortlandclub.com/wp-content/uploads/2017/11/Reserved.jpg
END:VEVENT
BEGIN:VEVENT
DTSTART;TZID=America/New_York:20220813T010000
DTEND;TZID=America/New_York:20220814T233000
DTSTAMP:20260420T205257
CREATED:20220202T044948Z
LAST-MODIFIED:20220202T044948Z
UID:4997-1660352400-1660519800@cortlandclub.com
SUMMARY:No Reservations Accepted Weekend
DESCRIPTION:All Weekends from Memorial Day thru Labor Day \nWeekdays are still available thru the summer months!
URL:https://cortlandclub.com/event/no-reservations-accepted-weekend-11/
ATTACH;FMTTYPE=image/jpeg:https://cortlandclub.com/wp-content/uploads/2022/02/blackout-dates-photo.jpeg
END:VEVENT
BEGIN:VEVENT
DTSTART;TZID=America/New_York:20220816T083000
DTEND;TZID=America/New_York:20220816T210000
DTSTAMP:20260420T205257
CREATED:20220713T025217Z
LAST-MODIFIED:20220713T025243Z
UID:5387-1660638600-1660683600@cortlandclub.com
SUMMARY:Closed Shelter - Reserved
DESCRIPTION:DiCristofaro Party
URL:https://cortlandclub.com/event/closed-shelter-reserved-12/
LOCATION:Closed Shelter
ATTACH;FMTTYPE=image/jpeg:https://cortlandclub.com/wp-content/uploads/2017/11/Reserved.jpg
END:VEVENT
BEGIN:VEVENT
DTSTART;TZID=America/New_York:20220817T100000
DTEND;TZID=America/New_York:20220817T160000
DTSTAMP:20260420T205257
CREATED:20220810T011115Z
LAST-MODIFIED:20220810T011205Z
UID:5415-1660730400-1660752000@cortlandclub.com
SUMMARY:Closed Shelter - Reserved
DESCRIPTION:Rager Party
URL:https://cortlandclub.com/event/closed-shelter-reserved-17/
LOCATION:Closed Shelter
ATTACH;FMTTYPE=image/jpeg:https://cortlandclub.com/wp-content/uploads/2017/11/Reserved.jpg
END:VEVENT
BEGIN:VEVENT
DTSTART;TZID=America/New_York:20220817T170000
DTEND;TZID=America/New_York:20220817T190000
DTSTAMP:20260420T205257
CREATED:20220202T034358Z
LAST-MODIFIED:20220307T031038Z
UID:4962-1660755600-1660762800@cortlandclub.com
SUMMARY:Wednesday Work Night
DESCRIPTION:Work Night
URL:https://cortlandclub.com/event/wednesday-work-night-22/
ATTACH;FMTTYPE=image/jpeg:https://cortlandclub.com/wp-content/uploads/2021/03/Work-Day.jpg
END:VEVENT
BEGIN:VEVENT
DTSTART;TZID=America/New_York:20220820T010000
DTEND;TZID=America/New_York:20220821T233000
DTSTAMP:20260420T205257
CREATED:20220202T045124Z
LAST-MODIFIED:20220202T045124Z
UID:5000-1660957200-1661124600@cortlandclub.com
SUMMARY:No Reservations Accepted Weekend
DESCRIPTION:All Weekends from Memorial Day thru Labor Day \nWeekdays are still available thru the summer months!
URL:https://cortlandclub.com/event/no-reservations-accepted-weekend-12/
ATTACH;FMTTYPE=image/jpeg:https://cortlandclub.com/wp-content/uploads/2022/02/blackout-dates-photo.jpeg
END:VEVENT
BEGIN:VEVENT
DTSTART;TZID=America/New_York:20220820T150000
DTEND;TZID=America/New_York:20220820T230000
DTSTAMP:20260420T205257
CREATED:20220203T034753Z
LAST-MODIFIED:20220810T004644Z
UID:5080-1661007600-1661036400@cortlandclub.com
SUMMARY:Corn Roast & Hot Dogs
DESCRIPTION:$6 per Adult
URL:https://cortlandclub.com/event/corn-roast-hot-dogs/
LOCATION:Clubhouse
ATTACH;FMTTYPE=image/jpeg:https://cortlandclub.com/wp-content/uploads/2022/02/Corn-roast-e1643860108551.jpg
END:VEVENT
BEGIN:VEVENT
DTSTART;TZID=America/New_York:20220824T080000
DTEND;TZID=America/New_York:20220824T230000
DTSTAMP:20260420T205257
CREATED:20220810T004404Z
LAST-MODIFIED:20220810T004454Z
UID:5400-1661328000-1661382000@cortlandclub.com
SUMMARY:Clubhouse - Reserved
DESCRIPTION:Spraque Cleaners will be Stripping & Waxing the clubhouse floors
URL:https://cortlandclub.com/event/clubhouse-reserved-15/
LOCATION:Clubhouse
ATTACH;FMTTYPE=image/jpeg:https://cortlandclub.com/wp-content/uploads/2017/11/Reserved.jpg
END:VEVENT
BEGIN:VEVENT
DTSTART;TZID=America/New_York:20220825T193000
DTEND;TZID=America/New_York:20220825T203000
DTSTAMP:20260420T205257
CREATED:20220203T034423Z
LAST-MODIFIED:20220203T034423Z
UID:5076-1661455800-1661459400@cortlandclub.com
SUMMARY:Membership Meeting
DESCRIPTION:
URL:https://cortlandclub.com/event/membership-meeting-36/
LOCATION:Closed Shelter
ATTACH;FMTTYPE=image/png:https://cortlandclub.com/wp-content/uploads/2017/07/Members-1.png
END:VEVENT
BEGIN:VEVENT
DTSTART;TZID=America/New_York:20220826T110000
DTEND;TZID=America/New_York:20220826T150000
DTSTAMP:20260420T205257
CREATED:20220810T005934Z
LAST-MODIFIED:20220810T005934Z
UID:5408-1661511600-1661526000@cortlandclub.com
SUMMARY:Closed Shelter - Reserved
DESCRIPTION:Vlasov Party
URL:https://cortlandclub.com/event/closed-shelter-reserved-14/
LOCATION:Closed Shelter
ATTACH;FMTTYPE=image/jpeg:https://cortlandclub.com/wp-content/uploads/2017/11/Reserved.jpg
END:VEVENT
BEGIN:VEVENT
DTSTART;TZID=America/New_York:20220826T160000
DTEND;TZID=America/New_York:20220826T230000
DTSTAMP:20260420T205257
CREATED:20220810T005724Z
LAST-MODIFIED:20220822T221042Z
UID:5406-1661529600-1661554800@cortlandclub.com
SUMMARY:Closed Shelter - Reserved
DESCRIPTION:Bradley Party
URL:https://cortlandclub.com/event/closed-shelter-reservation-pending-11/
LOCATION:Closed Shelter
ATTACH;FMTTYPE=image/jpeg:https://cortlandclub.com/wp-content/uploads/2017/11/Reserved.jpg
END:VEVENT
BEGIN:VEVENT
DTSTART;TZID=America/New_York:20220827T010000
DTEND;TZID=America/New_York:20220828T233000
DTSTAMP:20260420T205257
CREATED:20220202T045229Z
LAST-MODIFIED:20220202T045229Z
UID:5002-1661562000-1661729400@cortlandclub.com
SUMMARY:No Reservations Accepted Weekend
DESCRIPTION:All Weekends from Memorial Day thru Labor Day \nWeekdays are still available thru the summer months!
URL:https://cortlandclub.com/event/no-reservations-accepted-weekend-13/
ATTACH;FMTTYPE=image/jpeg:https://cortlandclub.com/wp-content/uploads/2022/02/blackout-dates-photo.jpeg
END:VEVENT
BEGIN:VEVENT
DTSTART;TZID=America/New_York:20220830T150000
DTEND;TZID=America/New_York:20220830T210000
DTSTAMP:20260420T205257
CREATED:20220810T010148Z
LAST-MODIFIED:20220810T010429Z
UID:5411-1661871600-1661893200@cortlandclub.com
SUMMARY:Closed Shelter - Reserved
DESCRIPTION:Vlasov Party
URL:https://cortlandclub.com/event/closed-shelter-reserved-15/
LOCATION:Closed Shelter
ATTACH;FMTTYPE=image/jpeg:https://cortlandclub.com/wp-content/uploads/2017/11/Reserved.jpg
END:VEVENT
END:VCALENDAR