BEGIN:VCALENDAR
VERSION:2.0
PRODID:-//The Cortland Conservation Club - ECPv6.15.20//NONSGML v1.0//EN
CALSCALE:GREGORIAN
METHOD:PUBLISH
X-WR-CALNAME:The Cortland Conservation Club
X-ORIGINAL-URL:https://cortlandclub.com
X-WR-CALDESC:Events for The Cortland Conservation Club
REFRESH-INTERVAL;VALUE=DURATION:PT1H
X-Robots-Tag:noindex
X-PUBLISHED-TTL:PT1H
BEGIN:VTIMEZONE
TZID:America/New_York
BEGIN:DAYLIGHT
TZOFFSETFROM:-0500
TZOFFSETTO:-0400
TZNAME:EDT
DTSTART:20220313T070000
END:DAYLIGHT
BEGIN:STANDARD
TZOFFSETFROM:-0400
TZOFFSETTO:-0500
TZNAME:EST
DTSTART:20221106T060000
END:STANDARD
BEGIN:DAYLIGHT
TZOFFSETFROM:-0500
TZOFFSETTO:-0400
TZNAME:EDT
DTSTART:20230312T070000
END:DAYLIGHT
BEGIN:STANDARD
TZOFFSETFROM:-0400
TZOFFSETTO:-0500
TZNAME:EST
DTSTART:20231105T060000
END:STANDARD
BEGIN:DAYLIGHT
TZOFFSETFROM:-0500
TZOFFSETTO:-0400
TZNAME:EDT
DTSTART:20240310T070000
END:DAYLIGHT
BEGIN:STANDARD
TZOFFSETFROM:-0400
TZOFFSETTO:-0500
TZNAME:EST
DTSTART:20241103T060000
END:STANDARD
END:VTIMEZONE
BEGIN:VEVENT
DTSTART;TZID=America/New_York:20230304T153000
DTEND;TZID=America/New_York:20230304T213000
DTSTAMP:20260420T091346
CREATED:20230303T051500Z
LAST-MODIFIED:20230303T051500Z
UID:5819-1677943800-1677965400@cortlandclub.com
SUMMARY:Clubhouse - Reserved
DESCRIPTION:Bzinak Party
URL:https://cortlandclub.com/event/clubhouse-reserved-31/
LOCATION:Clubhouse
ATTACH;FMTTYPE=image/jpeg:https://cortlandclub.com/wp-content/uploads/2017/11/Reserved.jpg
END:VEVENT
BEGIN:VEVENT
DTSTART;TZID=America/New_York:20230308T190000
DTEND;TZID=America/New_York:20230308T200000
DTSTAMP:20260420T091346
CREATED:20230127T041310Z
LAST-MODIFIED:20230127T041310Z
UID:5658-1678302000-1678305600@cortlandclub.com
SUMMARY:Trustee Meeting
DESCRIPTION:
URL:https://cortlandclub.com/event/trustee-meeting-15/
LOCATION:Clubhouse
ATTACH;FMTTYPE=image/png:https://cortlandclub.com/wp-content/uploads/2017/07/Trustees.png
END:VEVENT
BEGIN:VEVENT
DTSTART;TZID=America/New_York:20230311T120000
DTEND;TZID=America/New_York:20230311T160000
DTSTAMP:20260420T091346
CREATED:20230206T001955Z
LAST-MODIFIED:20230206T001955Z
UID:5700-1678536000-1678550400@cortlandclub.com
SUMMARY:Clubhouse - Reserved
DESCRIPTION:Gadd Party
URL:https://cortlandclub.com/event/clubhouse-reserved-30/
LOCATION:Clubhouse
ATTACH;FMTTYPE=image/jpeg:https://cortlandclub.com/wp-content/uploads/2017/11/Reserved.jpg
END:VEVENT
BEGIN:VEVENT
DTSTART;TZID=America/New_York:20230318T153000
DTEND;TZID=America/New_York:20230318T230000
DTSTAMP:20260420T091346
CREATED:20230224T052641Z
LAST-MODIFIED:20230224T052641Z
UID:5792-1679153400-1679180400@cortlandclub.com
SUMMARY:Soup Spectacular
DESCRIPTION:Hosts:   Don & Debbie Gordon and Rich & Martha Frazzinio \nGate opens @3:30pm   Dinner @ 5:00pm
URL:https://cortlandclub.com/event/soup-spectacular/
LOCATION:Closed Shelter
ATTACH;FMTTYPE=image/jpeg:https://cortlandclub.com/wp-content/uploads/2023/02/soup-25.jpg
END:VEVENT
BEGIN:VEVENT
DTSTART;TZID=America/New_York:20230319T083000
DTEND;TZID=America/New_York:20230319T200000
DTSTAMP:20260420T091346
CREATED:20230206T015620Z
LAST-MODIFIED:20230210T203830Z
UID:5708-1679214600-1679256000@cortlandclub.com
SUMMARY:Clubhouse - Reserved
DESCRIPTION:Toro Party
URL:https://cortlandclub.com/event/clubhouse-reservation-pending-16/
LOCATION:Clubhouse
ATTACH;FMTTYPE=image/jpeg:https://cortlandclub.com/wp-content/uploads/2017/11/Reserved.jpg
END:VEVENT
BEGIN:VEVENT
DTSTART;TZID=America/New_York:20230323T193000
DTEND;TZID=America/New_York:20230323T203000
DTSTAMP:20260420T091347
CREATED:20230127T034521Z
LAST-MODIFIED:20230127T034610Z
UID:5638-1679599800-1679603400@cortlandclub.com
SUMMARY:Membership Meeting
DESCRIPTION:
URL:https://cortlandclub.com/event/membership-meeting-41/
LOCATION:Clubhouse
ATTACH;FMTTYPE=image/png:https://cortlandclub.com/wp-content/uploads/2017/07/Members-1.png
END:VEVENT
BEGIN:VEVENT
DTSTART;TZID=America/New_York:20230325T120000
DTEND;TZID=America/New_York:20230325T180000
DTSTAMP:20260420T091347
CREATED:20230303T205542Z
LAST-MODIFIED:20230312T011607Z
UID:5841-1679745600-1679767200@cortlandclub.com
SUMMARY:Clubhouse - Reserved
DESCRIPTION:Freel Party
URL:https://cortlandclub.com/event/clubhouse-reservation-pending-21/
LOCATION:Clubhouse
ATTACH;FMTTYPE=image/jpeg:https://cortlandclub.com/wp-content/uploads/2017/11/Reserved.jpg
END:VEVENT
BEGIN:VEVENT
DTSTART;TZID=America/New_York:20230326T120000
DTEND;TZID=America/New_York:20230326T180000
DTSTAMP:20260420T091347
CREATED:20221213T201727Z
LAST-MODIFIED:20230111T032648Z
UID:5598-1679832000-1679853600@cortlandclub.com
SUMMARY:Clubhouse - Reserved
DESCRIPTION:Abelt Party
URL:https://cortlandclub.com/event/clubhouse-reservation-pending-10/
LOCATION:Clubhouse
ATTACH;FMTTYPE=image/jpeg:https://cortlandclub.com/wp-content/uploads/2017/11/Reserved.jpg
END:VEVENT
BEGIN:VEVENT
DTSTART;TZID=America/New_York:20230330T110000
DTEND;TZID=America/New_York:20230330T210000
DTSTAMP:20260420T091347
CREATED:20230303T053134Z
LAST-MODIFIED:20230303T053219Z
UID:5821-1680174000-1680210000@cortlandclub.com
SUMMARY:Clubhouse - Reserved
DESCRIPTION:Brown Party
URL:https://cortlandclub.com/event/clubhouse-reserved-32/
LOCATION:Clubhouse
ATTACH;FMTTYPE=image/jpeg:https://cortlandclub.com/wp-content/uploads/2017/11/Reserved.jpg
END:VEVENT
BEGIN:VEVENT
DTSTART;TZID=America/New_York:20230331T110000
DTEND;TZID=America/New_York:20230331T203000
DTSTAMP:20260420T091347
CREATED:20230205T234921Z
LAST-MODIFIED:20230205T234921Z
UID:5694-1680260400-1680294600@cortlandclub.com
SUMMARY:Clubhouse - Reserved
DESCRIPTION:Koval Party
URL:https://cortlandclub.com/event/clubhouse-reserved-29/
LOCATION:Clubhouse
ATTACH;FMTTYPE=image/jpeg:https://cortlandclub.com/wp-content/uploads/2017/11/Reserved.jpg
END:VEVENT
END:VCALENDAR