BEGIN:VCALENDAR
VERSION:2.0
PRODID:-//The Cortland Conservation Club - ECPv6.15.20//NONSGML v1.0//EN
CALSCALE:GREGORIAN
METHOD:PUBLISH
X-ORIGINAL-URL:https://cortlandclub.com
X-WR-CALDESC:Events for The Cortland Conservation Club
REFRESH-INTERVAL;VALUE=DURATION:PT1H
X-Robots-Tag:noindex
X-PUBLISHED-TTL:PT1H
BEGIN:VTIMEZONE
TZID:America/New_York
BEGIN:DAYLIGHT
TZOFFSETFROM:-0500
TZOFFSETTO:-0400
TZNAME:EDT
DTSTART:20220313T070000
END:DAYLIGHT
BEGIN:STANDARD
TZOFFSETFROM:-0400
TZOFFSETTO:-0500
TZNAME:EST
DTSTART:20221106T060000
END:STANDARD
BEGIN:DAYLIGHT
TZOFFSETFROM:-0500
TZOFFSETTO:-0400
TZNAME:EDT
DTSTART:20230312T070000
END:DAYLIGHT
BEGIN:STANDARD
TZOFFSETFROM:-0400
TZOFFSETTO:-0500
TZNAME:EST
DTSTART:20231105T060000
END:STANDARD
BEGIN:DAYLIGHT
TZOFFSETFROM:-0500
TZOFFSETTO:-0400
TZNAME:EDT
DTSTART:20240310T070000
END:DAYLIGHT
BEGIN:STANDARD
TZOFFSETFROM:-0400
TZOFFSETTO:-0500
TZNAME:EST
DTSTART:20241103T060000
END:STANDARD
END:VTIMEZONE
BEGIN:VEVENT
DTSTART;VALUE=DATE:20230902
DTEND;VALUE=DATE:20230904
DTSTAMP:20260419T230433
CREATED:20230303T054756Z
LAST-MODIFIED:20230303T054844Z
UID:5836-1693612800-1693785599@cortlandclub.com
SUMMARY:No Reservations Accepted Weekend
DESCRIPTION:All Weekends from Memorial Day thru Labor Day. \n  \nWeekdays are still available through the summer months!
URL:https://cortlandclub.com/event/no-reservations-accepted-weekend-28/
ATTACH;FMTTYPE=image/jpeg:https://cortlandclub.com/wp-content/uploads/2022/02/blackout-dates-photo.jpeg
END:VEVENT
BEGIN:VEVENT
DTSTART;TZID=America/New_York:20230905T180000
DTEND;TZID=America/New_York:20230905T200000
DTSTAMP:20260419T230433
CREATED:20230509T024854Z
LAST-MODIFIED:20230509T024854Z
UID:6029-1693936800-1693944000@cortlandclub.com
SUMMARY:Book Club
DESCRIPTION:
URL:https://cortlandclub.com/event/book-club-12/
LOCATION:Closed Shelter
ATTACH;FMTTYPE=image/jpeg:https://cortlandclub.com/wp-content/uploads/2022/03/Bookclub.jpeg
END:VEVENT
BEGIN:VEVENT
DTSTART;TZID=America/New_York:20230906T180000
DTEND;TZID=America/New_York:20230906T200000
DTSTAMP:20260419T230433
CREATED:20230509T024050Z
LAST-MODIFIED:20230509T024050Z
UID:6018-1694023200-1694030400@cortlandclub.com
SUMMARY:Supper Club
DESCRIPTION:
URL:https://cortlandclub.com/event/supper-club-5/
LOCATION:Closed Shelter
ATTACH;FMTTYPE=image/jpeg:https://cortlandclub.com/wp-content/uploads/2018/04/supperCLUB-e1523192452964.jpg
END:VEVENT
BEGIN:VEVENT
DTSTART;TZID=America/New_York:20230908T110000
DTEND;TZID=America/New_York:20230908T170000
DTSTAMP:20260419T230433
CREATED:20230815T175331Z
LAST-MODIFIED:20230815T175331Z
UID:6152-1694170800-1694192400@cortlandclub.com
SUMMARY:Closed Shelter - Reserved
DESCRIPTION:Dombroski Party
URL:https://cortlandclub.com/event/closed-shelter-reserved-49/
LOCATION:Closed Shelter
ATTACH;FMTTYPE=image/jpeg:https://cortlandclub.com/wp-content/uploads/2017/11/Reserved.jpg
END:VEVENT
BEGIN:VEVENT
DTSTART;TZID=America/New_York:20230909T150000
DTEND;TZID=America/New_York:20230909T230000
DTSTAMP:20260419T230433
CREATED:20230111T035245Z
LAST-MODIFIED:20230127T031239Z
UID:5621-1694271600-1694300400@cortlandclub.com
SUMMARY:Clubhouse - Reserved
DESCRIPTION:Matthews Party
URL:https://cortlandclub.com/event/clubhouse-reservation-pending-11/
LOCATION:Clubhouse
ATTACH;FMTTYPE=image/jpeg:https://cortlandclub.com/wp-content/uploads/2017/11/Reserved.jpg
END:VEVENT
BEGIN:VEVENT
DTSTART;TZID=America/New_York:20230909T150000
DTEND;TZID=America/New_York:20230909T230000
DTSTAMP:20260419T230433
CREATED:20230111T035432Z
LAST-MODIFIED:20230127T031025Z
UID:5623-1694271600-1694300400@cortlandclub.com
SUMMARY:Closed Shelter - Reserved
DESCRIPTION:Petruzzi Party
URL:https://cortlandclub.com/event/closed-shelter-reservation-pending-15/
LOCATION:Closed Shelter
ATTACH;FMTTYPE=image/jpeg:https://cortlandclub.com/wp-content/uploads/2017/11/Reserved.jpg
END:VEVENT
BEGIN:VEVENT
DTSTART;TZID=America/New_York:20230910T120000
DTEND;TZID=America/New_York:20230910T190000
DTSTAMP:20260419T230433
CREATED:20230815T174456Z
LAST-MODIFIED:20230815T174456Z
UID:6144-1694347200-1694372400@cortlandclub.com
SUMMARY:Closed Shelter - Reserved
DESCRIPTION:Delaratta Party
URL:https://cortlandclub.com/event/closed-shelter-reserved-46/
LOCATION:Closed Shelter
ATTACH;FMTTYPE=image/jpeg:https://cortlandclub.com/wp-content/uploads/2017/11/Reserved.jpg
END:VEVENT
BEGIN:VEVENT
DTSTART;TZID=America/New_York:20230913T190000
DTEND;TZID=America/New_York:20230913T200000
DTSTAMP:20260419T230433
CREATED:20230127T043623Z
LAST-MODIFIED:20230127T043623Z
UID:5670-1694631600-1694635200@cortlandclub.com
SUMMARY:Trustee Meeting
DESCRIPTION:
URL:https://cortlandclub.com/event/trustee-meeting-21/
LOCATION:Closed Shelter
ATTACH;FMTTYPE=image/png:https://cortlandclub.com/wp-content/uploads/2017/07/Trustees.png
END:VEVENT
BEGIN:VEVENT
DTSTART;TZID=America/New_York:20230916T130000
DTEND;TZID=America/New_York:20230916T200000
DTSTAMP:20260419T230433
CREATED:20230912T013847Z
LAST-MODIFIED:20230912T013847Z
UID:6182-1694869200-1694894400@cortlandclub.com
SUMMARY:Clubhouse - Reserved
DESCRIPTION:Merkel Party
URL:https://cortlandclub.com/event/clubhouse-reserved-47/
LOCATION:Clubhouse
ATTACH;FMTTYPE=image/jpeg:https://cortlandclub.com/wp-content/uploads/2017/11/Reserved.jpg
END:VEVENT
BEGIN:VEVENT
DTSTART;TZID=America/New_York:20230916T130000
DTEND;TZID=America/New_York:20230916T200000
DTSTAMP:20260419T230433
CREATED:20230916T013514Z
LAST-MODIFIED:20230916T013514Z
UID:6194-1694869200-1694894400@cortlandclub.com
SUMMARY:Clubhouse - Reserved
DESCRIPTION:Merkel Party
URL:https://cortlandclub.com/event/clubhouse-reserved-52/
LOCATION:Clubhouse
ATTACH;FMTTYPE=image/jpeg:https://cortlandclub.com/wp-content/uploads/2017/11/Reserved.jpg
END:VEVENT
BEGIN:VEVENT
DTSTART;TZID=America/New_York:20230916T140000
DTEND;TZID=America/New_York:20230916T193000
DTSTAMP:20260419T230433
CREATED:20230205T232127Z
LAST-MODIFIED:20230205T232127Z
UID:5683-1694872800-1694892600@cortlandclub.com
SUMMARY:Closed Shelter - Reserved
DESCRIPTION:Holland Party
URL:https://cortlandclub.com/event/closed-shelter-reserved-27/
LOCATION:Closed Shelter
ATTACH;FMTTYPE=image/jpeg:https://cortlandclub.com/wp-content/uploads/2017/11/Reserved.jpg
END:VEVENT
BEGIN:VEVENT
DTSTART;TZID=America/New_York:20230920T170000
DTEND;TZID=America/New_York:20230920T190000
DTSTAMP:20260419T230433
CREATED:20230509T011459Z
LAST-MODIFIED:20230509T011459Z
UID:5986-1695229200-1695236400@cortlandclub.com
SUMMARY:Wednesday Work Night
DESCRIPTION:
URL:https://cortlandclub.com/event/wednesday-work-night-29/
ATTACH;FMTTYPE=image/jpeg:https://cortlandclub.com/wp-content/uploads/2021/03/Work-Day.jpg
END:VEVENT
BEGIN:VEVENT
DTSTART;TZID=America/New_York:20230923T100000
DTEND;TZID=America/New_York:20230923T233000
DTSTAMP:20260419T230433
CREATED:20221213T201951Z
LAST-MODIFIED:20230224T041656Z
UID:5600-1695463200-1695511800@cortlandclub.com
SUMMARY:Clubhouse - Reserved
DESCRIPTION:Rager Party
URL:https://cortlandclub.com/event/closed-shelter-reservation-pending-14/
LOCATION:Clubhouse
ATTACH;FMTTYPE=image/jpeg:https://cortlandclub.com/wp-content/uploads/2017/11/Reserved.jpg
END:VEVENT
BEGIN:VEVENT
DTSTART;TZID=America/New_York:20230923T190000
DTEND;TZID=America/New_York:20230923T230000
DTSTAMP:20260419T230433
CREATED:20230509T013345Z
LAST-MODIFIED:20230912T032536Z
UID:5990-1695495600-1695510000@cortlandclub.com
SUMMARY:Wine Tasting
DESCRIPTION:Ed Petruzzi 
URL:https://cortlandclub.com/event/wine-tasting-3/
LOCATION:Closed Shelter
ATTACH;FMTTYPE=image/jpeg:https://cortlandclub.com/wp-content/uploads/2021/03/Wine-Tasting.jpg
END:VEVENT
BEGIN:VEVENT
DTSTART;TZID=America/New_York:20230924T123000
DTEND;TZID=America/New_York:20230924T200000
DTSTAMP:20260419T230433
CREATED:20230417T212817Z
LAST-MODIFIED:20230417T212817Z
UID:5914-1695558600-1695585600@cortlandclub.com
SUMMARY:Closed Shelter - Reserved
DESCRIPTION:Petrilla Party
URL:https://cortlandclub.com/event/closed-shelter-reserved-35/
LOCATION:Closed Shelter
ATTACH;FMTTYPE=image/jpeg:https://cortlandclub.com/wp-content/uploads/2017/11/Reserved.jpg
END:VEVENT
BEGIN:VEVENT
DTSTART;TZID=America/New_York:20230928T193000
DTEND;TZID=America/New_York:20230928T203000
DTSTAMP:20260419T230433
CREATED:20230127T040111Z
LAST-MODIFIED:20230127T040111Z
UID:5650-1695929400-1695933000@cortlandclub.com
SUMMARY:Membership Meeting
DESCRIPTION:
URL:https://cortlandclub.com/event/membership-meeting-47/
LOCATION:Closed Shelter
ATTACH;FMTTYPE=image/png:https://cortlandclub.com/wp-content/uploads/2017/07/Members-1.png
END:VEVENT
BEGIN:VEVENT
DTSTART;TZID=America/New_York:20230930T140000
DTEND;TZID=America/New_York:20230930T180000
DTSTAMP:20260419T230433
CREATED:20230916T015206Z
LAST-MODIFIED:20230916T015206Z
UID:6204-1696082400-1696096800@cortlandclub.com
SUMMARY:Closed Shelter - Reserved
DESCRIPTION:Gadd Party
URL:https://cortlandclub.com/event/closed-shelter-reserved-55/
LOCATION:Closed Shelter
ATTACH;FMTTYPE=image/jpeg:https://cortlandclub.com/wp-content/uploads/2017/11/Reserved.jpg
END:VEVENT
END:VCALENDAR