BEGIN:VCALENDAR
VERSION:2.0
PRODID:-//The Cortland Conservation Club - ECPv6.15.20//NONSGML v1.0//EN
CALSCALE:GREGORIAN
METHOD:PUBLISH
X-WR-CALNAME:The Cortland Conservation Club
X-ORIGINAL-URL:https://cortlandclub.com
X-WR-CALDESC:Events for The Cortland Conservation Club
REFRESH-INTERVAL;VALUE=DURATION:PT1H
X-Robots-Tag:noindex
X-PUBLISHED-TTL:PT1H
BEGIN:VTIMEZONE
TZID:America/New_York
BEGIN:DAYLIGHT
TZOFFSETFROM:-0500
TZOFFSETTO:-0400
TZNAME:EDT
DTSTART:20220313T070000
END:DAYLIGHT
BEGIN:STANDARD
TZOFFSETFROM:-0400
TZOFFSETTO:-0500
TZNAME:EST
DTSTART:20221106T060000
END:STANDARD
BEGIN:DAYLIGHT
TZOFFSETFROM:-0500
TZOFFSETTO:-0400
TZNAME:EDT
DTSTART:20230312T070000
END:DAYLIGHT
BEGIN:STANDARD
TZOFFSETFROM:-0400
TZOFFSETTO:-0500
TZNAME:EST
DTSTART:20231105T060000
END:STANDARD
BEGIN:DAYLIGHT
TZOFFSETFROM:-0500
TZOFFSETTO:-0400
TZNAME:EDT
DTSTART:20240310T070000
END:DAYLIGHT
BEGIN:STANDARD
TZOFFSETFROM:-0400
TZOFFSETTO:-0500
TZNAME:EST
DTSTART:20241103T060000
END:STANDARD
END:VTIMEZONE
BEGIN:VEVENT
DTSTART;TZID=America/New_York:20231104T100000
DTEND;TZID=America/New_York:20231104T113000
DTSTAMP:20260419T194854
CREATED:20231115T231131Z
LAST-MODIFIED:20231115T231131Z
UID:6265-1699092000-1699097400@cortlandclub.com
SUMMARY:Closed Shelter - Reserved
DESCRIPTION:Costas Party
URL:https://cortlandclub.com/event/closed-shelter-reserved-60/
LOCATION:Closed Shelter
ATTACH;FMTTYPE=image/jpeg:https://cortlandclub.com/wp-content/uploads/2017/11/Reserved.jpg
END:VEVENT
BEGIN:VEVENT
DTSTART;TZID=America/New_York:20231104T160000
DTEND;TZID=America/New_York:20231104T230000
DTSTAMP:20260419T194854
CREATED:20230509T015934Z
LAST-MODIFIED:20230509T023033Z
UID:5999-1699113600-1699138800@cortlandclub.com
SUMMARY:Cook a Crock of Chile
DESCRIPTION:Bzinak/Matthews
URL:https://cortlandclub.com/event/cook-a-crock-of-chile/
LOCATION:Closed Shelter
ATTACH;FMTTYPE=image/jpeg:https://cortlandclub.com/wp-content/uploads/2023/05/chili-cook-off-2.jpg
END:VEVENT
BEGIN:VEVENT
DTSTART;TZID=America/New_York:20231105T133000
DTEND;TZID=America/New_York:20231105T193000
DTSTAMP:20260419T194854
CREATED:20230916T014339Z
LAST-MODIFIED:20230916T014339Z
UID:6196-1699191000-1699212600@cortlandclub.com
SUMMARY:Clubhouse - Reserved
DESCRIPTION:Bzinak Party
URL:https://cortlandclub.com/event/clubhouse-reserved-53/
LOCATION:Clubhouse
ATTACH;FMTTYPE=image/jpeg:https://cortlandclub.com/wp-content/uploads/2017/11/Reserved.jpg
END:VEVENT
BEGIN:VEVENT
DTSTART;TZID=America/New_York:20231108T190000
DTEND;TZID=America/New_York:20231108T200000
DTSTAMP:20260419T194854
CREATED:20230127T044051Z
LAST-MODIFIED:20230127T044051Z
UID:5674-1699470000-1699473600@cortlandclub.com
SUMMARY:Trustee Meeting
DESCRIPTION:
URL:https://cortlandclub.com/event/trustee-meeting-23/
LOCATION:Closed Shelter
ATTACH;FMTTYPE=image/png:https://cortlandclub.com/wp-content/uploads/2017/07/Trustees.png
END:VEVENT
BEGIN:VEVENT
DTSTART;TZID=America/New_York:20231111T120000
DTEND;TZID=America/New_York:20231111T180000
DTSTAMP:20260419T194854
CREATED:20230206T021550Z
LAST-MODIFIED:20230210T212128Z
UID:5714-1699704000-1699725600@cortlandclub.com
SUMMARY:Clubhouse - Reserved
DESCRIPTION:Kiepper Party
URL:https://cortlandclub.com/event/clubhouse-reservation-pending-19/
LOCATION:Clubhouse
ATTACH;FMTTYPE=image/jpeg:https://cortlandclub.com/wp-content/uploads/2017/11/Reserved.jpg
END:VEVENT
BEGIN:VEVENT
DTSTART;TZID=America/New_York:20231116T193000
DTEND;TZID=America/New_York:20231116T203000
DTSTAMP:20260419T194854
CREATED:20230127T040504Z
LAST-MODIFIED:20230620T041021Z
UID:5654-1700163000-1700166600@cortlandclub.com
SUMMARY:Membership Meeting
DESCRIPTION:
URL:https://cortlandclub.com/event/membership-meeting-49/
LOCATION:Clubhouse
ATTACH;FMTTYPE=image/png:https://cortlandclub.com/wp-content/uploads/2017/07/Members-1.png
END:VEVENT
BEGIN:VEVENT
DTSTART;TZID=America/New_York:20231118T140000
DTEND;TZID=America/New_York:20231118T210000
DTSTAMP:20260419T194854
CREATED:20230916T014633Z
LAST-MODIFIED:20230916T014633Z
UID:6198-1700316000-1700341200@cortlandclub.com
SUMMARY:Clubhouse - Reserved
DESCRIPTION:Bzinak Party
URL:https://cortlandclub.com/event/clubhouse-reserved-54/
LOCATION:Clubhouse
ATTACH;FMTTYPE=image/jpeg:https://cortlandclub.com/wp-content/uploads/2017/11/Reserved.jpg
END:VEVENT
BEGIN:VEVENT
DTSTART;TZID=America/New_York:20231119T120000
DTEND;TZID=America/New_York:20231119T190000
DTSTAMP:20260419T194854
CREATED:20231115T232227Z
LAST-MODIFIED:20231115T232227Z
UID:6268-1700395200-1700420400@cortlandclub.com
SUMMARY:Closed Shelter - Reserved
DESCRIPTION:Merkel Party
URL:https://cortlandclub.com/event/closed-shelter-reserved-61/
LOCATION:Closed Shelter
ATTACH;FMTTYPE=image/jpeg:https://cortlandclub.com/wp-content/uploads/2017/11/Reserved.jpg
END:VEVENT
BEGIN:VEVENT
DTSTART;TZID=America/New_York:20231121T170000
DTEND;TZID=America/New_York:20231121T200000
DTSTAMP:20260419T194854
CREATED:20231106T051809Z
LAST-MODIFIED:20231106T051809Z
UID:6245-1700586000-1700596800@cortlandclub.com
SUMMARY:Clubhouse - Reserved
DESCRIPTION:Braunegg Party
URL:https://cortlandclub.com/event/clubhouse-reserved-60/
LOCATION:Clubhouse
ATTACH;FMTTYPE=image/jpeg:https://cortlandclub.com/wp-content/uploads/2017/11/Reserved.jpg
END:VEVENT
BEGIN:VEVENT
DTSTART;TZID=America/New_York:20231123T110000
DTEND;TZID=America/New_York:20231123T170000
DTSTAMP:20260419T194854
CREATED:20231106T050633Z
LAST-MODIFIED:20231115T230938Z
UID:6241-1700737200-1700758800@cortlandclub.com
SUMMARY:Clubhouse - Reserved
DESCRIPTION:Barrett Party
URL:https://cortlandclub.com/event/clubhouse-reservation-pending-24/
LOCATION:Clubhouse
ATTACH;FMTTYPE=image/jpeg:https://cortlandclub.com/wp-content/uploads/2017/11/Reserved.jpg
END:VEVENT
BEGIN:VEVENT
DTSTART;TZID=America/New_York:20231125T070000
DTEND;TZID=America/New_York:20231125T200000
DTSTAMP:20260419T194854
CREATED:20230815T180328Z
LAST-MODIFIED:20230815T180328Z
UID:6160-1700895600-1700942400@cortlandclub.com
SUMMARY:Closed Shelter - Reserved
DESCRIPTION:Diamond Party
URL:https://cortlandclub.com/event/closed-shelter-reserved-52/
LOCATION:Closed Shelter
ATTACH;FMTTYPE=image/jpeg:https://cortlandclub.com/wp-content/uploads/2017/11/Reserved.jpg
END:VEVENT
BEGIN:VEVENT
DTSTART;TZID=America/New_York:20231126T120000
DTEND;TZID=America/New_York:20231126T200000
DTSTAMP:20260419T194854
CREATED:20231120T233230Z
LAST-MODIFIED:20231120T233439Z
UID:6287-1701000000-1701028800@cortlandclub.com
SUMMARY:Clubhouse - Reserved
DESCRIPTION:Bzinak Party
URL:https://cortlandclub.com/event/clubhouse-reserved-64/
LOCATION:Clubhouse
ATTACH;FMTTYPE=image/jpeg:https://cortlandclub.com/wp-content/uploads/2017/11/Reserved.jpg
END:VEVENT
END:VCALENDAR