BEGIN:VCALENDAR
VERSION:2.0
PRODID:-//The Cortland Conservation Club - ECPv6.15.20//NONSGML v1.0//EN
CALSCALE:GREGORIAN
METHOD:PUBLISH
X-WR-CALNAME:The Cortland Conservation Club
X-ORIGINAL-URL:https://cortlandclub.com
X-WR-CALDESC:Events for The Cortland Conservation Club
REFRESH-INTERVAL;VALUE=DURATION:PT1H
X-Robots-Tag:noindex
X-PUBLISHED-TTL:PT1H
BEGIN:VTIMEZONE
TZID:America/New_York
BEGIN:DAYLIGHT
TZOFFSETFROM:-0500
TZOFFSETTO:-0400
TZNAME:EDT
DTSTART:20230312T070000
END:DAYLIGHT
BEGIN:STANDARD
TZOFFSETFROM:-0400
TZOFFSETTO:-0500
TZNAME:EST
DTSTART:20231105T060000
END:STANDARD
BEGIN:DAYLIGHT
TZOFFSETFROM:-0500
TZOFFSETTO:-0400
TZNAME:EDT
DTSTART:20240310T070000
END:DAYLIGHT
BEGIN:STANDARD
TZOFFSETFROM:-0400
TZOFFSETTO:-0500
TZNAME:EST
DTSTART:20241103T060000
END:STANDARD
BEGIN:DAYLIGHT
TZOFFSETFROM:-0500
TZOFFSETTO:-0400
TZNAME:EDT
DTSTART:20250309T070000
END:DAYLIGHT
BEGIN:STANDARD
TZOFFSETFROM:-0400
TZOFFSETTO:-0500
TZNAME:EST
DTSTART:20251102T060000
END:STANDARD
END:VTIMEZONE
BEGIN:VEVENT
DTSTART;TZID=America/New_York:20240103T160000
DTEND;TZID=America/New_York:20240103T180000
DTSTAMP:20260419T164035
CREATED:20231216T042036Z
LAST-MODIFIED:20231216T042036Z
UID:6462-1704297600-1704304800@cortlandclub.com
SUMMARY:Clubhouse - Reserved
DESCRIPTION:Facciolo Party
URL:https://cortlandclub.com/event/clubhouse-reserved-68/
LOCATION:Clubhouse
ATTACH;FMTTYPE=image/jpeg:https://cortlandclub.com/wp-content/uploads/2017/11/Reserved.jpg
END:VEVENT
BEGIN:VEVENT
DTSTART;TZID=America/New_York:20240106T120000
DTEND;TZID=America/New_York:20240106T200000
DTSTAMP:20260419T164035
CREATED:20231213T222634Z
LAST-MODIFIED:20231213T222634Z
UID:6311-1704542400-1704571200@cortlandclub.com
SUMMARY:Clubhouse - Reserved
DESCRIPTION:Brown Party
URL:https://cortlandclub.com/event/clubhouse-reserved-67/
LOCATION:Clubhouse
ATTACH;FMTTYPE=image/jpeg:https://cortlandclub.com/wp-content/uploads/2017/11/Reserved.jpg
END:VEVENT
BEGIN:VEVENT
DTSTART;TZID=America/New_York:20240109T190000
DTEND;TZID=America/New_York:20240109T220000
DTSTAMP:20260419T164035
CREATED:20231215T231258Z
LAST-MODIFIED:20231215T231517Z
UID:6321-1704826800-1704837600@cortlandclub.com
SUMMARY:Audit Committee Meeting
DESCRIPTION:Charlie Peck
URL:https://cortlandclub.com/event/audit-committee-meeting-4/
LOCATION:Clubhouse
ATTACH;FMTTYPE=image/jpeg:https://cortlandclub.com/wp-content/uploads/2017/11/Audit_Committee_2.jpg
END:VEVENT
BEGIN:VEVENT
DTSTART;TZID=America/New_York:20240110T190000
DTEND;TZID=America/New_York:20240110T200000
DTSTAMP:20260419T164035
CREATED:20231215T231646Z
LAST-MODIFIED:20231215T231646Z
UID:6324-1704913200-1704916800@cortlandclub.com
SUMMARY:Trustee Meeting
DESCRIPTION:
URL:https://cortlandclub.com/event/trustee-meeting-25/
LOCATION:Clubhouse
ATTACH;FMTTYPE=image/png:https://cortlandclub.com/wp-content/uploads/2017/07/Trustees.png
END:VEVENT
BEGIN:VEVENT
DTSTART;TZID=America/New_York:20240128T143000
DTEND;TZID=America/New_York:20240128T163000
DTSTAMP:20260419T164035
CREATED:20231215T232050Z
LAST-MODIFIED:20231215T232050Z
UID:6327-1706452200-1706459400@cortlandclub.com
SUMMARY:Annual Meeting - In Clubhouse
DESCRIPTION:
URL:https://cortlandclub.com/event/annual-meeting-in-clubhouse/
LOCATION:Clubhouse
ATTACH;FMTTYPE=image/png:https://cortlandclub.com/wp-content/uploads/2019/01/Annual-Meeting-e1547484109332.png
END:VEVENT
END:VCALENDAR