BEGIN:VCALENDAR
VERSION:2.0
PRODID:-//The Cortland Conservation Club - ECPv6.15.20//NONSGML v1.0//EN
CALSCALE:GREGORIAN
METHOD:PUBLISH
X-WR-CALNAME:The Cortland Conservation Club
X-ORIGINAL-URL:https://cortlandclub.com
X-WR-CALDESC:Events for The Cortland Conservation Club
REFRESH-INTERVAL;VALUE=DURATION:PT1H
X-Robots-Tag:noindex
X-PUBLISHED-TTL:PT1H
BEGIN:VTIMEZONE
TZID:America/New_York
BEGIN:DAYLIGHT
TZOFFSETFROM:-0500
TZOFFSETTO:-0400
TZNAME:EDT
DTSTART:20230312T070000
END:DAYLIGHT
BEGIN:STANDARD
TZOFFSETFROM:-0400
TZOFFSETTO:-0500
TZNAME:EST
DTSTART:20231105T060000
END:STANDARD
BEGIN:DAYLIGHT
TZOFFSETFROM:-0500
TZOFFSETTO:-0400
TZNAME:EDT
DTSTART:20240310T070000
END:DAYLIGHT
BEGIN:STANDARD
TZOFFSETFROM:-0400
TZOFFSETTO:-0500
TZNAME:EST
DTSTART:20241103T060000
END:STANDARD
BEGIN:DAYLIGHT
TZOFFSETFROM:-0500
TZOFFSETTO:-0400
TZNAME:EDT
DTSTART:20250309T070000
END:DAYLIGHT
BEGIN:STANDARD
TZOFFSETFROM:-0400
TZOFFSETTO:-0500
TZNAME:EST
DTSTART:20251102T060000
END:STANDARD
END:VTIMEZONE
BEGIN:VEVENT
DTSTART;TZID=America/New_York:20240211T100000
DTEND;TZID=America/New_York:20240211T230000
DTSTAMP:20260419T150324
CREATED:20231115T232613Z
LAST-MODIFIED:20231115T232613Z
UID:6271-1707645600-1707692400@cortlandclub.com
SUMMARY:Closed Shelter - Reserved
DESCRIPTION:Merkel Party
URL:https://cortlandclub.com/event/closed-shelter-reserved-62/
LOCATION:Closed Shelter
ATTACH;FMTTYPE=image/jpeg:https://cortlandclub.com/wp-content/uploads/2017/11/Reserved.jpg
END:VEVENT
BEGIN:VEVENT
DTSTART;TZID=America/New_York:20240211T120000
DTEND;TZID=America/New_York:20240211T230000
DTSTAMP:20260419T150324
CREATED:20231106T052255Z
LAST-MODIFIED:20231106T052255Z
UID:6250-1707652800-1707692400@cortlandclub.com
SUMMARY:Clubhouse - Reserved
DESCRIPTION:Best Party
URL:https://cortlandclub.com/event/clubhouse-reserved-62/
LOCATION:Clubhouse
ATTACH;FMTTYPE=image/jpeg:https://cortlandclub.com/wp-content/uploads/2017/11/Reserved.jpg
END:VEVENT
BEGIN:VEVENT
DTSTART;TZID=America/New_York:20240214T190000
DTEND;TZID=America/New_York:20240214T210000
DTSTAMP:20260419T150324
CREATED:20231216T033001Z
LAST-MODIFIED:20231216T033001Z
UID:6420-1707937200-1707944400@cortlandclub.com
SUMMARY:Trustee Meeting
DESCRIPTION:
URL:https://cortlandclub.com/event/trustee-meeting-26/
LOCATION:Clubhouse
ATTACH;FMTTYPE=image/png:https://cortlandclub.com/wp-content/uploads/2017/07/Trustees.png
END:VEVENT
BEGIN:VEVENT
DTSTART;TZID=America/New_York:20240217T120000
DTEND;TZID=America/New_York:20240217T210000
DTSTAMP:20260419T150324
CREATED:20240210T204518Z
LAST-MODIFIED:20240219T171035Z
UID:6544-1708171200-1708203600@cortlandclub.com
SUMMARY:Clubhouse - Reserved
DESCRIPTION:Brown Party
URL:https://cortlandclub.com/event/clubhouse-reservation-pending-34/
LOCATION:Clubhouse
ATTACH;FMTTYPE=image/jpeg:https://cortlandclub.com/wp-content/uploads/2017/11/Reserved.jpg
END:VEVENT
BEGIN:VEVENT
DTSTART;TZID=America/New_York:20240221T100000
DTEND;TZID=America/New_York:20240221T153000
DTSTAMP:20260419T150324
CREATED:20240210T203908Z
LAST-MODIFIED:20240210T203908Z
UID:6538-1708509600-1708529400@cortlandclub.com
SUMMARY:Closed Shelter - Reserved
DESCRIPTION:Rager Party
URL:https://cortlandclub.com/event/closed-shelter-reserved-71/
LOCATION:Closed Shelter
ATTACH;FMTTYPE=image/jpeg:https://cortlandclub.com/wp-content/uploads/2017/11/Reserved.jpg
END:VEVENT
BEGIN:VEVENT
DTSTART;TZID=America/New_York:20240222T193000
DTEND;TZID=America/New_York:20240222T203000
DTSTAMP:20260419T150324
CREATED:20231216T034556Z
LAST-MODIFIED:20231216T034556Z
UID:6442-1708630200-1708633800@cortlandclub.com
SUMMARY:Membership Meeting
DESCRIPTION:
URL:https://cortlandclub.com/event/membership-meeting-50/
LOCATION:Clubhouse
ATTACH;FMTTYPE=image/png:https://cortlandclub.com/wp-content/uploads/2017/07/Members-1.png
END:VEVENT
BEGIN:VEVENT
DTSTART;TZID=America/New_York:20240224T110000
DTEND;TZID=America/New_York:20240224T190000
DTSTAMP:20260419T150324
CREATED:20240130T223519Z
LAST-MODIFIED:20240130T223519Z
UID:6525-1708772400-1708801200@cortlandclub.com
SUMMARY:Closed Shelter - Reserved
DESCRIPTION:Charnas Party
URL:https://cortlandclub.com/event/closed-shelter-reserved-67/
LOCATION:Closed Shelter
ATTACH;FMTTYPE=image/jpeg:https://cortlandclub.com/wp-content/uploads/2017/11/Reserved.jpg
END:VEVENT
BEGIN:VEVENT
DTSTART;TZID=America/New_York:20240225T110000
DTEND;TZID=America/New_York:20240225T210000
DTSTAMP:20260419T150324
CREATED:20240119T031839Z
LAST-MODIFIED:20240119T031839Z
UID:6520-1708858800-1708894800@cortlandclub.com
SUMMARY:Clubhouse - Reserved
DESCRIPTION:Miller Party
URL:https://cortlandclub.com/event/clubhouse-reserved-77/
LOCATION:Clubhouse
ATTACH;FMTTYPE=image/jpeg:https://cortlandclub.com/wp-content/uploads/2017/11/Reserved.jpg
END:VEVENT
END:VCALENDAR